Workbook

Sheet سهام
A2: صندوق سرمایه‌گذاری بخشی صنایع مفید - استیل | B2: صندوق سرمایه‌گذاری بخشی صنایع مفید | C2: صندوق سرمایه‌گذاری بخشی صنایع مفید | D2: صندوق سرمایه‌گذاری بخشی صنایع مفید | E2: صندوق سرمایه‌گذاری بخشی صنایع مفید | F2: صندوق سرمایه‌گذاری بخشی صنایع مفید | G2: صندوق سرمایه‌گذاری بخشی صنایع مفید | H2: صندوق سرمایه‌گذاری بخشی صنایع مفید | I2: صندوق سرمایه‌گذاری بخشی صنایع مفید | J2: صندوق سرمایه‌گذاری بخشی صنایع مفید | K2: صندوق سرمایه‌گذاری بخشی صنایع مفید | L2: صندوق سرمایه‌گذاری بخشی صنایع مفید | M2: صندوق سرمایه‌گذاری بخشی صنایع مفید | N2: صندوق سرمایه‌گذاری بخشی صنایع مفید | O2: صندوق سرمایه‌گذاری بخشی صنایع مفید | P2: صندوق سرمایه‌گذاری بخشی صنایع مفید | Q2: صندوق سرمایه‌گذاری بخشی صنایع مفید | R2: صندوق سرمایه‌گذاری بخشی صنایع مفید | S2: صندوق سرمایه‌گذاری بخشی صنایع مفید | T2: صندوق سرمایه‌گذاری بخشی صنایع مفید | U2: صندوق سرمایه‌گذاری بخشی صنایع مفید | V2: صندوق سرمایه‌گذاری بخشی صنایع مفید | W2: صندوق سرمایه‌گذاری بخشی صنایع مفید | X2: صندوق سرمایه‌گذاری بخشی صنایع مفید | Y2: صندوق سرمایه‌گذاری بخشی صنایع مفید
A3: صورت وضعیت پورتفوی | B3: صورت وضعیت پورتفوی | C3: صورت وضعیت پورتفوی | D3: صورت وضعیت پورتفوی | E3: صورت وضعیت پورتفوی | F3: صورت وضعیت پورتفوی | G3: صورت وضعیت پورتفوی | H3: صورت وضعیت پورتفوی | I3: صورت وضعیت پورتفوی | J3: صورت وضعیت پورتفوی | K3: صورت وضعیت پورتفوی | L3: صورت وضعیت پورتفوی | M3: صورت وضعیت پورتفوی | N3: صورت وضعیت پورتفوی | O3: صورت وضعیت پورتفوی | P3: صورت وضعیت پورتفوی | Q3: صورت وضعیت پورتفوی | R3: صورت وضعیت پورتفوی | S3: صورت وضعیت پورتفوی | T3: صورت وضعیت پورتفوی | U3: صورت وضعیت پورتفوی | V3: صورت وضعیت پورتفوی | W3: صورت وضعیت پورتفوی | X3: صورت وضعیت پورتفوی | Y3: صورت وضعیت پورتفوی
A4: برای ماه منتهی به 1405/06/31 | B4: برای ماه منتهی به 1403/11/30 | C4: برای ماه منتهی به 1403/11/30 | D4: برای ماه منتهی به 1403/11/30 | E4: برای ماه منتهی به 1403/11/30 | F4: برای ماه منتهی به 1403/11/30 | G4: برای ماه منتهی به 1403/11/30 | H4: برای ماه منتهی به 1403/11/30 | I4: برای ماه منتهی به 1403/11/30 | J4: برای ماه منتهی به 1403/11/30 | K4: برای ماه منتهی به 1403/11/30 | L4: برای ماه منتهی به 1403/11/30 | M4: برای ماه منتهی به 1403/11/30 | N4: برای ماه منتهی به 1403/11/30 | O4: برای ماه منتهی به 1403/11/30 | P4: برای ماه منتهی به 1403/11/30 | Q4: برای ماه منتهی به 1403/11/30 | R4: برای ماه منتهی به 1403/11/30 | S4: برای ماه منتهی به 1403/11/30 | T4: برای ماه منتهی به 1403/11/30 | U4: برای ماه منتهی به 1403/11/30 | V4: برای ماه منتهی به 1403/11/30 | W4: برای ماه منتهی به 1403/11/30 | X4: برای ماه منتهی به 1403/11/30 | Y4: برای ماه منتهی به 1403/11/30
A6: نام شرکت | C6: 1405/05/31 | D6: 1403/10/30 | E6: 1403/10/30 | F6: 1403/10/30 | G6: 1403/10/30 | I6: تغییرات طی دوره | J6: تغییرات طی دوره | K6: تغییرات طی دوره | L6: تغییرات طی دوره | M6: تغییرات طی دوره | N6: تغییرات طی دوره | O6: تغییرات طی دوره | Q6: 1405/06/31 | R6: 1403/11/30 | S6: 1403/11/30 | T6: 1403/11/30 | U6: 1403/11/30 | V6: 1403/11/30 | W6: 1403/11/30 | X6: 1403/11/30 | Y6: 1403/11/30
A7: نام شرکت | C7: تعداد | E7: بهای تمام شده | G7: خالص ارزش فروش | I7: خرید طی دوره | J7: خرید طی دوره | K7: خرید طی دوره | M7: فروش طی دوره | N7: فروش طی دوره | O7: فروش طی دوره | Q7: تعداد | S7: قیمت بازار | U7: بهای تمام شده | W7: خالص ارزش فروش | Y7: درصد به کل دارایی‌های صندوق
A8: نام شرکت | C8: تعداد | E8: بهای تمام شده | G8: خالص ارزش فروش | I8: تعداد | K8: بهای تمام شده | M8: تعداد | O8: مبلغ فروش | Q8: تعداد | S8: قیمت بازار | U8: بهای تمام شده | W8: خالص ارزش فروش | Y8: درصد به کل دارایی‌های صندوق
A9: آهن و فولاد غدیر ایرانیان | C9: 27900000 | E9: 170780092539 | G9: 124302655170 | H9: 0 | I9: 600000 | K9: 3086138218 | M9: 0 | O9: 0 | Q9: 28500000 | S9: 7300 | U9: 173866230757 | W9: 206441773500 | Y9: 0.0087308561
A10: پنبه و دانه های روغنی خراسان | C10: 200000 | E10: 2745239262 | G10: 3844053980 | H10: 0 | I10: 0 | K10: 0 | M10: 0 | O10: 0 | Q10: 200000 | S10: 17250 | U10: 2745239262 | W10: 3423331500 | Y10: 0.00014477988
A11: سرمایه‌گذاری‌توکافولاد(هلدینگ | C11: 56420463 | E11: 150002435271 | G11: 1.6896072e+11 | H11: 0 | I11: 3579537 | K11: 12992443732 | M11: 0 | O11: 0 | Q11: 60000000 | S11: 3510 | U11: 162994879003 | W11: 208972062000 | Y11: 0.0088378674
A12: شرکت آهن و فولاد ارفع | C12: 30000000 | E12: 175352569447 | G12: 379543275000 | H12: 0 | I12: 100000 | K12: 1150032661 | M12: 0 | O12: 0 | Q12: 30100000 | S12: 14560 | U12: 141899477108 | W12: 434868281120 | Y12: 0.018391493
A13: تکادو | C13: 1000000 | E13: 2278002161 | G13: 3482867700 | H13: 0 | I13: 0 | K13: 0 | M13: 0 | O13: 0 | Q13: 1000000 | S13: 4330 | U13: 2278002161 | W13: 4296529100 | Y13: 0.00018170924
A14: فولاد خوزستان | C14: 118600000 | E14: 234203060838 | G14: 180526062548 | H14: 0 | I14: 0 | K14: 0 | M14: 0 | O14: 0 | Q14: 118600000 | S14: 2890 | U14: 234203060838 | W14: 340104511580 | Y14: 0.014383734
A15: فولاد امیرکبیرکاشان | C15: 10075939 | E15: 25707331656 | G15: 5.4089461e+10 | H15: 0 | I15: 0 | K15: 0 | M15: 0 | O15: 0 | Q15: 10075939 | S15: 6730 | U15: 25707331656 | W15: 6.728689e+10 | Y15: 0.0028457039
A16: فولاد مبارکه اصفهان | C16: 340000000 | E16: 899199607992 | G16: 854562769400 | H16: 0 | I16: 0 | K16: 0 | M16: 0 | O16: 0 | Q16: 340000000 | S16: 3230 | U16: 899199607992 | W16: 1089710914000 | Y16: 0.046086163
A17: فولاد هرمزگان جنوب | C17: 56000000 | E17: 105841809479 | G17: 177259112800 | H17: 0 | I17: 11975734 | K17: 57169523135 | M17: 0 | O17: 0 | Q17: 67975734 | S17: 4390 | U17: 163011332614 | W17: 2.9610674e+11 | Y17: 0.012522976
A18: فولاد کاوه جنوب کیش | C18: 47000000 | E18: 195182468172 | G18: 249972658400 | H18: 0 | I18: 0 | K18: 0 | M18: 0 | O18: 0 | Q18: 47000000 | S18: 7120 | U18: 195182468172 | W18: 332053232800 | Y18: 0.014043229
A19: گروه‌صنعتی‌سپاهان‌ | C19: 40000000 | E19: 119651018152 | G19: 225443744000 | H19: 0 | I19: 0 | K19: 0 | M19: -40000000 | O19: 232114739071 | Q19: 0 | S19: 0 | U19: 0 | W19: 0 | Y19: 0
A20: ملی صنایع مس ایران | C20: 395071429 | E20: 1818033443293 | G20: 7.5463374e+12 | H20: 0 | I20: 0 | K20: 0 | M20: -1 | O20: 1 | Q20: 395071428 | S20: 24160 | U20: 1818033438691 | W20: 9.4711434e+12 | Y20: 0.40055455
... A26: فولاد خراسان | C26: 95000000 | E26: 227668301288 | G26: 244807893050 | H26: 0 | I26: 0 | K26: 0 | M26: 0 | O26: 0 | Q26: 95000000 | S26: 3240 | U26: 227668301288 | W26: 305420706000 | Y26: 0.012916883
A27: زغال سنگ پروده طبس | C27: 10000000 | E27: 44966005725 | G27: 47033598000 | I27: 0 | K27: 0 | M27: 0 | O27: 0 | Q27: 10000000 | S27: 5340 | U27: 44966005725 | W27: 52987218000 | Y27: 0.0022409407
A28: گروه مالی نماد غدیر(سهامی عام) | C28: 15000000 | E28: 46198745635 | G28: 52689537000 | H28: 0 | I28: 0 | K28: 0 | M28: 0 | O28: 0 | Q28: 15000000 | S28: 3980 | U28: 46198745635 | W28: 59238519000 | Y28: 0.0025053214
A29: سرمایه‌گذاری‌غدیر(هلدینگ‌ | C29: 26300000 | E29: 260784486365 | G29: 495054417970 | I29: 0 | K29: 0 | M29: 0 | O29: 0 | Q29: 26300000 | S29: 20420 | U29: 260784486365 | W29: 532894634420 | Y29: 0.022537233
A30: صنایع مس افق کرمان | C30: 12000000 | E30: 113009301153 | G30: 149197717200 | I30: 0 | K30: 0 | M30: 0 | O30: 0 | Q30: 12000000 | S30: 14420 | U30: 113009301153 | W30: 171702400800 | Y30: 0.0072616551
A31: بین المللی توسعه ص. معادن غدیر | C31: 50600000 | E31: 165154922800 | G31: 240500448980 | I31: 1200000 | K31: 7914026932 | M31: 0 | O31: 0 | Q31: 51800000 | S31: 6760 | U31: 173068949732 | W31: 347461201360 | Y31: 0.014694864
A32: فروسیلیس ایران | C32: 530563 | E32: 1103022656 | G32: 1.5241068e+09 | I32: 0 | K32: 0 | M32: 0 | O32: 0 | Q32: 530563 | S32: 4310 | U32: 1103022656 | W32: 2.2690501e+09 | Y32: 9.5962895e-05
A33: فولاد سیرجان ایرانیان | C33: 67647058 | E33: 138763631748 | G33: 3.5173053e+11 | I33: 0 | K33: 0 | M33: 0 | O33: 0 | Q33: 67647058 | S33: 6200 | U33: 138763631748 | W33: 4.1616971e+11 | Y33: 0.017600691
A34: تولیدی چدن سازان | C34: 11764705 | E34: 16145154874 | G34: 3.3970653e+10 | I34: 0 | K34: 0 | M34: 0 | O34: 0 | Q34: 11764705 | S34: 4210 | U34: 16145154874 | W34: 4.9146546e+10 | Y34: 0.0020785106
A35: احیا استیل فولاد بافت | C35: 100000 | E35: 362957110 | G35: 413776590 | I35: 0 | K35: 0 | M35: 0 | O35: 0 | Q35: 100000 | S35: 4700 | U35: 362957110 | W35: 466366900 | Y35: 1.9723636e-05
A36: صنایع پتروشیمی کرمانشاه | C36: 5000001 | E36: 65442676785 | G36: 1.1535141e+11 | I36: 0 | K36: 0 | M36: -1 | O36: 1 | Q36: 5000000 | S36: 29140 | U36: 65442663696 | W36: 144573739000 | Y36: 0.006114327
A37: سرمایه گذاری دارویی تامین | C37: 6391968 | E37: 130831645602 | G37: 1.8875453e+11 | I37: 0 | K37: 0 | M37: -1 | O37: 1 | Q37: 6391967 | S37: 26010 | U37: 130831625134 | W37: 1.6496991e+11 | Y37: 0.0069769239
A38: آلومینیوم‌ایران‌ | C38: 10000000 | E38: 110003800559 | G38: 145764463000 | I38: 0 | K38: 0 | M38: 0 | O38: 0 | Q38: 10000000 | S38: 14500 | U38: 110003800559 | W38: 143879150000 | Y38: 0.0060849514
A39: پالایش نفت اصفهان | C39: 15800000 | E39: 183946731011 | G39: 177159885800 | I39: 0 | K39: 0 | M39: 0 | O39: 0 | Q39: 15800000 | S39: 12380 | U39: 183946731011 | W39: 194091981080 | Y39: 0.0082085575
A40: پالایش نفت بندرعباس | C40: 8289778 | E40: 95665861556 | G40: 9.9119661e+10 | I40: 0 | K40: 0 | M40: 0 | O40: 0 | Q40: 8289778 | S40: 14690 | U40: 95665861556 | W40: 1.208355e+11 | Y40: 0.0051103872
... A52: معدنی‌ املاح‌ ایران‌ | C52: 2300000 | E52: 50163279741 | G52: 79352824170 | I52: 0 | K52: 0 | M52: 0 | O52: 0 | Q52: 2300000 | S52: 38930 | U52: 50163279741 | W52: 88846863530 | Y52: 0.0037575204
E53: =SUM(E9:E52) -> 8478473111220 | G53: =SUM(G9:G52) -> 1.6496822e+13 | K53: =SUM(K9:K52) -> 1588332269396 | O53: =SUM(O9:O52) -> 388758280109 | U53: =SUM(U9:U52) -> 10194768646473 | W53: =SUM(W9:W52) -> 2.2137708e+13 | Y53: =SUM(Y9:Y52) -> 0.93625016

Sheet سپرده
A2: صندوق سرمایه‌گذاری بخشی صنایع مفید - استیل | B2: صندوق سرمایه‌گذاری بخشی صنایع مفید | C2: صندوق سرمایه‌گذاری بخشی صنایع مفید | D2: صندوق سرمایه‌گذاری بخشی صنایع مفید | E2: صندوق سرمایه‌گذاری بخشی صنایع مفید | F2: صندوق سرمایه‌گذاری بخشی صنایع مفید | G2: صندوق سرمایه‌گذاری بخشی صنایع مفید | H2: صندوق سرمایه‌گذاری بخشی صنایع مفید | I2: صندوق سرمایه‌گذاری بخشی صنایع مفید | J2: صندوق سرمایه‌گذاری بخشی صنایع مفید | K2: صندوق سرمایه‌گذاری بخشی صنایع مفید
A3: صورت وضعیت پورتفوی | B3: صورت وضعیت پورتفوی | C3: صورت وضعیت پورتفوی | D3: صورت وضعیت پورتفوی | E3: صورت وضعیت پورتفوی | F3: صورت وضعیت پورتفوی | G3: صورت وضعیت پورتفوی | H3: صورت وضعیت پورتفوی | I3: صورت وضعیت پورتفوی | J3: صورت وضعیت پورتفوی | K3: صورت وضعیت پورتفوی
A4: =+سهام!A4 -> برای ماه منتهی به 1405/06/31 | B4: برای ماه منتهی به 1403/11/30 | C4: برای ماه منتهی به 1403/11/30 | D4: برای ماه منتهی به 1403/11/30 | E4: برای ماه منتهی به 1403/11/30 | F4: برای ماه منتهی به 1403/11/30 | G4: برای ماه منتهی به 1403/11/30 | H4: برای ماه منتهی به 1403/11/30 | I4: برای ماه منتهی به 1403/11/30 | J4: برای ماه منتهی به 1403/11/30 | K4: برای ماه منتهی به 1403/11/30
A6: سپرده | C6: =+سهام!C6 -> 1405/05/31 | E6: تغییرات طی دوره | F6: تغییرات طی دوره | G6: تغییرات طی دوره | I6: =+سهام!Q6 -> 1405/06/31 | J6: 1403/11/30 | K6: 1403/11/30
A7: سپرده | C7: مبلغ | E7: افزایش | G7: کاهش | I7: مبلغ | K7: درصد به کل دارایی‌ها
A8: بانک خاورمیانه آفریقا | C8: 97017693375 | E8: 3653935182049 | G8: 2861213101208 | I8: =+C8+E8-G8 -> 889739774216 | K8: 0.037628964
A9: بانک ملت مستقل مرکزی | C9: 10403223 | E9: 44168 | G9: 0 | I9: =+C9+E9-G9 -> 10447391 | K9: 4.4184211e-07
A10: بانک پاسارگاد هفت تیر | C10: 160000000000 | E10: 0 | G10: 0 | I10: =+C10+E10-G10 -> 160000000000 | K10: 0.006766736
A11: بانک پاسارگاد هفت تیر | C11: 7531038 | E11: 4416438355 | G11: 4143375000 | I11: =+C11+E11-G11 -> 280594393 | K11: 1.1866926e-05
C12: =SUM(C8:C11) -> 257035627636 | E12: =SUM(E8:E11) -> 3658351664572 | G12: =SUM(G8:G11) -> 2865356476208 | I12: =SUM(I8:I11) -> 1050030816000 | K12: =SUM(K8:K11) -> 0.044408008

Sheet جمع درآمدها
A2: صندوق سرمایه‌گذاری بخشی صنایع مفید - استیل | B2: صندوق سرمایه‌گذاری بخشی صنایع مفید | C2: صندوق سرمایه‌گذاری بخشی صنایع مفید | D2: صندوق سرمایه‌گذاری بخشی صنایع مفید | E2: صندوق سرمایه‌گذاری بخشی صنایع مفید | F2: صندوق سرمایه‌گذاری بخشی صنایع مفید | G2: صندوق سرمایه‌گذاری بخشی صنایع مفید
A3: صورت وضعیت درآمدها | B3: صورت وضعیت درآمدها | C3: صورت وضعیت درآمدها | D3: صورت وضعیت درآمدها | E3: صورت وضعیت درآمدها | F3: صورت وضعیت درآمدها | G3: صورت وضعیت درآمدها
A4: =+سپرده!A4 -> برای ماه منتهی به 1405/06/31 | B4: برای ماه منتهی به 1403/11/30 | C4: برای ماه منتهی به 1403/11/30 | D4: برای ماه منتهی به 1403/11/30 | E4: برای ماه منتهی به 1403/11/30 | F4: برای ماه منتهی به 1403/11/30 | G4: برای ماه منتهی به 1403/11/30
A6: توضیحات | C6: مبلغ | E6: درصد از کل درآمدها | G6: درصد به کل دارایی‌های صندوق
A7: سرمایه‌گذاری در سهام | C7: =+'سرمایه‌گذاری در سهام'!I80 -> 4353420859566 | E7: =+C7/$C$9 -> 0.99633005 | G7: 0.18411531
A8: درآمد سپرده بانکی | C8: =+'درآمد سپرده بانکی'!C13 -> 16035684899 | E8: =+C8/$C$9 -> 0.0036699495 | G8: 0.00067818279
C9: =SUM(C7:C8) -> 4369456544465 | E9: =SUM(E7:E8) -> 1 | F9: =SUM(F7:F8) -> 0 | G9: =SUM(G7:G8) -> 0.18479349

Sheet سایر درآمدها
A2: =+سهام!A2 -> صندوق سرمایه‌گذاری بخشی صنایع مفید - استیل | B2: صندوق سرمایه‌گذاری تضمین اصل سرمایه مفید | C2: صندوق سرمایه‌گذاری تضمین اصل سرمایه مفید | D2: صندوق سرمایه‌گذاری تضمین اصل سرمایه مفید | E2: صندوق سرمایه‌گذاری تضمین اصل سرمایه مفید
A3: صورت وضعیت درآمدها | B3: صورت وضعیت درآمدها | C3: صورت وضعیت درآمدها | D3: صورت وضعیت درآمدها | E3: صورت وضعیت درآمدها
A4: =+سهام!A4 -> برای ماه منتهی به 1405/06/31 | B4: برای ماه منتهی به 1404/09/30 | C4: برای ماه منتهی به 1404/09/30 | D4: برای ماه منتهی به 1404/09/30 | E4: برای ماه منتهی به 1404/09/30
E5: از ابتدای سال مالی
A6: سایر درآمدها | C6: طی ماه | E6: تا پایان ماه
A7: سایر درآمدها | C7: مبلغ | E7: مبلغ
A8: سایر درآمدها | C8: 0 | E8: 637514149
C9: =SUM(C8:C8) -> 0 | E9: =SUM(E8:E8) -> 637514149

Sheet سرمایه‌گذاری در سهام
A2: صندوق سرمایه‌گذاری بخشی صنایع مفید - استیل | B2: صندوق سرمایه‌گذاری بخشی صنایع مفید | C2: صندوق سرمایه‌گذاری بخشی صنایع مفید | D2: صندوق سرمایه‌گذاری بخشی صنایع مفید | E2: صندوق سرمایه‌گذاری بخشی صنایع مفید | F2: صندوق سرمایه‌گذاری بخشی صنایع مفید | G2: صندوق سرمایه‌گذاری بخشی صنایع مفید | H2: صندوق سرمایه‌گذاری بخشی صنایع مفید | I2: صندوق سرمایه‌گذاری بخشی صنایع مفید | J2: صندوق سرمایه‌گذاری بخشی صنایع مفید | K2: صندوق سرمایه‌گذاری بخشی صنایع مفید | L2: صندوق سرمایه‌گذاری بخشی صنایع مفید | M2: صندوق سرمایه‌گذاری بخشی صنایع مفید | N2: صندوق سرمایه‌گذاری بخشی صنایع مفید | O2: صندوق سرمایه‌گذاری بخشی صنایع مفید | P2: صندوق سرمایه‌گذاری بخشی صنایع مفید | Q2: صندوق سرمایه‌گذاری بخشی صنایع مفید | R2: صندوق سرمایه‌گذاری بخشی صنایع مفید | S2: صندوق سرمایه‌گذاری بخشی صنایع مفید | T2: صندوق سرمایه‌گذاری بخشی صنایع مفید | U2: صندوق سرمایه‌گذاری بخشی صنایع مفید
A3: صورت وضعیت درآمدها | B3: صورت وضعیت درآمدها | C3: صورت وضعیت درآمدها | D3: صورت وضعیت درآمدها | E3: صورت وضعیت درآمدها | F3: صورت وضعیت درآمدها | G3: صورت وضعیت درآمدها | H3: صورت وضعیت درآمدها | I3: صورت وضعیت درآمدها | J3: صورت وضعیت درآمدها | K3: صورت وضعیت درآمدها | L3: صورت وضعیت درآمدها | M3: صورت وضعیت درآمدها | N3: صورت وضعیت درآمدها | O3: صورت وضعیت درآمدها | P3: صورت وضعیت درآمدها | Q3: صورت وضعیت درآمدها | R3: صورت وضعیت درآمدها | S3: صورت وضعیت درآمدها | T3: صورت وضعیت درآمدها | U3: صورت وضعیت درآمدها
A4: =+سپرده!A4 -> برای ماه منتهی به 1405/06/31 | B4: برای ماه منتهی به 1403/11/30 | C4: برای ماه منتهی به 1403/11/30 | D4: برای ماه منتهی به 1403/11/30 | E4: برای ماه منتهی به 1403/11/30 | F4: برای ماه منتهی به 1403/11/30 | G4: برای ماه منتهی به 1403/11/30 | H4: برای ماه منتهی به 1403/11/30 | I4: برای ماه منتهی به 1403/11/30 | J4: برای ماه منتهی به 1403/11/30 | K4: برای ماه منتهی به 1403/11/30 | L4: برای ماه منتهی به 1403/11/30 | M4: برای ماه منتهی به 1403/11/30 | N4: برای ماه منتهی به 1403/11/30 | O4: برای ماه منتهی به 1403/11/30 | P4: برای ماه منتهی به 1403/11/30 | Q4: برای ماه منتهی به 1403/11/30 | R4: برای ماه منتهی به 1403/11/30 | S4: برای ماه منتهی به 1403/11/30 | T4: برای ماه منتهی به 1403/11/30 | U4: برای ماه منتهی به 1403/11/30
A6: نام شرکت | C6: طی ماه | D6: طی ماه | E6: طی ماه | F6: طی ماه | G6: طی ماه | H6: طی ماه | I6: طی ماه | J6: طی ماه | K6: طی ماه | M6: از ابتدای سال مالی تا پایان ماه | N6: از ابتدای سال مالی تا پایان ماه | O6: از ابتدای سال مالی تا پایان ماه | P6: از ابتدای سال مالی تا پایان ماه | Q6: از ابتدای سال مالی تا پایان ماه | R6: از ابتدای سال مالی تا پایان ماه | S6: از ابتدای سال مالی تا پایان ماه | T6: از ابتدای سال مالی تا پایان ماه | U6: از ابتدای سال مالی تا پایان ماه
A7: نام شرکت | C7: درآمد سود سهام | E7: درآمد تغییر ارزش | G7: درآمد فروش | I7: مبلغ | K7: درصد از کل درآمدها | M7: درآمد سود سهام | O7: درآمد تغییر ارزش | Q7: درآمد فروش | S7: مبلغ | U7: درصد از کل درآمدها
A8: فروسیلیس ایران | C8: =IFERROR(VLOOKUP(A8,'درآمد سود سهام'!A:S,13,0),0) -> 0 | E8: =IFERROR(VLOOKUP(A8,'درآمد ناشی از تغییر قیمت اوراق'!A:Q,9,0),0) -> 744943374 | G8: =IFERROR(VLOOKUP(A8,'درآمد ناشی از فروش'!A:Q,9,0),0) -> 0 | I8: =+G8+E8+C8 -> 744943374 | K8: =+I8/$I$80 -> 0.00017111678 | M8: =IFERROR(VLOOKUP(A8,'درآمد سود سهام'!A:S,19,0),0) -> 13916388 | O8: =IFERROR(VLOOKUP(A8,'درآمد ناشی از تغییر قیمت اوراق'!A:Q,17,0),0) -> 999763156 | Q8: =IFERROR(VLOOKUP(A8,'درآمد ناشی از فروش'!A:Q,17,0),0) -> 2133386 | S8: =+M8+O8+Q8 -> 1015812930 | U8: =+S8/$S$80 -> 9.2315487e-05
A9: فولاد سیرجان ایرانیان | C9: =IFERROR(VLOOKUP(A9,'درآمد سود سهام'!A:S,13,0),0) -> 0 | E9: =IFERROR(VLOOKUP(A9,'درآمد ناشی از تغییر قیمت اوراق'!A:Q,9,0),0) -> 64439180392 | G9: =IFERROR(VLOOKUP(A9,'درآمد ناشی از فروش'!A:Q,9,0),0) -> 0 | I9: =+G9+E9+C9 -> 64439180392 | K9: =+I9/$I$80 -> 0.014801964 | M9: =IFERROR(VLOOKUP(A9,'درآمد سود سهام'!A:S,19,0),0) -> 19549999762 | O9: =IFERROR(VLOOKUP(A9,'درآمد ناشی از تغییر قیمت اوراق'!A:Q,17,0),0) -> 277406074950 | Q9: =IFERROR(VLOOKUP(A9,'درآمد ناشی از فروش'!A:Q,17,0),0) -> 4794909 | S9: =+M9+O9+Q9 -> 296960869621 | U9: =+S9/$S$80 -> 0.026987338
A10: بین المللی توسعه ص. معادن غدیر | C10: =IFERROR(VLOOKUP(A10,'درآمد سود سهام'!A:S,13,0),0) -> 0 | E10: =IFERROR(VLOOKUP(A10,'درآمد ناشی از تغییر قیمت اوراق'!A:Q,9,0),0) -> 99046725448 | G10: =IFERROR(VLOOKUP(A10,'درآمد ناشی از فروش'!A:Q,9,0),0) -> 0 | I10: =+G10+E10+C10 -> 99046725448 | K10: =+I10/$I$80 -> 0.02275147 | M10: =IFERROR(VLOOKUP(A10,'درآمد سود سهام'!A:S,19,0),0) -> 13634997560 | O10: =IFERROR(VLOOKUP(A10,'درآمد ناشی از تغییر قیمت اوراق'!A:Q,17,0),0) -> 144718962965 | Q10: =IFERROR(VLOOKUP(A10,'درآمد ناشی از فروش'!A:Q,17,0),0) -> -6117167976 | S10: =+M10+O10+Q10 -> 152236792549 | U10: =+S10/$S$80 -> 0.013835041
A11: صنایع فروآلیاژ ایران | C11: =IFERROR(VLOOKUP(A11,'درآمد سود سهام'!A:S,13,0),0) -> 0 | E11: =IFERROR(VLOOKUP(A11,'درآمد ناشی از تغییر قیمت اوراق'!A:Q,9,0),0) -> 0 | G11: =IFERROR(VLOOKUP(A11,'درآمد ناشی از فروش'!A:Q,9,0),0) -> 0 | I11: =+G11+E11+C11 -> 0 | K11: =+I11/$I$80 -> 0 | M11: =IFERROR(VLOOKUP(A11,'درآمد سود سهام'!A:S,19,0),0) -> 0 | O11: =IFERROR(VLOOKUP(A11,'درآمد ناشی از تغییر قیمت اوراق'!A:Q,17,0),0) -> 0 | Q11: =IFERROR(VLOOKUP(A11,'درآمد ناشی از فروش'!A:Q,17,0),0) -> -615256705 | S11: =+M11+O11+Q11 -> -615256705 | U11: =+S11/$S$80 -> -5.5913565e-05
A12: س. و توسعه صنایع لاستیک | C12: =IFERROR(VLOOKUP(A12,'درآمد سود سهام'!A:S,13,0),0) -> 0 | E12: =IFERROR(VLOOKUP(A12,'درآمد ناشی از تغییر قیمت اوراق'!A:Q,9,0),0) -> 0 | G12: =IFERROR(VLOOKUP(A12,'درآمد ناشی از فروش'!A:Q,9,0),0) -> 0 | I12: =+G12+E12+C12 -> 0 | K12: =+I12/$I$80 -> 0 | M12: =IFERROR(VLOOKUP(A12,'درآمد سود سهام'!A:S,19,0),0) -> 0 | O12: =IFERROR(VLOOKUP(A12,'درآمد ناشی از تغییر قیمت اوراق'!A:Q,17,0),0) -> 0 | Q12: =IFERROR(VLOOKUP(A12,'درآمد ناشی از فروش'!A:Q,17,0),0) -> -604478310 | S12: =+M12+O12+Q12 -> -604478310 | U12: =+S12/$S$80 -> -5.4934041e-05
A13: پتروشیمی زاگرس | C13: =IFERROR(VLOOKUP(A13,'درآمد سود سهام'!A:S,13,0),0) -> 0 | E13: =IFERROR(VLOOKUP(A13,'درآمد ناشی از تغییر قیمت اوراق'!A:Q,9,0),0) -> 0 | G13: =IFERROR(VLOOKUP(A13,'درآمد ناشی از فروش'!A:Q,9,0),0) -> 0 | I13: =+G13+E13+C13 -> 0 | K13: =+I13/$I$80 -> 0 | M13: =IFERROR(VLOOKUP(A13,'درآمد سود سهام'!A:S,19,0),0) -> 0 | O13: =IFERROR(VLOOKUP(A13,'درآمد ناشی از تغییر قیمت اوراق'!A:Q,17,0),0) -> 0 | Q13: =IFERROR(VLOOKUP(A13,'درآمد ناشی از فروش'!A:Q,17,0),0) -> -5841989625 | S13: =+M13+O13+Q13 -> -5841989625 | U13: =+S13/$S$80 -> -0.00053091086
A14: تولیدی چدن سازان | C14: =IFERROR(VLOOKUP(A14,'درآمد سود سهام'!A:S,13,0),0) -> 0 | E14: =IFERROR(VLOOKUP(A14,'درآمد ناشی از تغییر قیمت اوراق'!A:Q,9,0),0) -> 15175892980 | G14: =IFERROR(VLOOKUP(A14,'درآمد ناشی از فروش'!A:Q,9,0),0) -> 0 | I14: =+G14+E14+C14 -> 15175892980 | K14: =+I14/$I$80 -> 0.0034859696 | M14: =IFERROR(VLOOKUP(A14,'درآمد سود سهام'!A:S,19,0),0) -> 2154144665 | O14: =IFERROR(VLOOKUP(A14,'درآمد ناشی از تغییر قیمت اوراق'!A:Q,17,0),0) -> 30650634497 | Q14: =IFERROR(VLOOKUP(A14,'درآمد ناشی از فروش'!A:Q,17,0),0) -> -1570 | S14: =+M14+O14+Q14 -> 32804777592 | U14: =+S14/$S$80 -> 0.0029812468
A15: پتروشیمی شیراز | C15: =IFERROR(VLOOKUP(A15,'درآمد سود سهام'!A:S,13,0),0) -> 0 | E15: =IFERROR(VLOOKUP(A15,'درآمد ناشی از تغییر قیمت اوراق'!A:Q,9,0),0) -> 0 | G15: =IFERROR(VLOOKUP(A15,'درآمد ناشی از فروش'!A:Q,9,0),0) -> 0 | I15: =+G15+E15+C15 -> 0 | K15: =+I15/$I$80 -> 0 | M15: =IFERROR(VLOOKUP(A15,'درآمد سود سهام'!A:S,19,0),0) -> 5381594524 | O15: =IFERROR(VLOOKUP(A15,'درآمد ناشی از تغییر قیمت اوراق'!A:Q,17,0),0) -> 0 | Q15: =IFERROR(VLOOKUP(A15,'درآمد ناشی از فروش'!A:Q,17,0),0) -> 27750021433 | S15: =+M15+O15+Q15 -> 33131615957 | U15: =+S15/$S$80 -> 0.0030109493
A16: صنایع پتروشیمی کرمانشاه | C16: =IFERROR(VLOOKUP(A16,'درآمد سود سهام'!A:S,13,0),0) -> 0 | E16: =IFERROR(VLOOKUP(A16,'درآمد ناشی از تغییر قیمت اوراق'!A:Q,9,0),0) -> 29222343089 | G16: =IFERROR(VLOOKUP(A16,'درآمد ناشی از فروش'!A:Q,9,0),0) -> -14658 | I16: =+G16+E16+C16 -> 29222328431 | K16: =+I16/$I$80 -> 0.0067124979 | M16: =IFERROR(VLOOKUP(A16,'درآمد سود سهام'!A:S,19,0),0) -> 6192323449 | O16: =IFERROR(VLOOKUP(A16,'درآمد ناشی از تغییر قیمت اوراق'!A:Q,17,0),0) -> 71284617301 | Q16: =IFERROR(VLOOKUP(A16,'درآمد ناشی از فروش'!A:Q,17,0),0) -> 5953702264 | S16: =+M16+O16+Q16 -> 83430643014 | U16: =+S16/$S$80 -> 0.0075820461
A17: فولاد امیرکبیرکاشان | C17: =IFERROR(VLOOKUP(A17,'درآمد سود سهام'!A:S,13,0),0) -> 0 | E17: =IFERROR(VLOOKUP(A17,'درآمد ناشی از تغییر قیمت اوراق'!A:Q,9,0),0) -> 13197428629 | G17: =IFERROR(VLOOKUP(A17,'درآمد ناشی از فروش'!A:Q,9,0),0) -> 0 | I17: =+G17+E17+C17 -> 13197428629 | K17: =+I17/$I$80 -> 0.0030315076 | M17: =IFERROR(VLOOKUP(A17,'درآمد سود سهام'!A:S,19,0),0) -> 4408620629 | O17: =IFERROR(VLOOKUP(A17,'درآمد ناشی از تغییر قیمت اوراق'!A:Q,17,0),0) -> 39512301471 | Q17: =IFERROR(VLOOKUP(A17,'درآمد ناشی از فروش'!A:Q,17,0),0) -> 8945654 | S17: =+M17+O17+Q17 -> 43929867754 | U17: =+S17/$S$80 -> 0.0039922775
A18: شرکت آهن و فولاد ارفع | C18: =IFERROR(VLOOKUP(A18,'درآمد سود سهام'!A:S,13,0),0) -> 0 | E18: =IFERROR(VLOOKUP(A18,'درآمد ناشی از تغییر قیمت اوراق'!A:Q,9,0),0) -> 88778098459 | G18: =IFERROR(VLOOKUP(A18,'درآمد ناشی از فروش'!A:Q,9,0),0) -> 0 | I18: =+G18+E18+C18 -> 88778098459 | K18: =+I18/$I$80 -> 0.020392721 | M18: =IFERROR(VLOOKUP(A18,'درآمد سود سهام'!A:S,19,0),0) -> 39640157784 | O18: =IFERROR(VLOOKUP(A18,'درآمد ناشی از تغییر قیمت اوراق'!A:Q,17,0),0) -> 289601145002 | Q18: =IFERROR(VLOOKUP(A18,'درآمد ناشی از فروش'!A:Q,17,0),0) -> 8738968087 | S18: =+M18+O18+Q18 -> 337980270873 | U18: =+S18/$S$80 -> 0.030715117
A19: توسعه معدنی و صنعتی صبانور | C19: =IFERROR(VLOOKUP(A19,'درآمد سود سهام'!A:S,13,0),0) -> 0 | E19: =IFERROR(VLOOKUP(A19,'درآمد ناشی از تغییر قیمت اوراق'!A:Q,9,0),0) -> 0 | G19: =IFERROR(VLOOKUP(A19,'درآمد ناشی از فروش'!A:Q,9,0),0) -> 0 | I19: =+G19+E19+C19 -> 0 | K19: =+I19/$I$80 -> 0 | M19: =IFERROR(VLOOKUP(A19,'درآمد سود سهام'!A:S,19,0),0) -> 8190000000 | O19: =IFERROR(VLOOKUP(A19,'درآمد ناشی از تغییر قیمت اوراق'!A:Q,17,0),0) -> 0 | Q19: =IFERROR(VLOOKUP(A19,'درآمد ناشی از فروش'!A:Q,17,0),0) -> 1638688548 | S19: =+M19+O19+Q19 -> 9828688548 | U19: =+S19/$S$80 -> 0.00089321581
... A79: گروه مالی نماد غدیر(سهامی عام) | C79: =IFERROR(VLOOKUP(A79,'درآمد سود سهام'!A:S,13,0),0) -> 0 | E79: =IFERROR(VLOOKUP(A79,'درآمد ناشی از تغییر قیمت اوراق'!A:Q,9,0),0) -> 6548982000 | G79: =IFERROR(VLOOKUP(A79,'درآمد ناشی از فروش'!A:Q,9,0),0) -> 0 | I79: =+G79+E79+C79 -> 6548982000 | K79: =+I79/$I$80 -> 0.0015043301 | M79: =IFERROR(VLOOKUP(A79,'درآمد سود سهام'!A:S,19,0),0) -> 2400000000 | O79: =IFERROR(VLOOKUP(A79,'درآمد ناشی از تغییر قیمت اوراق'!A:Q,17,0),0) -> 13039773365 | Q79: =IFERROR(VLOOKUP(A79,'درآمد ناشی از فروش'!A:Q,17,0),0) -> 0 | S79: =+M79+O79+Q79 -> 15439773365 | U79: =+S79/$S$80 -> 0.0014031424
C80: =SUM(C8:C79) -> 153558863444 | E80: =SUM(E8:E79) -> 4029687497600 | G80: =SUM(G8:G79) -> 170174498522 | I80: =SUM(I8:I79) -> 4353420859566 | K80: =SUM(K8:K79) -> 1 | M80: =SUM(M8:M79) -> 706023461828 | O80: =SUM(O8:O79) -> 9932094537229 | Q80: =SUM(Q8:Q79) -> 365592931980 | S80: =SUM(S8:S79) -> 11003710931037 | U80: =SUM(U8:U79) -> 1

Sheet درآمد سود سهام
A2: صندوق سرمایه‌گذاری بخشی صنایع مفید - استیل | B2: صندوق سرمایه‌گذاری بخشی صنایع مفید | C2: صندوق سرمایه‌گذاری بخشی صنایع مفید | D2: صندوق سرمایه‌گذاری بخشی صنایع مفید | E2: صندوق سرمایه‌گذاری بخشی صنایع مفید | F2: صندوق سرمایه‌گذاری بخشی صنایع مفید | G2: صندوق سرمایه‌گذاری بخشی صنایع مفید | H2: صندوق سرمایه‌گذاری بخشی صنایع مفید | I2: صندوق سرمایه‌گذاری بخشی صنایع مفید | J2: صندوق سرمایه‌گذاری بخشی صنایع مفید | K2: صندوق سرمایه‌گذاری بخشی صنایع مفید | L2: صندوق سرمایه‌گذاری بخشی صنایع مفید | M2: صندوق سرمایه‌گذاری بخشی صنایع مفید | N2: صندوق سرمایه‌گذاری بخشی صنایع مفید | O2: صندوق سرمایه‌گذاری بخشی صنایع مفید | P2: صندوق سرمایه‌گذاری بخشی صنایع مفید | Q2: صندوق سرمایه‌گذاری بخشی صنایع مفید | R2: صندوق سرمایه‌گذاری بخشی صنایع مفید | S2: صندوق سرمایه‌گذاری بخشی صنایع مفید
A3: صورت وضعیت درآمدها | B3: صورت وضعیت درآمدها | C3: صورت وضعیت درآمدها | D3: صورت وضعیت درآمدها | E3: صورت وضعیت درآمدها | F3: صورت وضعیت درآمدها | G3: صورت وضعیت درآمدها | H3: صورت وضعیت درآمدها | I3: صورت وضعیت درآمدها | J3: صورت وضعیت درآمدها | K3: صورت وضعیت درآمدها | L3: صورت وضعیت درآمدها | M3: صورت وضعیت درآمدها | N3: صورت وضعیت درآمدها | O3: صورت وضعیت درآمدها | P3: صورت وضعیت درآمدها | Q3: صورت وضعیت درآمدها | R3: صورت وضعیت درآمدها | S3: صورت وضعیت درآمدها
A4: =+سپرده!A4 -> برای ماه منتهی به 1405/06/31 | B4: برای ماه منتهی به 1403/12/30 | C4: برای ماه منتهی به 1403/12/30 | D4: برای ماه منتهی به 1403/12/30 | E4: برای ماه منتهی به 1403/12/30 | F4: برای ماه منتهی به 1403/12/30 | G4: برای ماه منتهی به 1403/12/30 | H4: برای ماه منتهی به 1403/12/30 | I4: برای ماه منتهی به 1403/12/30 | J4: برای ماه منتهی به 1403/12/30 | K4: برای ماه منتهی به 1403/12/30 | L4: برای ماه منتهی به 1403/12/30 | M4: برای ماه منتهی به 1403/12/30 | N4: برای ماه منتهی به 1403/12/30 | O4: برای ماه منتهی به 1403/12/30 | P4: برای ماه منتهی به 1403/12/30 | Q4: برای ماه منتهی به 1403/12/30 | R4: برای ماه منتهی به 1403/12/30 | S4: برای ماه منتهی به 1403/12/30
A6: نام شرکت | C6: اطلاعات مجمع | D6: اطلاعات مجمع | E6: اطلاعات مجمع | F6: اطلاعات مجمع | G6: اطلاعات مجمع | I6: طی ماه | J6: طی ماه | K6: طی ماه | L6: طی ماه | M6: طی ماه | O6: از ابتدای سال مالی تا پایان ماه | P6: از ابتدای سال مالی تا پایان ماه | Q6: از ابتدای سال مالی تا پایان ماه | R6: از ابتدای سال مالی تا پایان ماه | S6: از ابتدای سال مالی تا پایان ماه
A7: نام شرکت | C7: تاریخ مجمع | E7: تعداد سهام متعلقه در زمان مجمع | G7: سود متعلق به هر سهم | I7: جمع درآمد سود سهام | K7: هزینه تنزیل | M7: خالص درآمد سود سهام | O7: جمع درآمد سود سهام | Q7: هزینه تنزیل | S7: خالص درآمد سود سهام
A8: فولاد امیرکبیرکاشان | C8: - | E8: - | G8: - | I8: 0 | K8: 0 | M8: 0 | O8: 4786071025 | Q8: -377450396 | S8: =+Q8+O8 -> 4408620629
A9: سرمایه‌گذاری‌توکافولاد(هلدینگ | C9: - | E9: - | G9: - | I9: 0 | K9: 0 | M9: 0 | O9: 24825003720 | Q9: -483495707 | S9: =+Q9+O9 -> 24341508013
A10: سرمایه گذاری صنعت نفت | C10: - | E10: - | G10: - | I10: 0 | K10: 0 | M10: 0 | O10: 402000000 | Q10: -13311258 | S10: =+Q10+O10 -> 388688742
A11: بانک اقتصادنوین | C11: - | E11: - | G11: - | I11: 0 | K11: 0 | M11: 0 | O11: 3775313556 | Q11: 0 | S11: =+Q11+O11 -> 3775313556
A12: سرمایه‌گذاری‌غدیر(هلدینگ‌ | C12: - | E12: - | G12: - | I12: 0 | K12: 0 | M12: 0 | O12: 42750000000 | Q12: 0 | S12: =+Q12+O12 -> 42750000000
A13: گروه‌صنعتی‌سپاهان‌ | C13: - | E13: - | G13: - | I13: 0 | K13: 0 | M13: 0 | O13: 22000000000 | Q13: -868421053 | S13: =+Q13+O13 -> 21131578947
A14: آلومینیوم‌ایران‌ | C14: - | E14: - | G14: - | I14: 0 | K14: 0 | M14: 0 | O14: 8000000000 | Q14: -873703478 | S14: =+Q14+O14 -> 7126296522
A15: فروسیلیس ایران | C15: - | E15: - | G15: - | I15: 0 | K15: 0 | M15: 0 | O15: 14250000 | Q15: -333612 | S15: =+Q15+O15 -> 13916388
A16: حمل ونقل توکا | C16: - | E16: - | G16: - | I16: 0 | K16: 0 | M16: 0 | O16: 5541247500 | Q16: -420854241 | S16: =+Q16+O16 -> 5120393259
A17: ملی صنایع مس ایران | C17: - | E17: - | G17: - | I17: 0 | K17: 0 | M17: 0 | O17: 177737143050 | Q17: 0 | S17: =+Q17+O17 -> 177737143050
A18: توسعه معادن وفلزات | C18: - | E18: - | G18: - | I18: 0 | K18: 0 | M18: 0 | O18: 71999999760 | Q18: -972972970 | S18: =+Q18+O18 -> 71027026790
A19: پتروشیمی شیراز | C19: - | E19: - | G19: - | I19: 0 | K19: 0 | M19: 0 | O19: 5923440000 | Q19: -541845476 | S19: =+Q19+O19 -> 5381594524
... A27: فولاد هرمزگان جنوب | C27: - | E27: - | G27: - | I27: 0 | K27: 0 | M27: 0 | O27: 5214520044 | Q27: 0 | S27: =+Q27+O27 -> 5214520044
A28: سرمایه گذاری دارویی تامین | C28: 1405/06/17 | E28: 6391967 | G28: 1915 | I28: 12240616805 | K28: -813954059 | M28: =+K28+I28 -> 11426662746 | O28: 12240616805 | Q28: -813954059 | S28: =+Q28+O28 -> 11426662746
A29: شرکت آهن و فولاد ارفع | C29: - | E29: - | G29: - | I29: 0 | K29: 0 | M29: 0 | O29: 39965967300 | Q29: -325809516 | S29: =+Q29+O29 -> 39640157784
A30: توسعه معدنی و صنعتی صبانور | C30: - | E30: - | G30: - | I30: 0 | K30: 0 | M30: 0 | O30: 8190000000 | Q30: 0 | S30: =+Q30+O30 -> 8190000000
A31: تکادو | C31: 1405/06/09 | E31: 1000000 | G31: 270 | I31: 270000000 | K31: -15513234 | M31: =+K31+I31 -> 254486766 | O31: 270000000 | Q31: -15513234 | S31: =+Q31+O31 -> 254486766
A32: تولیدی چدن سازان | C32: - | E32: - | G32: - | I32: 0 | K32: 0 | M32: 0 | O32: 2235293950 | Q32: -81149285 | S32: =+Q32+O32 -> 2154144665
A33: سرمایه گذاری صدرتامین | C33: 1405/06/21 | E33: 27270514 | G33: 480 | I33: 13089846720 | K33: -924871411 | M33: =+K33+I33 -> 12164975309 | O33: 13089846720 | Q33: -924871411 | S33: =+Q33+O33 -> 12164975309
A34: سرمایه گذاری سیمان تامین | C34: 1405/06/16 | E34: 6000000 | G34: 4155 | I34: 24930000000 | K34: -186424201 | M34: =+K34+I34 -> 24743575799 | O34: 24930000000 | Q34: -186424201 | S34: =+Q34+O34 -> 24743575799
A35: زغال سنگ پروده طبس | C35: - | E35: - | G35: - | I35: 0 | K35: 0 | M35: 0 | O35: 175000000 | Q35: -19017094 | S35: =+Q35+O35 -> 155982906
A36: صنایع مس افق کرمان | C36: - | E36: - | G36: - | I36: 0 | K36: 0 | M36: 0 | O36: 7346298000 | Q36: -195901280 | S36: =+Q36+O36 -> 7150396720
A37: آهن و فولاد غدیر ایرانیان | C37: - | E37: - | G37: - | I37: 0 | K37: 0 | M37: 0 | O37: 20802600000 | Q37: -581697204 | S37: =+Q37+O37 -> 20220902796
A38: فولاد شاهرود | C38: - | E38: - | G38: - | I38: 0 | K38: 0 | M38: 0 | O38: 7150000000 | Q38: -125100942 | S38: =+Q38+O38 -> 7024899058
A39: بین المللی توسعه ص. معادن غدیر | C39: - | E39: - | G39: - | I39: 0 | K39: 0 | M39: 0 | O39: 13634997560 | Q39: 0 | S39: =+Q39+O39 -> 13634997560
A40: گروه مالی نماد غدیر(سهامی عام) | C40: - | E40: - | G40: - | I40: 0 | K40: 0 | M40: 0 | O40: 2400000000 | Q40: 0 | S40: =+Q40+O40 -> 2400000000
A41: گروه مالی صبا تامین | C41: 1405/06/31 | E41: 202502483 | G41: 550 | I41: 111376365650 | K41: -6467014780 | M41: =+K41+I41 -> 104909350870 | O41: 111376365650 | Q41: -6467014780 | S41: =+Q41+O41 -> 104909350870
A42: فولاد سیرجان ایرانیان | C42: - | E42: - | G42: - | I42: 0 | K42: 0 | M42: 0 | O42: 19549999762 | Q42: 0 | S42: =+Q42+O42 -> 19549999762
A43: رهیاب پیام گستران | C43: - | E43: - | G43: - | I43: 0 | K43: 0 | M43: 0 | O43: 242190000 | Q43: -8483853 | S43: =+Q43+O43 -> 233706147
A44: گروه پتروشیمی تابان فردا | C44: 1405/06/31 | E44: 100000 | G44: 610 | I44: 61000000 | K44: -1188046 | M44: =+K44+I44 -> 59811954 | O44: 61000000 | Q44: -1188046 | S44: =+Q44+O44 -> 59811954
I45: =SUM(I8:I44) -> 161967829175 | K45: =SUM(K8:K44) -> -8408965731 | M45: =SUM(M8:M44) -> 153558863444 | O45: =SUM(O8:O44) -> 721452643659 | Q45: =SUM(Q8:Q44) -> -15429181831 | S45: =SUM(S8:S44) -> 706023461828

Sheet درآمد سپرده بانکی
A2: صندوق سرمایه‌گذاری بخشی صنایع مفید - استیل | B2: صندوق سرمایه‌گذاری بخشی صنایع مفید | C2: صندوق سرمایه‌گذاری بخشی صنایع مفید | D2: صندوق سرمایه‌گذاری بخشی صنایع مفید | E2: صندوق سرمایه‌گذاری بخشی صنایع مفید | F2: صندوق سرمایه‌گذاری بخشی صنایع مفید | G2: صندوق سرمایه‌گذاری بخشی صنایع مفید | H2: صندوق سرمایه‌گذاری بخشی صنایع مفید | I2: صندوق سرمایه‌گذاری بخشی صنایع مفید
A3: صورت وضعیت درآمدها | B3: صورت وضعیت درآمدها | C3: صورت وضعیت درآمدها | D3: صورت وضعیت درآمدها | E3: صورت وضعیت درآمدها | F3: صورت وضعیت درآمدها | G3: صورت وضعیت درآمدها | H3: صورت وضعیت درآمدها | I3: صورت وضعیت درآمدها
A4: =+سپرده!A4 -> برای ماه منتهی به 1405/06/31 | B4: برای ماه منتهی به 1403/11/30 | C4: برای ماه منتهی به 1403/11/30 | D4: برای ماه منتهی به 1403/11/30 | E4: برای ماه منتهی به 1403/11/30 | F4: برای ماه منتهی به 1403/11/30 | G4: برای ماه منتهی به 1403/11/30 | H4: برای ماه منتهی به 1403/11/30 | I4: برای ماه منتهی به 1403/11/30
A6: نام سپرده بانکی | C6: طی ماه | D6: طی ماه | E6: طی ماه | G6: از ابتدای سال مالی تا پایان ماه | H6: از ابتدای سال مالی تا پایان ماه | I6: از ابتدای سال مالی تا پایان ماه
A7: نام سپرده | C7: سود سپرده بانکی و گواهی سپرده | E7: درصد سود به میانگین سپرده | G7: سود سپرده بانکی و گواهی سپرده | I7: درصد سود به میانگین سپرده
A8: بانک خاورمیانه آفریقا | C8: 9094270880 | E8: =+C8/$C$13 -> 0.56712706 | G8: 22307010609 | I8: =+G8/$G$13 -> 0.50280532
A9: بانک پاسارگاد هفت تیر | C9: 0 | E9: =+C9/$C$13 -> 0 | G9: 14654 | I9: =+G9/$G$13 -> 3.3030464e-07
A10: بانک ملت مستقل مرکزی | C10: 44168 | E10: =+C10/$C$13 -> 2.7543569e-06 | G10: 91873 | I10: =+G10/$G$13 -> 2.0708392e-06
A11: بانک ملت مستقل مرکزی | C11: 0 | E11: =+C11/$C$13 -> 0 | G11: 15116617833 | I11: =+G11/$G$13 -> 0.34073216
A12: بانک پاسارگاد هفت تیر | C12: =+'سود سپرده بانکی'!G12 -> 6941369851 | E12: =+C12/$C$13 -> 0.43287018 | G12: 6941369851 | I12: =+G12/$G$13 -> 0.15646013
C13: =SUM(C8:C12) -> 16035684899 | E13: =SUM(E8:E12) -> 1 | G13: =SUM(G8:G12) -> 44365104820 | I13: =SUM(I8:I12) -> 1

Sheet سود سپرده بانکی
A2: صندوق سرمایه‌گذاری بخشی صنایع مفید - استیل | B2: صندوق سرمایه‌گذاری بخشی صنایع مفید | C2: صندوق سرمایه‌گذاری بخشی صنایع مفید | D2: صندوق سرمایه‌گذاری بخشی صنایع مفید | E2: صندوق سرمایه‌گذاری بخشی صنایع مفید | F2: صندوق سرمایه‌گذاری بخشی صنایع مفید | G2: صندوق سرمایه‌گذاری بخشی صنایع مفید | H2: صندوق سرمایه‌گذاری بخشی صنایع مفید | I2: صندوق سرمایه‌گذاری بخشی صنایع مفید | J2: صندوق سرمایه‌گذاری بخشی صنایع مفید | K2: صندوق سرمایه‌گذاری بخشی صنایع مفید | L2: صندوق سرمایه‌گذاری بخشی صنایع مفید | M2: صندوق سرمایه‌گذاری بخشی صنایع مفید
A3: صورت وضعیت درآمدها | B3: صورت وضعیت درآمدها | C3: صورت وضعیت درآمدها | D3: صورت وضعیت درآمدها | E3: صورت وضعیت درآمدها | F3: صورت وضعیت درآمدها | G3: صورت وضعیت درآمدها | H3: صورت وضعیت درآمدها | I3: صورت وضعیت درآمدها | J3: صورت وضعیت درآمدها | K3: صورت وضعیت درآمدها | L3: صورت وضعیت درآمدها | M3: صورت وضعیت درآمدها
A4: =+سپرده!A4 -> برای ماه منتهی به 1405/06/31 | B4: برای ماه منتهی به 1403/11/30 | C4: برای ماه منتهی به 1403/11/30 | D4: برای ماه منتهی به 1403/11/30 | E4: برای ماه منتهی به 1403/11/30 | F4: برای ماه منتهی به 1403/11/30 | G4: برای ماه منتهی به 1403/11/30 | H4: برای ماه منتهی به 1403/11/30 | I4: برای ماه منتهی به 1403/11/30 | J4: برای ماه منتهی به 1403/11/30 | K4: برای ماه منتهی به 1403/11/30 | L4: برای ماه منتهی به 1403/11/30 | M4: برای ماه منتهی به 1403/11/30
A6: مشخصات | C6: طی ماه | D6: طی ماه | E6: طی ماه | F6: طی ماه | G6: طی ماه | I6: از ابتدای سال مالی تا پایان ماه | J6: از ابتدای سال مالی تا پایان ماه | K6: از ابتدای سال مالی تا پایان ماه | L6: از ابتدای سال مالی تا پایان ماه | M6: از ابتدای سال مالی تا پایان ماه
A7: توضیحات | C7: درآمد سود | E7: هزینه تنزیل | G7: خالص درآمد | I7: درآمد سود | K7: هزینه تنزیل | M7: خالص درآمد
A8: بانک خاورمیانه آفریقا | C8: 9094270880 | E8: 0 | G8: =+E8+C8 -> 9094270880 | I8: 22307010609 | K8: 0 | M8: =+K8+I8 -> 22307010609
A9: بانک پاسارگاد هفت تیر | C9: 0 | E9: 0 | G9: =+E9+C9 -> 0 | I9: 14654 | K9: 0 | M9: =+K9+I9 -> 14654
A10: بانک ملت مستقل مرکزی | C10: 44168 | E10: 0 | G10: =+E10+C10 -> 44168 | I10: 91873 | K10: 0 | M10: =+K10+I10 -> 91873
A11: بانک ملت مستقل مرکزی | C11: 0 | E11: 0 | G11: =+E11+C11 -> 0 | I11: 15116617833 | K11: 0 | M11: =+K11+I11 -> 15116617833
A12: بانک پاسارگاد هفت تیر | C12: 6941369851 | E12: 0 | G12: =+E12+C12 -> 6941369851 | I12: 6941369851 | K12: 0 | M12: =+K12+I12 -> 6941369851
C13: =SUM(C8:C12) -> 16035684899 | E13: =SUM(E8:E12) -> 0 | G13: =SUM(G8:G12) -> 16035684899 | I13: =SUM(I8:I12) -> 44365104820 | K13: =SUM(K8:K12) -> 0 | M13: =SUM(M8:M12) -> 44365104820

Sheet درآمد ناشی از فروش
A2: صندوق سرمایه‌گذاری بخشی صنایع مفید - استیل | B2: صندوق سرمایه‌گذاری بخشی صنایع مفید | C2: صندوق سرمایه‌گذاری بخشی صنایع مفید | D2: صندوق سرمایه‌گذاری بخشی صنایع مفید | E2: صندوق سرمایه‌گذاری بخشی صنایع مفید | F2: صندوق سرمایه‌گذاری بخشی صنایع مفید | G2: صندوق سرمایه‌گذاری بخشی صنایع مفید | H2: صندوق سرمایه‌گذاری بخشی صنایع مفید | I2: صندوق سرمایه‌گذاری بخشی صنایع مفید | J2: صندوق سرمایه‌گذاری بخشی صنایع مفید | K2: صندوق سرمایه‌گذاری بخشی صنایع مفید | L2: صندوق سرمایه‌گذاری بخشی صنایع مفید | M2: صندوق سرمایه‌گذاری بخشی صنایع مفید | N2: صندوق سرمایه‌گذاری بخشی صنایع مفید | O2: صندوق سرمایه‌گذاری بخشی صنایع مفید | P2: صندوق سرمایه‌گذاری بخشی صنایع مفید | Q2: صندوق سرمایه‌گذاری بخشی صنایع مفید
A3: صورت وضعیت درآمدها | B3: صورت وضعیت درآمدها | C3: صورت وضعیت درآمدها | D3: صورت وضعیت درآمدها | E3: صورت وضعیت درآمدها | F3: صورت وضعیت درآمدها | G3: صورت وضعیت درآمدها | H3: صورت وضعیت درآمدها | I3: صورت وضعیت درآمدها | J3: صورت وضعیت درآمدها | K3: صورت وضعیت درآمدها | L3: صورت وضعیت درآمدها | M3: صورت وضعیت درآمدها | N3: صورت وضعیت درآمدها | O3: صورت وضعیت درآمدها | P3: صورت وضعیت درآمدها | Q3: صورت وضعیت درآمدها
A4: =+سپرده!A4 -> برای ماه منتهی به 1405/06/31 | B4: برای ماه منتهی به 1403/11/30 | C4: برای ماه منتهی به 1403/11/30 | D4: برای ماه منتهی به 1403/11/30 | E4: برای ماه منتهی به 1403/11/30 | F4: برای ماه منتهی به 1403/11/30 | G4: برای ماه منتهی به 1403/11/30 | H4: برای ماه منتهی به 1403/11/30 | I4: برای ماه منتهی به 1403/11/30 | J4: برای ماه منتهی به 1403/11/30 | K4: برای ماه منتهی به 1403/11/30 | L4: برای ماه منتهی به 1403/11/30 | M4: برای ماه منتهی به 1403/11/30 | N4: برای ماه منتهی به 1403/11/30 | O4: برای ماه منتهی به 1403/11/30 | P4: برای ماه منتهی به 1403/11/30 | Q4: برای ماه منتهی به 1403/11/30
A6: نام شرکت | C6: طی ماه | D6: طی ماه | E6: طی ماه | F6: طی ماه | G6: طی ماه | H6: طی ماه | I6: طی ماه | K6: از ابتدای سال مالی تا پایان ماه | L6: از ابتدای سال مالی تا پایان ماه | M6: از ابتدای سال مالی تا پایان ماه | N6: از ابتدای سال مالی تا پایان ماه | O6: از ابتدای سال مالی تا پایان ماه | P6: از ابتدای سال مالی تا پایان ماه | Q6: از ابتدای سال مالی تا پایان ماه
A7: نام شرکت | C7: تعداد | E7: بهای فروش | G7: ارزش دفتری | I7: سود و زیان ناشی از فروش | K7: تعداد | M7: بهای فروش | O7: ارزش دفتری | Q7: سود و زیان ناشی از فروش
A8: زغال سنگ پروده طبس | C8: 0 | E8: 0 | G8: 0 | I8: =+E8-G8 -> 0 | K8: 150000 | M8: 579733748 | O8: 611883296 | Q8: =+M8-O8 -> -32149548
A9: کیمیا کالای رازی | C9: 0 | E9: 0 | G9: 0 | I9: =+E9-G9 -> 0 | K9: 15000 | M9: 540291023 | O9: 459460232 | Q9: =+M9-O9 -> 80830791
A10: تولید نیروی برق سبز منجیل | C10: 25000 | E10: 670526453 | G10: 490543567 | I10: =+E10-G10 -> 179982886 | K10: 25000 | M10: 670526453 | O10: 490543567 | Q10: =+M10-O10 -> 179982886
A11: سرمایه گذاری دارویی تامین | C11: 1 | E11: 1 | G11: 20468 | I11: =+E11-G11 -> -20467 | K11: 1 | M11: 1 | O11: 20468 | Q11: =+M11-O11 -> -20467
A12: توسعه ساختمان سپهر تهران | C12: 0 | E12: 0 | G12: 0 | I12: =+E12-G12 -> 0 | K12: 400000 | M12: 1625338287 | O12: 1642363574 | Q12: =+M12-O12 -> -17025287
A13: ملی صنایع مس ایران | C13: 1 | E13: 1 | G13: 8562 | I13: =+E13-G13 -> -8561 | K13: 37835072 | M13: 628272745179 | O13: 440775483026 | Q13: =+M13-O13 -> 187497262153
A14: مجتمع کاشی و سنگ پرسپولیس یزد | C14: 0 | E14: 0 | G14: 0 | I14: =+E14-G14 -> 0 | K14: 2563000 | M14: 18289859616 | O14: 16403937632 | Q14: =+M14-O14 -> 1885921984
A15: گروه مالی صبا تامین | C15: 0 | E15: 0 | G15: 0 | I15: =+E15-G15 -> 0 | K15: 2000000 | M15: 6673611158 | O15: 8170896600 | Q15: =+M15-O15 -> -1497285442
A16: سرمایه‌گذاری‌غدیر(هلدینگ‌ | C16: 0 | E16: 0 | G16: 0 | I16: =+E16-G16 -> 0 | K16: 3700000 | M16: 53149921593 | O16: 52133865794 | Q16: =+M16-O16 -> 1016055799
A17: بانک اقتصادنوین | C17: 1 | E17: 1 | G17: 2076 | I17: =+E17-G17 -> -2075 | K17: 650001 | M17: 1267376859 | O17: 1352767381 | Q17: =+M17-O17 -> -85390522
A18: کشت و صنعت شیفته آرای شرق | C18: 0 | E18: 0 | G18: 0 | I18: =+E18-G18 -> 0 | K18: 60000 | M18: 580630128 | O18: 572710252 | Q18: =+M18-O18 -> 7919876
A19: توسعه معدنی و صنعتی صبانور | C19: 0 | E19: 0 | G19: 0 | I19: =+E19-G19 -> 0 | K19: 13128316 | M19: 44978965656 | O19: 43340277108 | Q19: =+M19-O19 -> 1638688548
... A56: سرمایه گذاری صنعت نفت | C56: 0 | E56: 0 | G56: 0 | I56: =+E56-G56 -> 0 | K56: 300000 | M56: 2680740816 | O56: 1777723211 | Q56: =+M56-O56 -> 903017605
A57: اختیارخ فملی-8000-1404/11/01 | C57: - | E57: 0 | G57: 0 | I57: =+E57-G57 -> 0 | K57: - | M57: 0 | O57: 0 | Q57: 4137011912
A58: اختیارخ فملی-9000-1404/11/01 | C58: - | E58: 0 | G58: 0 | I58: =+E58-G58 -> 0 | K58: - | M58: 0 | O58: 0 | Q58: 3492223618
A59: اختیارخ فولاد-2400-1404/11/08 | C59: - | E59: 0 | G59: 0 | I59: =+E59-G59 -> 0 | K59: - | M59: 0 | O59: 0 | Q59: 101159
A60: اختیارخ فملی-14000-1405/01/11 | C60: - | E60: 0 | G60: 0 | I60: =+E60-G60 -> 0 | K60: - | M60: 0 | O60: 0 | Q60: -2428469646
E61: =SUM(E8:E60) -> 389428806562 | G61: =SUM(G8:G60) -> 219254308040 | I61: =SUM(I8:I60) -> 170174498522 | M61: =SUM(M8:M60) -> 3157204634313 | O61: =SUM(O8:O60) -> 2796812569376 | Q61: =SUM(Q8:Q60) -> 365592931980

Sheet درآمد ناشی از تغییر قیمت اوراق
A2: صندوق سرمایه‌گذاری بخشی صنایع مفید - استیل | B2: صندوق سرمایه‌گذاری بخشی صنایع مفید | C2: صندوق سرمایه‌گذاری بخشی صنایع مفید | D2: صندوق سرمایه‌گذاری بخشی صنایع مفید | E2: صندوق سرمایه‌گذاری بخشی صنایع مفید | F2: صندوق سرمایه‌گذاری بخشی صنایع مفید | G2: صندوق سرمایه‌گذاری بخشی صنایع مفید | H2: صندوق سرمایه‌گذاری بخشی صنایع مفید | I2: صندوق سرمایه‌گذاری بخشی صنایع مفید | J2: صندوق سرمایه‌گذاری بخشی صنایع مفید | K2: صندوق سرمایه‌گذاری بخشی صنایع مفید | L2: صندوق سرمایه‌گذاری بخشی صنایع مفید | M2: صندوق سرمایه‌گذاری بخشی صنایع مفید | N2: صندوق سرمایه‌گذاری بخشی صنایع مفید | O2: صندوق سرمایه‌گذاری بخشی صنایع مفید | P2: صندوق سرمایه‌گذاری بخشی صنایع مفید | Q2: صندوق سرمایه‌گذاری بخشی صنایع مفید
A3: صورت وضعیت درآمدها | B3: صورت وضعیت درآمدها | C3: صورت وضعیت درآمدها | D3: صورت وضعیت درآمدها | E3: صورت وضعیت درآمدها | F3: صورت وضعیت درآمدها | G3: صورت وضعیت درآمدها | H3: صورت وضعیت درآمدها | I3: صورت وضعیت درآمدها | J3: صورت وضعیت درآمدها | K3: صورت وضعیت درآمدها | L3: صورت وضعیت درآمدها | M3: صورت وضعیت درآمدها | N3: صورت وضعیت درآمدها | O3: صورت وضعیت درآمدها | P3: صورت وضعیت درآمدها | Q3: صورت وضعیت درآمدها
A4: =+سپرده!A4 -> برای ماه منتهی به 1405/06/31 | B4: برای ماه منتهی به 1403/11/30 | C4: برای ماه منتهی به 1403/11/30 | D4: برای ماه منتهی به 1403/11/30 | E4: برای ماه منتهی به 1403/11/30 | F4: برای ماه منتهی به 1403/11/30 | G4: برای ماه منتهی به 1403/11/30 | H4: برای ماه منتهی به 1403/11/30 | I4: برای ماه منتهی به 1403/11/30 | J4: برای ماه منتهی به 1403/11/30 | K4: برای ماه منتهی به 1403/11/30 | L4: برای ماه منتهی به 1403/11/30 | M4: برای ماه منتهی به 1403/11/30 | N4: برای ماه منتهی به 1403/11/30 | O4: برای ماه منتهی به 1403/11/30 | P4: برای ماه منتهی به 1403/11/30 | Q4: برای ماه منتهی به 1403/11/30
A6: نام شرکت | C6: طی ماه | D6: طی ماه | E6: طی ماه | F6: طی ماه | G6: طی ماه | H6: طی ماه | I6: طی ماه | K6: از ابتدای سال مالی تا پایان ماه | L6: از ابتدای سال مالی تا پایان ماه | M6: از ابتدای سال مالی تا پایان ماه | N6: از ابتدای سال مالی تا پایان ماه | O6: از ابتدای سال مالی تا پایان ماه | P6: از ابتدای سال مالی تا پایان ماه | Q6: از ابتدای سال مالی تا پایان ماه
A7: نام شرکت | C7: تعداد | E7: بهای فروش | G7: ارزش دفتری | I7: سود و زیان ناشی از تغییر قیمت | K7: تعداد | M7: بهای فروش | O7: ارزش دفتری | Q7: سود و زیان ناشی از تغییر قیمت
A8: فولاد خراسان | C8: 95000000 | E8: 305420706000 | G8: 244807893050 | I8: =+E8-G8 -> 60612812950 | K8: 95000000 | M8: 305420706000 | O8: 204810106677 | Q8: =+M8-O8 -> 100610599323
A9: صنایع فولاد آلیاژی یزد | C9: 10000000 | E9: 47132825000 | G9: 41736588345 | I9: =+E9-G9 -> 5396236655 | K9: 10000000 | M9: 47132825000 | O9: 41736588345 | Q9: =+M9-O9 -> 5396236655
A10: تکادو | C10: 1000000 | E10: 4296529100 | G10: 3482867700 | I10: =+E10-G10 -> 813661400 | K10: 1000000 | M10: 4296529100 | O10: 2278002161 | Q10: =+M10-O10 -> 2018526939
A11: فولاد امیرکبیرکاشان | C11: 10075939 | E11: 67286889903 | G11: 54089461274 | I11: =+E11-G11 -> 13197428629 | K11: 10075939 | M11: 67286889903 | O11: 27774588432 | Q11: =+M11-O11 -> 39512301471
A12: صبا فولاد خلیج فارس | C12: 48573677 | E12: 182189205363 | G12: 177077436400 | I12: =+E12-G12 -> 5111768963 | K12: 48573677 | M12: 182189205363 | O12: 177077436400 | Q12: =+M12-O12 -> 5111768963
A13: شرکت آهن و فولاد ارفع | C13: 30100000 | E13: 434868281120 | G13: 346090182661 | I13: =+E13-G13 -> 88778098459 | K13: 30100000 | M13: 434868281120 | O13: 145267136118 | Q13: =+M13-O13 -> 289601145002
A14: فروسیلیس ایران | C14: 530563 | E14: 2269050134 | G14: 1524106760 | I14: =+E14-G14 -> 744943374 | K14: 530563 | M14: 2269050134 | O14: 1269286978 | Q14: =+M14-O14 -> 999763156
A15: سرمایه‌گذاری‌توکافولاد(هلدینگ | C15: 60000000 | E15: 208972062000 | G15: 181953160185 | I15: =+E15-G15 -> 27018901815 | K15: 60000000 | M15: 208972062000 | O15: 203115237992 | Q15: =+M15-O15 -> 5856824008
A16: آهن و فولاد غدیر ایرانیان | C16: 28500000 | E16: 206441773500 | G16: 127388793388 | I16: =+E16-G16 -> 79052980112 | K16: 28500000 | M16: 206441773500 | O16: 143558830054 | Q16: =+M16-O16 -> 62882943446
A17: فولاد سیرجان ایرانیان | C17: 67647058 | E17: 416169706698 | G17: 351730526306 | I17: =+E17-G17 -> 64439180392 | K17: 67647058 | M17: 416169706698 | O17: 138763631748 | Q17: =+M17-O17 -> 277406074950
A18: پالایش نفت اصفهان | C18: 15800000 | E18: 194091981080 | G18: 177159885800 | I18: =+E18-G18 -> 16932095280 | K18: 15800000 | M18: 194091981080 | O18: 183946731011 | Q18: =+M18-O18 -> 10145250069
A19: گروه مالی صبا تامین | C19: 202502483 | E19: 1806424877869 | G19: 1475279370712 | I19: =+E19-G19 -> 331145507157 | K19: 202502483 | M19: 1806424877869 | O19: 1164766520185 | Q19: =+M19-O19 -> 641658357684
... A50: پالایش نفت بندرعباس | C50: 8289778 | E50: 120835503856 | G50: 99119661093 | I50: =+E50-G50 -> 21715842763 | K50: 8289778 | M50: 120835503856 | O50: 95665861556 | Q50: =+M50-O50 -> 25169642300
E51: =SUM(E8:E50) -> 22137707891090 | G51: =SUM(G8:G50) -> 18108020393490 | I51: =SUM(I8:I50) -> 4029687497600 | M51: =SUM(M8:M50) -> 22137707891090 | O51: =SUM(O8:O50) -> 12205613353861 | Q51: =SUM(Q8:Q50) -> 9932094537229
