Workbook

Sheet سهام
A2: صندوق سرمایه‌گذاری بخشی صنایع مفید - خودران | B2: صندوق سرمایه‌گذاری بخشی صنایع مفید | C2: صندوق سرمایه‌گذاری بخشی صنایع مفید | D2: صندوق سرمایه‌گذاری بخشی صنایع مفید | E2: صندوق سرمایه‌گذاری بخشی صنایع مفید | F2: صندوق سرمایه‌گذاری بخشی صنایع مفید | G2: صندوق سرمایه‌گذاری بخشی صنایع مفید | H2: صندوق سرمایه‌گذاری بخشی صنایع مفید | I2: صندوق سرمایه‌گذاری بخشی صنایع مفید | J2: صندوق سرمایه‌گذاری بخشی صنایع مفید | K2: صندوق سرمایه‌گذاری بخشی صنایع مفید | L2: صندوق سرمایه‌گذاری بخشی صنایع مفید | M2: صندوق سرمایه‌گذاری بخشی صنایع مفید | N2: صندوق سرمایه‌گذاری بخشی صنایع مفید | O2: صندوق سرمایه‌گذاری بخشی صنایع مفید | P2: صندوق سرمایه‌گذاری بخشی صنایع مفید | Q2: صندوق سرمایه‌گذاری بخشی صنایع مفید | R2: صندوق سرمایه‌گذاری بخشی صنایع مفید | S2: صندوق سرمایه‌گذاری بخشی صنایع مفید | T2: صندوق سرمایه‌گذاری بخشی صنایع مفید | U2: صندوق سرمایه‌گذاری بخشی صنایع مفید | V2: صندوق سرمایه‌گذاری بخشی صنایع مفید | W2: صندوق سرمایه‌گذاری بخشی صنایع مفید | X2: صندوق سرمایه‌گذاری بخشی صنایع مفید | Y2: صندوق سرمایه‌گذاری بخشی صنایع مفید
A3: صورت وضعیت پورتفوی | B3: صورت وضعیت پورتفوی | C3: صورت وضعیت پورتفوی | D3: صورت وضعیت پورتفوی | E3: صورت وضعیت پورتفوی | F3: صورت وضعیت پورتفوی | G3: صورت وضعیت پورتفوی | H3: صورت وضعیت پورتفوی | I3: صورت وضعیت پورتفوی | J3: صورت وضعیت پورتفوی | K3: صورت وضعیت پورتفوی | L3: صورت وضعیت پورتفوی | M3: صورت وضعیت پورتفوی | N3: صورت وضعیت پورتفوی | O3: صورت وضعیت پورتفوی | P3: صورت وضعیت پورتفوی | Q3: صورت وضعیت پورتفوی | R3: صورت وضعیت پورتفوی | S3: صورت وضعیت پورتفوی | T3: صورت وضعیت پورتفوی | U3: صورت وضعیت پورتفوی | V3: صورت وضعیت پورتفوی | W3: صورت وضعیت پورتفوی | X3: صورت وضعیت پورتفوی | Y3: صورت وضعیت پورتفوی
A4: برای ماه منتهی به 1405/06/31 | B4: برای ماه منتهی به 1403/09/30 | C4: برای ماه منتهی به 1403/09/30 | D4: برای ماه منتهی به 1403/09/30 | E4: برای ماه منتهی به 1403/09/30 | F4: برای ماه منتهی به 1403/09/30 | G4: برای ماه منتهی به 1403/09/30 | H4: برای ماه منتهی به 1403/09/30 | I4: برای ماه منتهی به 1403/09/30 | J4: برای ماه منتهی به 1403/09/30 | K4: برای ماه منتهی به 1403/09/30 | L4: برای ماه منتهی به 1403/09/30 | M4: برای ماه منتهی به 1403/09/30 | N4: برای ماه منتهی به 1403/09/30 | O4: برای ماه منتهی به 1403/09/30 | P4: برای ماه منتهی به 1403/09/30 | Q4: برای ماه منتهی به 1403/09/30 | R4: برای ماه منتهی به 1403/09/30 | S4: برای ماه منتهی به 1403/09/30 | T4: برای ماه منتهی به 1403/09/30 | U4: برای ماه منتهی به 1403/09/30 | V4: برای ماه منتهی به 1403/09/30 | W4: برای ماه منتهی به 1403/09/30 | X4: برای ماه منتهی به 1403/09/30 | Y4: برای ماه منتهی به 1403/09/30
A6: نام شرکت | C6: 1405/05/31 | D6: 1403/08/30 | E6: 1403/08/30 | F6: 1403/08/30 | G6: 1403/08/30 | I6: تغییرات طی دوره | J6: تغییرات طی دوره | K6: تغییرات طی دوره | L6: تغییرات طی دوره | M6: تغییرات طی دوره | N6: تغییرات طی دوره | O6: تغییرات طی دوره | Q6: 1405/06/31 | R6: 1403/09/30 | S6: 1403/09/30 | T6: 1403/09/30 | U6: 1403/09/30 | V6: 1403/09/30 | W6: 1403/09/30 | X6: 1403/09/30 | Y6: 1403/09/30
A7: نام شرکت | C7: تعداد | E7: بهای تمام شده | G7: خالص ارزش فروش | I7: خرید طی دوره | J7: خرید طی دوره | K7: خرید طی دوره | M7: فروش طی دوره | N7: فروش طی دوره | O7: فروش طی دوره | Q7: تعداد | S7: قیمت بازار | U7: بهای تمام شده | W7: خالص ارزش فروش | Y7: درصد به کل دارایی‌های صندوق
A8: نام شرکت | C8: تعداد | E8: بهای تمام شده | G8: خالص ارزش فروش | I8: تعداد | K8: بهای تمام شده | M8: تعداد | O8: مبلغ فروش | Q8: تعداد | S8: قیمت بازار | U8: بهای تمام شده | W8: خالص ارزش فروش | Y8: درصد به کل دارایی‌های صندوق
A9: الکتریک‌ خودرو شرق‌ | C9: 754086 | E9: 1972497811 | G9: 1.8242504e+09 | I9: 0 | K9: 0 | M9: 0 | O9: 0 | Q9: 754086 | S9: 2669 | U9: 1972497811 | W9: 1.9970977e+09 | Y9: 0.00021095152
A10: ایران‌ خودرو | C10: 5816664299 | E10: 2771084740671 | G10: 3.7342909e+12 | I10: 112424988 | K10: 79881417047 | M10: -327208451 | O10: 240103340816 | Q10: 5601880836 | S10: 666 | U10: 2694576438788 | W10: 3.7020131e+12 | Y10: 0.39104011
A11: ایرکا پارت صنعت | C11: 154972884 | E11: 191606558326 | G11: 2.7018258e+11 | I11: 41638824 | K11: 78205587454 | M11: -38163163 | O11: 70276688706 | Q11: 158448545 | S11: 1779 | U11: 222553366962 | W11: 2.7970103e+11 | Y11: 0.029544553
A12: سرمایه‌گذاری‌ سایپا | C12: 57334040 | E12: 360324462807 | G12: 4.5171333e+11 | I12: 9549863 | K12: 79535303159 | M12: -9591663 | O12: 89756347909 | Q12: 57292240 | S12: 9550 | U12: 377347206686 | W12: 5.4291149e+11 | Y12: 0.057347223
A13: پارس فنر | C13: 246287 | E13: 821931818 | G13: 1.3612144e+09 | I13: 0 | K13: 0 | M13: 0 | O13: 0 | Q13: 246287 | S13: 7050 | U13: 821931818 | W13: 1.7229016e+09 | Y13: 0.00018198845
A14: ایران خودرو دیزل | C14: 852269 | E14: 942881622 | G14: 1.2143979e+09 | I14: 54002869 | K14: 89392058515 | M14: 0 | O14: 0 | Q14: 54855138 | S14: 1461 | U14: 90334940137 | W14: 7.9523848e+10 | Y14: 0.0084000282
A15: سایپا | C15: 2469160943 | E15: 1177319235374 | G15: 1.5778479e+12 | I15: 87616008 | K15: 59927878955 | M15: -183324517 | O15: 135197622103 | Q15: 2373452434 | S15: 695 | U15: 1149299924470 | W15: 1.6367984e+12 | Y15: 0.17289346
A16: سرمایه‌گذاری‌ رنا(هلدینگ‌ | C16: 61742689 | E16: 284069202846 | G16: 4.0802768e+11 | I16: 10279490 | K16: 69354468651 | M16: -8468036 | O16: 64929643449 | Q16: 63554143 | S16: 7580 | U16: 311869744433 | W16: 4.7801655e+11 | Y16: 0.050492432
A17: قطعات‌ اتومبیل‌ ایران‌ | C17: 532785 | E17: 2273007937 | G17: 2.7067728e+09 | I17: 0 | K17: 0 | M17: 0 | O17: 0 | Q17: 532785 | S17: 5080 | U17: 2273007937 | W17: 2.6856262e+09 | Y17: 0.00028368013
A18: گروه‌بهمن‌ | C18: 365656023 | E18: 680475596339 | G18: 8.8929511e+11 | I18: 11262458 | K18: 29914130403 | M18: -71331410 | O18: 191788666460 | Q18: 305587071 | S18: 2501 | U18: 576663132565 | W18: 7.5836543e+11 | Y18: 0.080105417
A19: گسترش‌سرمایه‌گذاری‌ایران‌خودرو | C19: 1546598 | E19: 5014216667 | G19: 5.6474855e+09 | I19: 0 | K19: 0 | M19: 0 | O19: 0 | Q19: 1546598 | S19: 3850 | U19: 5014216667 | W19: 5.9083748e+09 | Y19: 0.00062409599
A20: پتروشیمی پارس | C20: 1 | E20: 3394 | G20: 2301.0741 | I20: 0 | K20: 0 | M20: -1 | O20: 1 | Q20: 0 | S20: 0 | U20: 0 | W20: 0 | Y20: 0
... A51: اختیارخ خودرو-550-1405/06/04 | C51: 0 | E51: 0 | G51: 0 | I51: 0 | K51: 0 | M51: 0 | O51: 0 | Q51: 0 | S51: 0 | U51: 0 | W51: 0 | Y51: 0
E52: =SUM(E9:E51) -> 6824022266597 | G52: =SUM(G9:G51) -> 8.836951e+12 | K52: =SUM(K9:K51) -> 1108762878518 | O52: =SUM(O9:O51) -> 1465941967598 | U52: =SUM(U9:U51) -> 6869218751979 | W52: =SUM(W9:W51) -> 9.1114141e+12 | Y52: =SUM(Y9:Y51) -> 0.96242998

Sheet سپرده
A2: =+سهام!A2 -> صندوق سرمایه‌گذاری بخشی صنایع مفید - خودران | B2: صندوق سرمایه‌گذاری بخشی صنایع مفید | C2: صندوق سرمایه‌گذاری بخشی صنایع مفید | D2: صندوق سرمایه‌گذاری بخشی صنایع مفید | E2: صندوق سرمایه‌گذاری بخشی صنایع مفید | F2: صندوق سرمایه‌گذاری بخشی صنایع مفید | G2: صندوق سرمایه‌گذاری بخشی صنایع مفید | H2: صندوق سرمایه‌گذاری بخشی صنایع مفید | I2: صندوق سرمایه‌گذاری بخشی صنایع مفید | J2: صندوق سرمایه‌گذاری بخشی صنایع مفید | K2: صندوق سرمایه‌گذاری بخشی صنایع مفید
A3: صورت وضعیت پورتفوی | B3: صورت وضعیت پورتفوی | C3: صورت وضعیت پورتفوی | D3: صورت وضعیت پورتفوی | E3: صورت وضعیت پورتفوی | F3: صورت وضعیت پورتفوی | G3: صورت وضعیت پورتفوی | H3: صورت وضعیت پورتفوی | I3: صورت وضعیت پورتفوی | J3: صورت وضعیت پورتفوی | K3: صورت وضعیت پورتفوی
A4: =+سهام!A4 -> برای ماه منتهی به 1405/06/31 | B4: برای ماه منتهی به 1403/08/30 | C4: برای ماه منتهی به 1403/08/30 | D4: برای ماه منتهی به 1403/08/30 | E4: برای ماه منتهی به 1403/08/30 | F4: برای ماه منتهی به 1403/08/30 | G4: برای ماه منتهی به 1403/08/30 | H4: برای ماه منتهی به 1403/08/30 | I4: برای ماه منتهی به 1403/08/30 | J4: برای ماه منتهی به 1403/08/30 | K4: برای ماه منتهی به 1403/08/30
A6: سپرده | C6: =+سهام!C6 -> 1405/05/31 | E6: تغییرات طی دوره | F6: تغییرات طی دوره | G6: تغییرات طی دوره | I6: =+سهام!Q6 -> 1405/06/31 | J6: 1403/08/30 | K6: 1403/08/30
A7: سپرده | C7: مبلغ | E7: افزایش | G7: کاهش | I7: مبلغ | K7: درصد به کل دارایی‌ها
A8: بانک خاورمیانه آفریقا | C8: 42345467526 | E8: 633741628723 | G8: 594676395828 | I8: =+C8+E8-G8 -> 81410700421 | K8: 0.0085993346
A9: بانک ملت مستقل مرکزی | C9: 845822 | E9: 3576 | G9: 0 | I9: =+C9+E9-G9 -> 849398 | K9: 8.97211e-08
A10: بانک پاسارگاد هفت تیر | C10: 27951 | E10: 0 | G10: 0 | I10: =+C10+E10-G10 -> 27951 | K10: 2.9524374e-09
C11: =SUM(C8:C10) -> 42346341299 | E11: =SUM(E8:E10) -> 633741632299 | G11: =SUM(G8:G10) -> 594676395828 | I11: =SUM(I8:I10) -> 81411577770 | K11: =SUM(K8:K10) -> 0.0085994272

Sheet درآمدها
A2: =+سهام!A2 -> صندوق سرمایه‌گذاری بخشی صنایع مفید - خودران | B2: صندوق سرمایه‌گذاری بخشی صنایع مفید | C2: صندوق سرمایه‌گذاری بخشی صنایع مفید | D2: صندوق سرمایه‌گذاری بخشی صنایع مفید | E2: صندوق سرمایه‌گذاری بخشی صنایع مفید | F2: صندوق سرمایه‌گذاری بخشی صنایع مفید | G2: صندوق سرمایه‌گذاری بخشی صنایع مفید
A3: صورت وضعیت درآمدها | B3: صورت وضعیت درآمدها | C3: صورت وضعیت درآمدها | D3: صورت وضعیت درآمدها | E3: صورت وضعیت درآمدها | F3: صورت وضعیت درآمدها | G3: صورت وضعیت درآمدها
A4: =+سهام!A4 -> برای ماه منتهی به 1405/06/31 | B4: برای ماه منتهی به 1403/09/30 | C4: برای ماه منتهی به 1403/09/30 | D4: برای ماه منتهی به 1403/09/30 | E4: برای ماه منتهی به 1403/09/30 | F4: برای ماه منتهی به 1403/09/30 | G4: برای ماه منتهی به 1403/09/30
A6: توضیحات | C6: مبلغ | E6: درصد از کل درآمدها | G6: درصد به کل دارایی‌های صندوق
A7: سرمایه‌گذاری در سهام | C7: =+'درآمد سرمایه‌گذاری در سهام'!I84 -> 646089209612 | E7: =+C7/$C$10 -> 0.9996207 | G7: 0.068245786
A8: درآمد سپرده بانکی | C8: =+'درآمد سپرده بانکی'!C10 -> 240870865 | E8: =+C8/$C$10 -> 0.00037267222 | G8: 2.544296e-05
A9: سایر درآمدها | C9: =+'سایر درآمدها'!C9 -> 4283952 | E9: =+C9/$C$10 -> 6.628074e-06 | G9: 4.5250976e-07
C10: =SUM(C7:C9) -> 646334364429 | E10: =SUM(E7:E8) -> 0.99999337 | F10: =SUM(F7:F8) -> 0 | G10: =SUM(G7:G9) -> 0.068271682

Sheet سایر درآمدها
A2: =+سهام!A2 -> صندوق سرمایه‌گذاری بخشی صنایع مفید - خودران | B2: صندوق سرمایه‌گذاری بخشی صنایع مفید | C2: صندوق سرمایه‌گذاری بخشی صنایع مفید | D2: صندوق سرمایه‌گذاری بخشی صنایع مفید | E2: صندوق سرمایه‌گذاری بخشی صنایع مفید
A3: صورت وضعیت درآمدها | B3: صورت وضعیت درآمدها | C3: صورت وضعیت درآمدها | D3: صورت وضعیت درآمدها | E3: صورت وضعیت درآمدها
A4: =+سهام!A4 -> برای ماه منتهی به 1405/06/31 | B4: برای ماه منتهی به 1403/09/30 | C4: برای ماه منتهی به 1403/09/30 | D4: برای ماه منتهی به 1403/09/30 | E4: برای ماه منتهی به 1403/09/30
E5: از ابتدای سال مالی
A6: سایر درآمدها | C6: طی ماه | E6: تا پایان ماه
A7: سایر درآمدها | C7: مبلغ | E7: مبلغ
A8: سایر درآمدها | C8: 4283952 | E8: 679782955
C9: =SUM(C8:C8) -> 4283952 | E9: =SUM(E8:E8) -> 679782955

Sheet درآمد سرمایه‌گذاری در سهام
A2: صندوق سرمایه‌گذاری بخشی صنایع مفید - خودران | B2: صندوق سرمایه‌گذاری بخشی صنایع مفید | C2: صندوق سرمایه‌گذاری بخشی صنایع مفید | D2: صندوق سرمایه‌گذاری بخشی صنایع مفید | E2: صندوق سرمایه‌گذاری بخشی صنایع مفید | F2: صندوق سرمایه‌گذاری بخشی صنایع مفید | G2: صندوق سرمایه‌گذاری بخشی صنایع مفید | H2: صندوق سرمایه‌گذاری بخشی صنایع مفید | I2: صندوق سرمایه‌گذاری بخشی صنایع مفید | J2: صندوق سرمایه‌گذاری بخشی صنایع مفید | K2: صندوق سرمایه‌گذاری بخشی صنایع مفید | L2: صندوق سرمایه‌گذاری بخشی صنایع مفید | M2: صندوق سرمایه‌گذاری بخشی صنایع مفید | N2: صندوق سرمایه‌گذاری بخشی صنایع مفید | O2: صندوق سرمایه‌گذاری بخشی صنایع مفید | P2: صندوق سرمایه‌گذاری بخشی صنایع مفید | Q2: صندوق سرمایه‌گذاری بخشی صنایع مفید | R2: صندوق سرمایه‌گذاری بخشی صنایع مفید | S2: صندوق سرمایه‌گذاری بخشی صنایع مفید | T2: صندوق سرمایه‌گذاری بخشی صنایع مفید | U2: صندوق سرمایه‌گذاری بخشی صنایع مفید
A3: صورت وضعیت درآمدها | B3: صورت وضعیت درآمدها | C3: صورت وضعیت درآمدها | D3: صورت وضعیت درآمدها | E3: صورت وضعیت درآمدها | F3: صورت وضعیت درآمدها | G3: صورت وضعیت درآمدها | H3: صورت وضعیت درآمدها | I3: صورت وضعیت درآمدها | J3: صورت وضعیت درآمدها | K3: صورت وضعیت درآمدها | L3: صورت وضعیت درآمدها | M3: صورت وضعیت درآمدها | N3: صورت وضعیت درآمدها | O3: صورت وضعیت درآمدها | P3: صورت وضعیت درآمدها | Q3: صورت وضعیت درآمدها | R3: صورت وضعیت درآمدها | S3: صورت وضعیت درآمدها | T3: صورت وضعیت درآمدها | U3: صورت وضعیت درآمدها
A4: =+سهام!A4 -> برای ماه منتهی به 1405/06/31 | B4: برای ماه منتهی به 1403/09/30 | C4: برای ماه منتهی به 1403/09/30 | D4: برای ماه منتهی به 1403/09/30 | E4: برای ماه منتهی به 1403/09/30 | F4: برای ماه منتهی به 1403/09/30 | G4: برای ماه منتهی به 1403/09/30 | H4: برای ماه منتهی به 1403/09/30 | I4: برای ماه منتهی به 1403/09/30 | J4: برای ماه منتهی به 1403/09/30 | K4: برای ماه منتهی به 1403/09/30 | L4: برای ماه منتهی به 1403/09/30 | M4: برای ماه منتهی به 1403/09/30 | N4: برای ماه منتهی به 1403/09/30 | O4: برای ماه منتهی به 1403/09/30 | P4: برای ماه منتهی به 1403/09/30 | Q4: برای ماه منتهی به 1403/09/30 | R4: برای ماه منتهی به 1403/09/30 | S4: برای ماه منتهی به 1403/09/30 | T4: برای ماه منتهی به 1403/09/30 | U4: برای ماه منتهی به 1403/09/30
A6: نام شرکت | C6: طی ماه | D6: طی ماه | E6: طی ماه | F6: طی ماه | G6: طی ماه | H6: طی ماه | I6: طی ماه | J6: طی ماه | K6: طی ماه | M6: از ابتدای سال مالی تا پایان ماه | N6: از ابتدای سال مالی تا پایان ماه | O6: از ابتدای سال مالی تا پایان ماه | P6: از ابتدای سال مالی تا پایان ماه | Q6: از ابتدای سال مالی تا پایان ماه | R6: از ابتدای سال مالی تا پایان ماه | S6: از ابتدای سال مالی تا پایان ماه | T6: از ابتدای سال مالی تا پایان ماه | U6: از ابتدای سال مالی تا پایان ماه
A7: نام شرکت | C7: درآمد سود سهام | E7: درآمد تغییر ارزش | G7: درآمد فروش | I7: مبلغ | K7: درصد از کل درآمدها | M7: درآمد سود سهام | O7: درآمد تغییر ارزش | Q7: درآمد فروش | S7: مبلغ | U7: درصد از کل درآمدها
A8: سرمایه‌گذاری‌ رنا(هلدینگ‌ | C8: =IFERROR(VLOOKUP(A8,'درآمد سود سهام'!A:S,13,0),0) -> 0 | E8: =IFERROR(VLOOKUP(A8,'درآمد ناشی از تغییر قیمت اوراق'!A:Q,9,0),0) -> 45656981362 | G8: =IFERROR(VLOOKUP(A8,'درآمد ناشی از فروش'!A:Q,9,0),0) -> 19907060080 | I8: =+G8+E8+C8 -> 65564041442 | K8: =+I8/$I$84 -> 0.10147831 | M8: =IFERROR(VLOOKUP(A8,'درآمد سود سهام'!A:S,19,0),0) -> 607902080 | O8: =IFERROR(VLOOKUP(A8,'درآمد ناشی از تغییر قیمت اوراق'!A:Q,17,0),0) -> 140113912778 | Q8: =IFERROR(VLOOKUP(A8,'درآمد ناشی از فروش'!A:Q,17,0),0) -> 27852755906 | S8: =+Q8+O8+M8 -> 168574570764 | U8: =+S8/$S$84 -> 0.084148599
A9: ایمن خودرو شرق | C9: =IFERROR(VLOOKUP(A9,'درآمد سود سهام'!A:S,13,0),0) -> 0 | E9: =IFERROR(VLOOKUP(A9,'درآمد ناشی از تغییر قیمت اوراق'!A:Q,9,0),0) -> 0 | G9: =IFERROR(VLOOKUP(A9,'درآمد ناشی از فروش'!A:Q,9,0),0) -> 13216998014 | I9: =+G9+E9+C9 -> 13216998014 | K9: =+I9/$I$84 -> 0.020456924 | M9: =IFERROR(VLOOKUP(A9,'درآمد سود سهام'!A:S,19,0),0) -> 9978844294 | O9: =IFERROR(VLOOKUP(A9,'درآمد ناشی از تغییر قیمت اوراق'!A:Q,17,0),0) -> 0 | Q9: =IFERROR(VLOOKUP(A9,'درآمد ناشی از فروش'!A:Q,17,0),0) -> 14089349659 | S9: =+Q9+O9+M9 -> 24068193953 | U9: =+S9/$S$84 -> 0.012014296
A10: الکتریک‌ خودرو شرق‌ | C10: =IFERROR(VLOOKUP(A10,'درآمد سود سهام'!A:S,13,0),0) -> 0 | E10: =IFERROR(VLOOKUP(A10,'درآمد ناشی از تغییر قیمت اوراق'!A:Q,9,0),0) -> 172847347 | G10: =IFERROR(VLOOKUP(A10,'درآمد ناشی از فروش'!A:Q,9,0),0) -> 0 | I10: =+G10+E10+C10 -> 172847347 | K10: =+I10/$I$84 -> 0.00026752861 | M10: =IFERROR(VLOOKUP(A10,'درآمد سود سهام'!A:S,19,0),0) -> 540844547 | O10: =IFERROR(VLOOKUP(A10,'درآمد ناشی از تغییر قیمت اوراق'!A:Q,17,0),0) -> 298315649 | Q10: =IFERROR(VLOOKUP(A10,'درآمد ناشی از فروش'!A:Q,17,0),0) -> -7519078001 | S10: =+Q10+O10+M10 -> -6679917805 | U10: =+S10/$S$84 -> -0.0033344633
A11: ایرکا پارت صنعت | C11: =IFERROR(VLOOKUP(A11,'درآمد سود سهام'!A:S,13,0),0) -> 0 | E11: =IFERROR(VLOOKUP(A11,'درآمد ناشی از تغییر قیمت اوراق'!A:Q,9,0),0) -> -18644556410 | G11: =IFERROR(VLOOKUP(A11,'درآمد ناشی از فروش'!A:Q,9,0),0) -> 20234111198 | I11: =+G11+E11+C11 -> 1589554788 | K11: =+I11/$I$84 -> 0.0024602714 | M11: =IFERROR(VLOOKUP(A11,'درآمد سود سهام'!A:S,19,0),0) -> 8151892400 | O11: =IFERROR(VLOOKUP(A11,'درآمد ناشی از تغییر قیمت اوراق'!A:Q,17,0),0) -> 50553547779 | Q11: =IFERROR(VLOOKUP(A11,'درآمد ناشی از فروش'!A:Q,17,0),0) -> 23490782695 | S11: =+Q11+O11+M11 -> 82196222874 | U11: =+S11/$S$84 -> 0.041030488
A12: فنرسازی زر | C12: =IFERROR(VLOOKUP(A12,'درآمد سود سهام'!A:S,13,0),0) -> 0 | E12: =IFERROR(VLOOKUP(A12,'درآمد ناشی از تغییر قیمت اوراق'!A:Q,9,0),0) -> 236595824 | G12: =IFERROR(VLOOKUP(A12,'درآمد ناشی از فروش'!A:Q,9,0),0) -> 0 | I12: =+G12+E12+C12 -> 236595824 | K12: =+I12/$I$84 -> 0.00036619684 | M12: =IFERROR(VLOOKUP(A12,'درآمد سود سهام'!A:S,19,0),0) -> 1103403998 | O12: =IFERROR(VLOOKUP(A12,'درآمد ناشی از تغییر قیمت اوراق'!A:Q,17,0),0) -> 505400708 | Q12: =IFERROR(VLOOKUP(A12,'درآمد ناشی از فروش'!A:Q,17,0),0) -> 4780255523 | S12: =+Q12+O12+M12 -> 6389060229 | U12: =+S12/$S$84 -> 0.0031892738
A13: قطعات‌ اتومبیل‌ ایران‌ | C13: =IFERROR(VLOOKUP(A13,'درآمد سود سهام'!A:S,13,0),0) -> 0 | E13: =IFERROR(VLOOKUP(A13,'درآمد ناشی از تغییر قیمت اوراق'!A:Q,9,0),0) -> -21146662 | G13: =IFERROR(VLOOKUP(A13,'درآمد ناشی از فروش'!A:Q,9,0),0) -> 0 | I13: =+G13+E13+C13 -> -21146662 | K13: =+I13/$I$84 -> -3.2730251e-05 | M13: =IFERROR(VLOOKUP(A13,'درآمد سود سهام'!A:S,19,0),0) -> 45321343 | O13: =IFERROR(VLOOKUP(A13,'درآمد ناشی از تغییر قیمت اوراق'!A:Q,17,0),0) -> 444079924 | Q13: =IFERROR(VLOOKUP(A13,'درآمد ناشی از فروش'!A:Q,17,0),0) -> -6290376468 | S13: =+Q13+O13+M13 -> -5800975201 | U13: =+S13/$S$84 -> -0.0028957151
A14: تولیدی برنا باطری | C14: =IFERROR(VLOOKUP(A14,'درآمد سود سهام'!A:S,13,0),0) -> 0 | E14: =IFERROR(VLOOKUP(A14,'درآمد ناشی از تغییر قیمت اوراق'!A:Q,9,0),0) -> 24475080230 | G14: =IFERROR(VLOOKUP(A14,'درآمد ناشی از فروش'!A:Q,9,0),0) -> 10497932799 | I14: =+G14+E14+C14 -> 34973013029 | K14: =+I14/$I$84 -> 0.054130316 | M14: =IFERROR(VLOOKUP(A14,'درآمد سود سهام'!A:S,19,0),0) -> 11065404800 | O14: =IFERROR(VLOOKUP(A14,'درآمد ناشی از تغییر قیمت اوراق'!A:Q,17,0),0) -> 34445275350 | Q14: =IFERROR(VLOOKUP(A14,'درآمد ناشی از فروش'!A:Q,17,0),0) -> 20814955117 | S14: =+Q14+O14+M14 -> 66325635267 | U14: =+S14/$S$84 -> 0.033108251
A15: سرمایه گذاری مهر | C15: =IFERROR(VLOOKUP(A15,'درآمد سود سهام'!A:S,13,0),0) -> 0 | E15: =IFERROR(VLOOKUP(A15,'درآمد ناشی از تغییر قیمت اوراق'!A:Q,9,0),0) -> 0 | G15: =IFERROR(VLOOKUP(A15,'درآمد ناشی از فروش'!A:Q,9,0),0) -> 0 | I15: =+G15+E15+C15 -> 0 | K15: =+I15/$I$84 -> 0 | M15: =IFERROR(VLOOKUP(A15,'درآمد سود سهام'!A:S,19,0),0) -> 0 | O15: =IFERROR(VLOOKUP(A15,'درآمد ناشی از تغییر قیمت اوراق'!A:Q,17,0),0) -> 0 | Q15: =IFERROR(VLOOKUP(A15,'درآمد ناشی از فروش'!A:Q,17,0),0) -> 58249491 | S15: =+Q15+O15+M15 -> 58249491 | U15: =+S15/$S$84 -> 2.9076823e-05
A16: لنت ترمزایران | C16: =IFERROR(VLOOKUP(A16,'درآمد سود سهام'!A:S,13,0),0) -> 0 | E16: =IFERROR(VLOOKUP(A16,'درآمد ناشی از تغییر قیمت اوراق'!A:Q,9,0),0) -> 0 | G16: =IFERROR(VLOOKUP(A16,'درآمد ناشی از فروش'!A:Q,9,0),0) -> 0 | I16: =+G16+E16+C16 -> 0 | K16: =+I16/$I$84 -> 0 | M16: =IFERROR(VLOOKUP(A16,'درآمد سود سهام'!A:S,19,0),0) -> 0 | O16: =IFERROR(VLOOKUP(A16,'درآمد ناشی از تغییر قیمت اوراق'!A:Q,17,0),0) -> 0 | Q16: =IFERROR(VLOOKUP(A16,'درآمد ناشی از فروش'!A:Q,17,0),0) -> 3277108001 | S16: =+Q16+O16+M16 -> 3277108001 | U16: =+S16/$S$84 -> 0.0016358579
A17: ایران‌ خودرو | C17: =IFERROR(VLOOKUP(A17,'درآمد سود سهام'!A:S,13,0),0) -> 0 | E17: =IFERROR(VLOOKUP(A17,'درآمد ناشی از تغییر قیمت اوراق'!A:Q,9,0),0) -> 80210080444 | G17: =IFERROR(VLOOKUP(A17,'درآمد ناشی از فروش'!A:Q,9,0),0) -> 47734129092 | I17: =+G17+E17+C17 -> 127944209536 | K17: =+I17/$I$84 -> 0.19802871 | M17: =IFERROR(VLOOKUP(A17,'درآمد سود سهام'!A:S,19,0),0) -> 0 | O17: =IFERROR(VLOOKUP(A17,'درآمد ناشی از تغییر قیمت اوراق'!A:Q,17,0),0) -> 404387000799 | Q17: =IFERROR(VLOOKUP(A17,'درآمد ناشی از فروش'!A:Q,17,0),0) -> -39746411739 | S17: =+Q17+O17+M17 -> 364640589060 | U17: =+S17/$S$84 -> 0.1820203
A18: سایپا دیزل | C18: =IFERROR(VLOOKUP(A18,'درآمد سود سهام'!A:S,13,0),0) -> 0 | E18: =IFERROR(VLOOKUP(A18,'درآمد ناشی از تغییر قیمت اوراق'!A:Q,9,0),0) -> 0 | G18: =IFERROR(VLOOKUP(A18,'درآمد ناشی از فروش'!A:Q,9,0),0) -> 0 | I18: =+G18+E18+C18 -> 0 | K18: =+I18/$I$84 -> 0 | M18: =IFERROR(VLOOKUP(A18,'درآمد سود سهام'!A:S,19,0),0) -> 0 | O18: =IFERROR(VLOOKUP(A18,'درآمد ناشی از تغییر قیمت اوراق'!A:Q,17,0),0) -> 0 | Q18: =IFERROR(VLOOKUP(A18,'درآمد ناشی از فروش'!A:Q,17,0),0) -> -13499986939 | S18: =+Q18+O18+M18 -> -13499986939 | U18: =+S18/$S$84 -> -0.006738887
A19: گروه‌بهمن‌ | C19: =IFERROR(VLOOKUP(A19,'درآمد سود سهام'!A:S,13,0),0) -> 0 | E19: =IFERROR(VLOOKUP(A19,'درآمد ناشی از تغییر قیمت اوراق'!A:Q,9,0),0) -> -26113975969 | G19: =IFERROR(VLOOKUP(A19,'درآمد ناشی از فروش'!A:Q,9,0),0) -> 57058835002 | I19: =+G19+E19+C19 -> 30944859033 | K19: =+I19/$I$84 -> 0.047895644 | M19: =IFERROR(VLOOKUP(A19,'درآمد سود سهام'!A:S,19,0),0) -> 102727378000 | O19: =IFERROR(VLOOKUP(A19,'درآمد ناشی از تغییر قیمت اوراق'!A:Q,17,0),0) -> 178552241159 | Q19: =IFERROR(VLOOKUP(A19,'درآمد ناشی از فروش'!A:Q,17,0),0) -> 32179927193 | S19: =+Q19+O19+M19 -> 313459546352 | U19: =+S19/$S$84 -> 0.15647189
... A83: اختیارخ خودرو-750-1404/11/01 | C83: =IFERROR(VLOOKUP(A83,'درآمد سود سهام'!A:S,13,0),0) -> 0 | E83: =IFERROR(VLOOKUP(A83,'درآمد ناشی از تغییر قیمت اوراق'!A:Q,9,0),0) -> 0 | G83: =IFERROR(VLOOKUP(A83,'درآمد ناشی از فروش'!A:Q,9,0),0) -> 0 | I83: =+G83+E83+C83 -> 0 | K83: =+I83/$I$84 -> 0 | M83: =IFERROR(VLOOKUP(A83,'درآمد سود سهام'!A:S,19,0),0) -> 0 | O83: =IFERROR(VLOOKUP(A83,'درآمد ناشی از تغییر قیمت اوراق'!A:Q,17,0),0) -> 0 | Q83: =IFERROR(VLOOKUP(A83,'درآمد ناشی از فروش'!A:Q,17,0),0) -> 840882400 | S83: =+Q83+O83+M83 -> 840882400 | U83: =+S83/$S$84 -> 0.0004197494
C84: =SUM(C8:C83) -> 0 | E84: =SUM(E8:E83) -> 303436442694 | G84: =SUM(G8:G83) -> 342652766918 | I84: =SUM(I8:I83) -> 646089209612 | K84: =SUM(K8:K83) -> 1 | M84: =SUM(M8:M83) -> 264292222096 | O84: =SUM(O8:O83) -> 1437784355798 | Q84: =SUM(Q8:Q83) -> 301219658609 | S84: =SUM(S8:S83) -> 2003296236503 | U84: =SUM(U8:U83) -> 1

Sheet درآمد سود سهام
A2: =+سهام!A2 -> صندوق سرمایه‌گذاری بخشی صنایع مفید - خودران | B2: صندوق سرمایه‌گذاری بخشی صنایع مفید | C2: صندوق سرمایه‌گذاری بخشی صنایع مفید | D2: صندوق سرمایه‌گذاری بخشی صنایع مفید | E2: صندوق سرمایه‌گذاری بخشی صنایع مفید | F2: صندوق سرمایه‌گذاری بخشی صنایع مفید | G2: صندوق سرمایه‌گذاری بخشی صنایع مفید | H2: صندوق سرمایه‌گذاری بخشی صنایع مفید | I2: صندوق سرمایه‌گذاری بخشی صنایع مفید | J2: صندوق سرمایه‌گذاری بخشی صنایع مفید | K2: صندوق سرمایه‌گذاری بخشی صنایع مفید | L2: صندوق سرمایه‌گذاری بخشی صنایع مفید | M2: صندوق سرمایه‌گذاری بخشی صنایع مفید | N2: صندوق سرمایه‌گذاری بخشی صنایع مفید | O2: صندوق سرمایه‌گذاری بخشی صنایع مفید | P2: صندوق سرمایه‌گذاری بخشی صنایع مفید | Q2: صندوق سرمایه‌گذاری بخشی صنایع مفید | R2: صندوق سرمایه‌گذاری بخشی صنایع مفید | S2: صندوق سرمایه‌گذاری بخشی صنایع مفید
A3: صورت وضعیت درآمدها | B3: صورت وضعیت درآمدها | C3: صورت وضعیت درآمدها | D3: صورت وضعیت درآمدها | E3: صورت وضعیت درآمدها | F3: صورت وضعیت درآمدها | G3: صورت وضعیت درآمدها | H3: صورت وضعیت درآمدها | I3: صورت وضعیت درآمدها | J3: صورت وضعیت درآمدها | K3: صورت وضعیت درآمدها | L3: صورت وضعیت درآمدها | M3: صورت وضعیت درآمدها | N3: صورت وضعیت درآمدها | O3: صورت وضعیت درآمدها | P3: صورت وضعیت درآمدها | Q3: صورت وضعیت درآمدها | R3: صورت وضعیت درآمدها | S3: صورت وضعیت درآمدها
A4: =+سهام!A4 -> برای ماه منتهی به 1405/06/31 | B4: برای ماه منتهی به 1403/09/30 | C4: برای ماه منتهی به 1403/09/30 | D4: برای ماه منتهی به 1403/09/30 | E4: برای ماه منتهی به 1403/09/30 | F4: برای ماه منتهی به 1403/09/30 | G4: برای ماه منتهی به 1403/09/30 | H4: برای ماه منتهی به 1403/09/30 | I4: برای ماه منتهی به 1403/09/30 | J4: برای ماه منتهی به 1403/09/30 | K4: برای ماه منتهی به 1403/09/30 | L4: برای ماه منتهی به 1403/09/30 | M4: برای ماه منتهی به 1403/09/30 | N4: برای ماه منتهی به 1403/09/30 | O4: برای ماه منتهی به 1403/09/30 | P4: برای ماه منتهی به 1403/09/30 | Q4: برای ماه منتهی به 1403/09/30 | R4: برای ماه منتهی به 1403/09/30 | S4: برای ماه منتهی به 1403/09/30
A6: نام شرکت | C6: اطلاعات مجمع | D6: اطلاعات مجمع | E6: اطلاعات مجمع | F6: اطلاعات مجمع | G6: اطلاعات مجمع | I6: طی ماه | J6: طی ماه | K6: طی ماه | L6: طی ماه | M6: طی ماه | O6: از ابتدای سال مالی تا پایان ماه | P6: از ابتدای سال مالی تا پایان ماه | Q6: از ابتدای سال مالی تا پایان ماه | R6: از ابتدای سال مالی تا پایان ماه | S6: از ابتدای سال مالی تا پایان ماه
A7: نام شرکت | C7: تاریخ مجمع | E7: تعداد سهام متعلقه در زمان مجمع | G7: سود متعلق به هر سهم | I7: جمع درآمد سود سهام | K7: هزینه تنزیل | M7: خالص درآمد سود سهام | O7: جمع درآمد سود سهام | Q7: هزینه تنزیل | S7: خالص درآمد سود سهام
A8: سرمایه‌گذاری‌بهمن‌ | C8: - | E8: - | G8: 0 | I8: 0 | K8: 0 | M8: 0 | O8: 4611897607 | Q8: 0 | S8: =+Q8+O8 -> 4611897607
A9: ایرکا پارت صنعت | C9: - | E9: - | G9: 0 | I9: 0 | K9: 0 | M9: 0 | O9: 8151892400 | Q9: 0 | S9: =+Q9+O9 -> 8151892400
A10: قطعات‌ اتومبیل‌ ایران‌ | C10: - | E10: - | G10: 0 | I10: 0 | K10: 0 | M10: 0 | O10: 47121780 | Q10: -1800437 | S10: =+Q10+O10 -> 45321343
A11: زامیاد | C11: - | E11: - | G11: 0 | I11: 0 | K11: 0 | M11: 0 | O11: 14692445955 | Q11: -50144867 | S11: =+Q11+O11 -> 14642301088
A12: صنایع ریخته گری ایران | C12: - | E12: - | G12: 0 | I12: 0 | K12: 0 | M12: 0 | O12: 433995840 | Q12: -5864809 | S12: =+Q12+O12 -> 428131031
A13: فنرسازی زر | C13: - | E13: - | G13: 0 | I13: 0 | K13: 0 | M13: 0 | O13: 1140436050 | Q13: -37032052 | S13: =+Q13+O13 -> 1103403998
A14: ریخته‌گری‌ تراکتورسازی‌ ایران‌ | C14: - | E14: - | G14: 0 | I14: 0 | K14: 0 | M14: 0 | O14: 1219811957 | Q14: 0 | S14: =+Q14+O14 -> 1219811957
A15: رینگ‌سازی‌مشهد | C15: - | E15: - | G15: 0 | I15: 0 | K15: 0 | M15: 0 | O15: 149065200 | Q15: -5884153 | S15: =+Q15+O15 -> 143181047
A16: الکتریک‌ خودرو شرق‌ | C16: - | E16: - | G16: 0 | I16: 0 | K16: 0 | M16: 0 | O16: 554180440 | Q16: -13335893 | S16: =+Q16+O16 -> 540844547
A17: سرمایه‌گذاری‌ رنا(هلدینگ‌ | C17: - | E17: - | G17: 0 | I17: 0 | K17: 0 | M17: 0 | O17: 607902080 | Q17: 0 | S17: =+Q17+O17 -> 607902080
A18: رادیاتور ایران‌ | C18: - | E18: - | G18: 0 | I18: 0 | K18: 0 | M18: 0 | O18: 1475412924 | Q18: -50741714 | S18: =+Q18+O18 -> 1424671210
A19: سازه پویش | C19: - | E19: - | G19: 0 | I19: 0 | K19: 0 | M19: 0 | O19: 57071714 | Q19: 0 | S19: =+Q19+O19 -> 57071714
... A32: رهیاب پیام گستران | C32: - | E32: - | G32: 0 | I32: 0 | K32: 0 | M32: 0 | O32: 242190000 | Q32: -8483853 | S32: =+Q32+O32 -> 233706147
I33: =SUM(I8:I32) -> 0 | K33: =SUM(K8:K32) -> 0 | M33: =SUM(M8:M32) -> 0 | O33: =SUM(O8:O32) -> 268178641557 | Q33: =SUM(Q8:Q32) -> -3886419461 | S33: =SUM(S8:S32) -> 264292222096
R35: =+S34-S33 -> -264292222096

Sheet درآمد سپرده بانکی
A2: =+سهام!A2 -> صندوق سرمایه‌گذاری بخشی صنایع مفید - خودران | B2: صندوق سرمایه‌گذاری بخشی صنایع مفید | C2: صندوق سرمایه‌گذاری بخشی صنایع مفید | D2: صندوق سرمایه‌گذاری بخشی صنایع مفید | E2: صندوق سرمایه‌گذاری بخشی صنایع مفید | F2: صندوق سرمایه‌گذاری بخشی صنایع مفید | G2: صندوق سرمایه‌گذاری بخشی صنایع مفید | H2: صندوق سرمایه‌گذاری بخشی صنایع مفید | I2: صندوق سرمایه‌گذاری بخشی صنایع مفید
A3: صورت وضعیت درآمدها | B3: صورت وضعیت درآمدها | C3: صورت وضعیت درآمدها | D3: صورت وضعیت درآمدها | E3: صورت وضعیت درآمدها | F3: صورت وضعیت درآمدها | G3: صورت وضعیت درآمدها | H3: صورت وضعیت درآمدها | I3: صورت وضعیت درآمدها
A4: =+سهام!A4 -> برای ماه منتهی به 1405/06/31 | B4: برای ماه منتهی به 1403/09/30 | C4: برای ماه منتهی به 1403/09/30 | D4: برای ماه منتهی به 1403/09/30 | E4: برای ماه منتهی به 1403/09/30 | F4: برای ماه منتهی به 1403/09/30 | G4: برای ماه منتهی به 1403/09/30 | H4: برای ماه منتهی به 1403/09/30 | I4: برای ماه منتهی به 1403/09/30
A6: نام سپرده بانکی | B6: نام سپرده بانکی | C6: طی ماه | D6: طی ماه | E6: طی ماه | G6: از ابتدای سال مالی تا پایان ماه | H6: از ابتدای سال مالی تا پایان ماه | I6: از ابتدای سال مالی تا پایان ماه
A7: نام سپرده | C7: سود سپرده بانکی و گواهی سپرده | E7: درصد سود به میانگین سپرده | G7: سود سپرده بانکی و گواهی سپرده | I7: درصد سود به میانگین سپرده
A8: بانک خاورمیانه آفریقا | C8: =+'سود سپرده بانکی'!G8 -> 240867289 | E8: =+C8/$C$10 -> 0.99998515 | G8: =+'سود سپرده بانکی'!M8 -> 10039668076 | I8: =+G8/$G$10 -> 0.99999757
A9: بانک ملت مستقل مرکزی | C9: =+'سود سپرده بانکی'!G9 -> 3576 | E9: =+C9/$C$10 -> 1.4846129e-05 | G9: =+'سود سپرده بانکی'!M9 -> 24398 | I9: =+G9/$G$10 -> 2.4301541e-06
C10: =SUM(C8:C9) -> 240870865 | E10: =SUM(E8:E9) -> 1 | G10: =SUM(G8:G9) -> 10039692474 | I10: =SUM(I8:I9) -> 1

Sheet سود سپرده بانکی
A2: =+سهام!A2 -> صندوق سرمایه‌گذاری بخشی صنایع مفید - خودران | B2: صندوق سرمایه‌گذاری بخشی صنایع مفید | C2: صندوق سرمایه‌گذاری بخشی صنایع مفید | D2: صندوق سرمایه‌گذاری بخشی صنایع مفید | E2: صندوق سرمایه‌گذاری بخشی صنایع مفید | F2: صندوق سرمایه‌گذاری بخشی صنایع مفید | G2: صندوق سرمایه‌گذاری بخشی صنایع مفید | H2: صندوق سرمایه‌گذاری بخشی صنایع مفید | I2: صندوق سرمایه‌گذاری بخشی صنایع مفید | J2: صندوق سرمایه‌گذاری بخشی صنایع مفید | K2: صندوق سرمایه‌گذاری بخشی صنایع مفید | L2: صندوق سرمایه‌گذاری بخشی صنایع مفید | M2: صندوق سرمایه‌گذاری بخشی صنایع مفید
A3: صورت وضعیت درآمدها | B3: صورت وضعیت درآمدها | C3: صورت وضعیت درآمدها | D3: صورت وضعیت درآمدها | E3: صورت وضعیت درآمدها | F3: صورت وضعیت درآمدها | G3: صورت وضعیت درآمدها | H3: صورت وضعیت درآمدها | I3: صورت وضعیت درآمدها | J3: صورت وضعیت درآمدها | K3: صورت وضعیت درآمدها | L3: صورت وضعیت درآمدها | M3: صورت وضعیت درآمدها
A4: =+سهام!A4 -> برای ماه منتهی به 1405/06/31 | B4: برای ماه منتهی به 1403/09/30 | C4: برای ماه منتهی به 1403/09/30 | D4: برای ماه منتهی به 1403/09/30 | E4: برای ماه منتهی به 1403/09/30 | F4: برای ماه منتهی به 1403/09/30 | G4: برای ماه منتهی به 1403/09/30 | H4: برای ماه منتهی به 1403/09/30 | I4: برای ماه منتهی به 1403/09/30 | J4: برای ماه منتهی به 1403/09/30 | K4: برای ماه منتهی به 1403/09/30 | L4: برای ماه منتهی به 1403/09/30 | M4: برای ماه منتهی به 1403/09/30
A6: مشخصات | B6: مشخصات | C6: طی ماه | D6: طی ماه | E6: طی ماه | F6: طی ماه | G6: طی ماه | I6: از ابتدای سال مالی تا پایان ماه | J6: از ابتدای سال مالی تا پایان ماه | K6: از ابتدای سال مالی تا پایان ماه | L6: از ابتدای سال مالی تا پایان ماه | M6: از ابتدای سال مالی تا پایان ماه
A7: توضیحات | C7: درآمد سود | E7: هزینه تنزیل | G7: خالص درآمد | I7: درآمد سود | K7: هزینه تنزیل | M7: خالص درآمد
A8: بانک خاورمیانه آفریقا | C8: 240867289 | E8: 0 | G8: =+C8-E8 -> 240867289 | I8: 10039668076 | K8: 0 | M8: =+I8-K8 -> 10039668076
A9: بانک ملت مستقل مرکزی | C9: 3576 | E9: 0 | G9: =+C9-E9 -> 3576 | I9: 24398 | K9: 0 | M9: =+I9-K9 -> 24398
C10: =SUM(C8:C9) -> 240870865 | E10: =SUM(E8:E9) -> 0 | F10: =SUM(F8:F9) -> 0 | G10: =SUM(G8:G9) -> 240870865 | H10: =SUM(H8:H9) -> 0 | I10: =SUM(I8:I9) -> 10039692474 | J10: =SUM(J8:J9) -> 0 | K10: =SUM(K8:K9) -> 0 | L10: =SUM(L8:L9) -> 0 | M10: =SUM(M8:M9) -> 10039692474

Sheet درآمد ناشی از فروش
A2: =+سهام!A2 -> صندوق سرمایه‌گذاری بخشی صنایع مفید - خودران | B2: صندوق سرمایه‌گذاری بخشی صنایع مفید | C2: صندوق سرمایه‌گذاری بخشی صنایع مفید | D2: صندوق سرمایه‌گذاری بخشی صنایع مفید | E2: صندوق سرمایه‌گذاری بخشی صنایع مفید | F2: صندوق سرمایه‌گذاری بخشی صنایع مفید | G2: صندوق سرمایه‌گذاری بخشی صنایع مفید | H2: صندوق سرمایه‌گذاری بخشی صنایع مفید | I2: صندوق سرمایه‌گذاری بخشی صنایع مفید | J2: صندوق سرمایه‌گذاری بخشی صنایع مفید | K2: صندوق سرمایه‌گذاری بخشی صنایع مفید | L2: صندوق سرمایه‌گذاری بخشی صنایع مفید | M2: صندوق سرمایه‌گذاری بخشی صنایع مفید | N2: صندوق سرمایه‌گذاری بخشی صنایع مفید | O2: صندوق سرمایه‌گذاری بخشی صنایع مفید | P2: صندوق سرمایه‌گذاری بخشی صنایع مفید | Q2: صندوق سرمایه‌گذاری بخشی صنایع مفید
A3: صورت وضعیت درآمدها | B3: صورت وضعیت درآمدها | C3: صورت وضعیت درآمدها | D3: صورت وضعیت درآمدها | E3: صورت وضعیت درآمدها | F3: صورت وضعیت درآمدها | G3: صورت وضعیت درآمدها | H3: صورت وضعیت درآمدها | I3: صورت وضعیت درآمدها | J3: صورت وضعیت درآمدها | K3: صورت وضعیت درآمدها | L3: صورت وضعیت درآمدها | M3: صورت وضعیت درآمدها | N3: صورت وضعیت درآمدها | O3: صورت وضعیت درآمدها | P3: صورت وضعیت درآمدها | Q3: صورت وضعیت درآمدها
A4: =+سهام!A4 -> برای ماه منتهی به 1405/06/31 | B4: برای ماه منتهی به 1403/09/30 | C4: برای ماه منتهی به 1403/09/30 | D4: برای ماه منتهی به 1403/09/30 | E4: برای ماه منتهی به 1403/09/30 | F4: برای ماه منتهی به 1403/09/30 | G4: برای ماه منتهی به 1403/09/30 | H4: برای ماه منتهی به 1403/09/30 | I4: برای ماه منتهی به 1403/09/30 | J4: برای ماه منتهی به 1403/09/30 | K4: برای ماه منتهی به 1403/09/30 | L4: برای ماه منتهی به 1403/09/30 | M4: برای ماه منتهی به 1403/09/30 | N4: برای ماه منتهی به 1403/09/30 | O4: برای ماه منتهی به 1403/09/30 | P4: برای ماه منتهی به 1403/09/30 | Q4: برای ماه منتهی به 1403/09/30
A6: نام شرکت | C6: طی ماه | D6: طی ماه | E6: طی ماه | F6: طی ماه | G6: طی ماه | H6: طی ماه | I6: طی ماه | K6: از ابتدای سال مالی تا پایان ماه | L6: از ابتدای سال مالی تا پایان ماه | M6: از ابتدای سال مالی تا پایان ماه | N6: از ابتدای سال مالی تا پایان ماه | O6: از ابتدای سال مالی تا پایان ماه | P6: از ابتدای سال مالی تا پایان ماه | Q6: از ابتدای سال مالی تا پایان ماه
A7: نام شرکت | C7: تعداد | E7: بهای فروش | G7: ارزش دفتری | I7: سود و زیان ناشی از فروش | K7: تعداد | M7: بهای فروش | O7: ارزش دفتری | Q7: سود و زیان ناشی از فروش
A8: مجتمع صنایع لاستیک یزد | C8: 0 | E8: 0 | G8: 0 | I8: =+E8-G8 -> 0 | K8: 13459619 | M8: 55123518863 | O8: 54009949930 | Q8: =+M8-O8 -> 1113568933
A9: پالایش نفت بندرعباس | C9: 0 | E9: 0 | G9: 0 | I9: =+E9-G9 -> 0 | K9: 15764267 | M9: 190939323157 | O9: 149843372737 | Q9: =+M9-O9 -> 41095950420
A10: کیمیا کالای رازی | C10: 0 | E10: 0 | G10: 0 | I10: =+E10-G10 -> 0 | K10: 535000 | M10: 11798761384 | O10: 7883337082 | Q10: =+M10-O10 -> 3915424302
A11: مجتمع کاشی و سنگ پرسپولیس یزد | C11: 0 | E11: 0 | G11: 0 | I11: =+E11-G11 -> 0 | K11: 2513000 | M11: 17178832375 | O11: 16254225830 | Q11: =+M11-O11 -> 924606545
A12: داروسازی ابوریحان | C12: 0 | E12: 0 | G12: 0 | I12: =+E12-G12 -> 0 | K12: 4703930 | M12: 236145923688 | O12: 175087166392 | Q12: =+M12-O12 -> 61058757296
A13: سرمایه‌گذاری‌ سایپا | C13: 9591663 | E13: 89756347909 | G13: 62512559280 | I13: =+E13-G13 -> 27243788629 | K13: 15221010 | M13: 120160019177 | O13: 98067340327 | Q13: =+M13-O13 -> 22092678850
A14: سرمایه‌گذاری‌ رنا(هلدینگ‌ | C14: 8468036 | E14: 64929643449 | G14: 45022583369 | I14: =+E14-G14 -> 19907060080 | K14: 23724515 | M14: 168908826466 | O14: 141056070560 | Q14: =+M14-O14 -> 27852755906
A15: سرمایه‌گذاری‌غدیر(هلدینگ‌ | C15: 0 | E15: 0 | G15: 0 | I15: =+E15-G15 -> 0 | K15: 6600000 | M15: 96876169566 | O15: 97495036148 | Q15: =+M15-O15 -> -618866582
A16: تولیدی کوچین | C16: 0 | E16: 0 | G16: 0 | I16: =+E16-G16 -> 0 | K16: 375000 | M16: 10078958796 | O16: 10083943875 | Q16: =+M16-O16 -> -4985079
A17: سرمایه گذاری مهر | C17: 0 | E17: 0 | G17: 0 | I17: =+E17-G17 -> 0 | K17: 750000 | M17: 3355066566 | O17: 3296817075 | Q17: =+M17-O17 -> 58249491
A18: سرمایه‌گذاری‌بهمن‌ | C18: 0 | E18: 0 | G18: 0 | I18: =+E18-G18 -> 0 | K18: 99063625 | M18: 186826225597 | O18: 205608728024 | Q18: =+M18-O18 -> -18782502427
A19: شمش طلا | C19: 6557 | E19: 201250402265 | G19: 156722057206 | I19: =+E19-G19 -> 44528345059 | K19: 6557 | M19: 201250402265 | O19: 156722057206 | Q19: =+M19-O19 -> 44528345059
... A55: نیان باتری خاوران | C55: 0 | E55: 0 | G55: 0 | I55: =+E55-G55 -> 0 | K55: 515000 | M55: 7716139664 | O55: 10353245953 | Q55: =+M55-O55 -> -2637106289
A56: اختیارخ خساپا-600-1404/10/24 | C56: - | E56: 0 | G56: 0 | I56: 0 | K56: - | M56: 0 | O56: 0 | Q56: 933023260
A57: اختیارخ خودرو-450-1405/01/11 | C57: - | E57: 0 | G57: 0 | I57: 0 | K57: - | M57: 0 | O57: 0 | Q57: -2994548953
A58: اختیارخ خودرو-600-1405/01/11 | C58: - | E58: 0 | G58: 0 | I58: 0 | K58: - | M58: 0 | O58: 0 | Q58: 188132416
A59: اختیارخ خودرو-700-1404/11/01 | C59: - | E59: 0 | G59: 0 | I59: 0 | K59: - | M59: 0 | O59: 0 | Q59: 582863257
A60: اختیارخ خودرو-750-1404/11/01 | C60: - | E60: 0 | G60: 0 | I60: 0 | K60: - | M60: 0 | O60: 0 | Q60: 840882400
A61: اختیارخ خودرو-450-1405/05/07 | C61: - | E61: 0 | G61: 0 | I61: 0 | K61: - | M61: 0 | O61: 0 | Q61: -474648531
A62: اختیارخ خودرو-500-1405/05/07 | C62: - | E62: 0 | G62: 0 | I62: 0 | K62: - | M62: 0 | O62: 0 | Q62: -2294720463
A63: اختیارخ خودرو-650-1405/05/07 | C63: - | E63: 0 | G63: 0 | I63: 0 | K63: - | M63: 0 | O63: 0 | Q63: 60680118
A64: اختیارخ خودرو-700-1405/05/07 | C64: - | E64: 0 | G64: 0 | I64: 0 | K64: - | M64: 0 | O64: 0 | Q64: 63969050
A65: اختیارخ خساپا-500-1405/05/28 | C65: - | E65: 0 | G65: 0 | I65: 0 | K65: - | M65: 0 | O65: 0 | Q65: 8861793695
A66: اختیارخ خساپا-550-1405/05/28 | C66: - | E66: 0 | G66: 0 | I66: 0 | K66: - | M66: 0 | O66: 0 | Q66: 488715000
A67: اختیارخ خساپا-600-1405/05/28 | C67: - | E67: 0 | G67: 0 | I67: 0 | K67: - | M67: 0 | O67: 0 | Q67: 366506938
... A77: اختیارخ خودرو-900-1405/08/06 | C77: - | E77: 0 | G77: 0 | I77: 343111294 | K77: - | M77: 0 | O77: 0 | Q77: 343111294
E78: =SUM(E8:E77) -> 1465529280399 | G78: =SUM(G8:G77) -> 1122137379946 | I78: =SUM(I8:I77) -> 342652766918 | M78: =SUM(M8:M77) -> 6145967386944 | O78: =SUM(O8:O77) -> 5850835893618 | Q78: =SUM(Q8:Q77) -> 301219658609

Sheet درآمد ناشی از تغییر قیمت اوراق
A2: =+سهام!A2 -> صندوق سرمایه‌گذاری بخشی صنایع مفید - خودران | B2: صندوق سرمایه‌گذاری بخشی صنایع مفید | C2: صندوق سرمایه‌گذاری بخشی صنایع مفید | D2: صندوق سرمایه‌گذاری بخشی صنایع مفید | E2: صندوق سرمایه‌گذاری بخشی صنایع مفید | F2: صندوق سرمایه‌گذاری بخشی صنایع مفید | G2: صندوق سرمایه‌گذاری بخشی صنایع مفید | H2: صندوق سرمایه‌گذاری بخشی صنایع مفید | I2: صندوق سرمایه‌گذاری بخشی صنایع مفید | J2: صندوق سرمایه‌گذاری بخشی صنایع مفید | K2: صندوق سرمایه‌گذاری بخشی صنایع مفید | L2: صندوق سرمایه‌گذاری بخشی صنایع مفید | M2: صندوق سرمایه‌گذاری بخشی صنایع مفید | N2: صندوق سرمایه‌گذاری بخشی صنایع مفید | O2: صندوق سرمایه‌گذاری بخشی صنایع مفید | P2: صندوق سرمایه‌گذاری بخشی صنایع مفید | Q2: صندوق سرمایه‌گذاری بخشی صنایع مفید
A3: صورت وضعیت درآمدها | B3: صورت وضعیت درآمدها | C3: صورت وضعیت درآمدها | D3: صورت وضعیت درآمدها | E3: صورت وضعیت درآمدها | F3: صورت وضعیت درآمدها | G3: صورت وضعیت درآمدها | H3: صورت وضعیت درآمدها | I3: صورت وضعیت درآمدها | J3: صورت وضعیت درآمدها | K3: صورت وضعیت درآمدها | L3: صورت وضعیت درآمدها | M3: صورت وضعیت درآمدها | N3: صورت وضعیت درآمدها | O3: صورت وضعیت درآمدها | P3: صورت وضعیت درآمدها | Q3: صورت وضعیت درآمدها
A4: =+سهام!A4 -> برای ماه منتهی به 1405/06/31 | B4: برای ماه منتهی به 1403/09/30 | C4: برای ماه منتهی به 1403/09/30 | D4: برای ماه منتهی به 1403/09/30 | E4: برای ماه منتهی به 1403/09/30 | F4: برای ماه منتهی به 1403/09/30 | G4: برای ماه منتهی به 1403/09/30 | H4: برای ماه منتهی به 1403/09/30 | I4: برای ماه منتهی به 1403/09/30 | J4: برای ماه منتهی به 1403/09/30 | K4: برای ماه منتهی به 1403/09/30 | L4: برای ماه منتهی به 1403/09/30 | M4: برای ماه منتهی به 1403/09/30 | N4: برای ماه منتهی به 1403/09/30 | O4: برای ماه منتهی به 1403/09/30 | P4: برای ماه منتهی به 1403/09/30 | Q4: برای ماه منتهی به 1403/09/30
A6: نام شرکت | C6: طی ماه | D6: طی ماه | E6: طی ماه | F6: طی ماه | G6: طی ماه | H6: طی ماه | I6: طی ماه | K6: از ابتدای سال مالی تا پایان ماه | L6: از ابتدای سال مالی تا پایان ماه | M6: از ابتدای سال مالی تا پایان ماه | N6: از ابتدای سال مالی تا پایان ماه | O6: از ابتدای سال مالی تا پایان ماه | P6: از ابتدای سال مالی تا پایان ماه | Q6: از ابتدای سال مالی تا پایان ماه
A7: نام شرکت | C7: تعداد | E7: بهای فروش | G7: ارزش دفتری | I7: سود و زیان ناشی از تغییر قیمت | K7: تعداد | M7: بهای فروش | O7: ارزش دفتری | Q7: سود و زیان ناشی از تغییر قیمت
A8: سرمایه‌گذاری‌ رنا(هلدینگ‌ | C8: 63554143 | E8: 478016550617 | G8: 432359569255 | I8: =+E8-G8 -> 45656981362 | K8: 63554143 | M8: 478016550617 | O8: 337902637839 | Q8: =+M8-O8 -> 140113912778
A9: ریخته‌گری‌ تراکتورسازی‌ ایران‌ | C9: 217419 | E9: 346691530 | G9: 356399756 | I9: =+E9-G9 -> -9708226 | K9: 217419 | M9: 346691530 | O9: 310104410 | Q9: =+M9-O9 -> 36587120
A10: کشت وصنعت و دامپروری پگاه فارس | C10: 85306 | E10: 1934174458 | G10: 1739487313 | I10: =+E10-G10 -> 194687145 | K10: 85306 | M10: 1934174458 | O10: 1421346419 | Q10: =+M10-O10 -> 512828039
A11: تولیدمحورخودرو | C11: 19640454 | E11: 102899983774 | G11: 94470399008 | I11: =+E11-G11 -> 8429584766 | K11: 19640454 | M11: 102899983774 | O11: 97348333501 | Q11: =+M11-O11 -> 5551650273
A12: الکتریک‌ خودرو شرق‌ | C12: 754086 | E12: 1997097706 | G12: 1824250359 | I12: =+E12-G12 -> 172847347 | K12: 754086 | M12: 1997097706 | O12: 1698782057 | Q12: =+M12-O12 -> 298315649
A13: رینگ‌سازی‌مشهد | C13: 119751 | E13: 2112714274 | G13: 1711084676 | I13: =+E13-G13 -> 401629598 | K13: 119751 | M13: 2112714274 | O13: 1363995364 | Q13: =+M13-O13 -> 748718910
A14: ایرکا پارت صنعت | C14: 158448545 | E14: 279701029452 | G14: 298345585862 | I14: =+E14-G14 -> -18644556410 | K14: 158448545 | M14: 279701029452 | O14: 229147481673 | Q14: =+M14-O14 -> 50553547779
A15: فنرسازی زر | C15: 949956 | E15: 1943667677 | G15: 1707071853 | I15: =+E15-G15 -> 236595824 | K15: 949956 | M15: 1943667677 | O15: 1438266969 | Q15: =+M15-O15 -> 505400708
A16: پتروشیمی جم پیلن | C16: 14918 | E16: 4476331599 | G16: 3435975891 | I16: =+E16-G16 -> 1040355708 | K16: 14918 | M16: 4476331599 | O16: 3435975891 | Q16: =+M16-O16 -> 1040355708
A17: تراکتورسازی‌ایران‌ | C17: 80646633 | E17: 245671329997 | G17: 254720858364 | I17: =+E17-G17 -> -9049528367 | K17: 80646633 | M17: 245671329997 | O17: 254720858364 | Q17: =+M17-O17 -> -9049528367
A18: سرمایه‌گذاری‌بهمن‌ | C18: 55703310 | E18: 113806537509 | G18: 128593274775 | I18: =+E18-G18 -> -14786737266 | K18: 55703310 | M18: 113806537509 | O18: 128593274775 | Q18: =+M18-O18 -> -14786737266
A19: زرین ذرت شاهرود | C19: 1449999 | E19: 13855552589 | G19: 11395223506 | I19: =+E19-G19 -> 2460329083 | K19: 1449999 | M19: 13855552589 | O19: 7502213380 | Q19: =+M19-O19 -> 6353339209
... A40: زامیاد | C40: 213213595 | E40: 366642931627 | G40: 324712672087 | I40: =+E40-G40 -> 41930259540 | K40: 213213595 | M40: 366642931627 | O40: 259727385389 | Q40: =+M40-O40 -> 106915546238
A41: اختیارخ خودرو-700-1405/07/08 | I41: -49275731 | Q41: -49275731
A42: اختیارخ خساپا-800-1405/07/29 | I42: 71890968 | Q42: 71890968
A43: اختیارخ خودرو-800-1405/08/06 | I43: 1411160904 | Q43: 1411160904
A44: اختیارخ خودرو-900-1405/08/06 | I44: 517884238 | Q44: 517884238
A45: اختیارخ خساپا-1000-1405/08/27 | I45: 313759772 | Q45: 313759772
E46: =SUM(E8:E45) -> 9085248418228 | G46: =SUM(G8:G45) -> 8784077395685 | I46: =SUM(I8:I45) -> 303436442694 | M46: =SUM(M8:M45) -> 9085248418228 | O46: =SUM(O8:O45) -> 7649729482581 | Q46: =SUM(Q8:Q45) -> 1437784355798
