Workbook

Sheet سهام
A2: صندوق سرمایه‌گذاری بخشی صنایع مفید - اکتان | B2: صندوق سرمایه‌گذاری بخشی صنایع مفید | C2: صندوق سرمایه‌گذاری بخشی صنایع مفید | D2: صندوق سرمایه‌گذاری بخشی صنایع مفید | E2: صندوق سرمایه‌گذاری بخشی صنایع مفید | F2: صندوق سرمایه‌گذاری بخشی صنایع مفید | G2: صندوق سرمایه‌گذاری بخشی صنایع مفید | H2: صندوق سرمایه‌گذاری بخشی صنایع مفید | I2: صندوق سرمایه‌گذاری بخشی صنایع مفید | J2: صندوق سرمایه‌گذاری بخشی صنایع مفید | K2: صندوق سرمایه‌گذاری بخشی صنایع مفید | L2: صندوق سرمایه‌گذاری بخشی صنایع مفید | M2: صندوق سرمایه‌گذاری بخشی صنایع مفید | N2: صندوق سرمایه‌گذاری بخشی صنایع مفید | O2: صندوق سرمایه‌گذاری بخشی صنایع مفید | P2: صندوق سرمایه‌گذاری بخشی صنایع مفید | Q2: صندوق سرمایه‌گذاری بخشی صنایع مفید | R2: صندوق سرمایه‌گذاری بخشی صنایع مفید | S2: صندوق سرمایه‌گذاری بخشی صنایع مفید | T2: صندوق سرمایه‌گذاری بخشی صنایع مفید | U2: صندوق سرمایه‌گذاری بخشی صنایع مفید | V2: صندوق سرمایه‌گذاری بخشی صنایع مفید | W2: صندوق سرمایه‌گذاری بخشی صنایع مفید | X2: صندوق سرمایه‌گذاری بخشی صنایع مفید | Y2: صندوق سرمایه‌گذاری بخشی صنایع مفید
A3: صورت وضعیت پورتفوی | B3: صورت وضعیت پورتفوی | C3: صورت وضعیت پورتفوی | D3: صورت وضعیت پورتفوی | E3: صورت وضعیت پورتفوی | F3: صورت وضعیت پورتفوی | G3: صورت وضعیت پورتفوی | H3: صورت وضعیت پورتفوی | I3: صورت وضعیت پورتفوی | J3: صورت وضعیت پورتفوی | K3: صورت وضعیت پورتفوی | L3: صورت وضعیت پورتفوی | M3: صورت وضعیت پورتفوی | N3: صورت وضعیت پورتفوی | O3: صورت وضعیت پورتفوی | P3: صورت وضعیت پورتفوی | Q3: صورت وضعیت پورتفوی | R3: صورت وضعیت پورتفوی | S3: صورت وضعیت پورتفوی | T3: صورت وضعیت پورتفوی | U3: صورت وضعیت پورتفوی | V3: صورت وضعیت پورتفوی | W3: صورت وضعیت پورتفوی | X3: صورت وضعیت پورتفوی | Y3: صورت وضعیت پورتفوی
A4: برای ماه منتهی به 1405/06/31 | B4: برای ماه منتهی به 1403/09/30 | C4: برای ماه منتهی به 1403/09/30 | D4: برای ماه منتهی به 1403/09/30 | E4: برای ماه منتهی به 1403/09/30 | F4: برای ماه منتهی به 1403/09/30 | G4: برای ماه منتهی به 1403/09/30 | H4: برای ماه منتهی به 1403/09/30 | I4: برای ماه منتهی به 1403/09/30 | J4: برای ماه منتهی به 1403/09/30 | K4: برای ماه منتهی به 1403/09/30 | L4: برای ماه منتهی به 1403/09/30 | M4: برای ماه منتهی به 1403/09/30 | N4: برای ماه منتهی به 1403/09/30 | O4: برای ماه منتهی به 1403/09/30 | P4: برای ماه منتهی به 1403/09/30 | Q4: برای ماه منتهی به 1403/09/30 | R4: برای ماه منتهی به 1403/09/30 | S4: برای ماه منتهی به 1403/09/30 | T4: برای ماه منتهی به 1403/09/30 | U4: برای ماه منتهی به 1403/09/30 | V4: برای ماه منتهی به 1403/09/30 | W4: برای ماه منتهی به 1403/09/30 | X4: برای ماه منتهی به 1403/09/30 | Y4: برای ماه منتهی به 1403/09/30
A6: نام شرکت | C6: 1405/05/31 | D6: 1403/08/30 | E6: 1403/08/30 | F6: 1403/08/30 | G6: 1403/08/30 | I6: تغییرات طی دوره | J6: تغییرات طی دوره | K6: تغییرات طی دوره | L6: تغییرات طی دوره | M6: تغییرات طی دوره | N6: تغییرات طی دوره | O6: تغییرات طی دوره | Q6: 1405/06/31 | R6: 1403/09/30 | S6: 1403/09/30 | T6: 1403/09/30 | U6: 1403/09/30 | V6: 1403/09/30 | W6: 1403/09/30 | X6: 1403/09/30 | Y6: 1403/09/30
A7: نام شرکت | C7: تعداد | E7: بهای تمام شده | G7: خالص ارزش فروش | I7: خرید طی دوره | J7: خرید طی دوره | K7: خرید طی دوره | M7: فروش طی دوره | N7: فروش طی دوره | O7: فروش طی دوره | Q7: تعداد | S7: قیمت بازار | U7: بهای تمام شده | W7: خالص ارزش فروش | Y7: درصد به کل دارایی‌ های صندوق
A8: نام شرکت | C8: تعداد | E8: بهای تمام شده | G8: خالص ارزش فروش | I8: تعداد | K8: بهای تمام شده | M8: تعداد | O8: مبلغ فروش | Q8: تعداد | S8: قیمت بازار | U8: بهای تمام شده | W8: خالص ارزش فروش | Y8: درصد به کل دارایی‌های صندوق
A9: آریان کیمیا تک | C9: 11041533 | E9: 66165429272 | G9: 1.8592641e+11 | I9: 0 | K9: 0 | M9: 0 | O9: 0 | Q9: 11041533 | S9: 19450 | U9: 66165429272 | W9: 2.1309774e+11 | Y9: 0.012752798
A10: پتروشیمی پارس | C10: 177637411 | E10: 463994425063 | G10: 4.0875685e+11 | I10: 0 | K10: 0 | M10: -1 | O10: 1 | Q10: 177637410 | S10: 2758 | U10: 463994422451 | W10: 4.8613686e+11 | Y10: 0.029092777
A11: پتروشیمی پردیس | C11: 130864621 | E11: 765946086296 | G11: 1.3621584e+12 | I11: 0 | K11: 0 | M11: -205000 | O11: 2542696174 | Q11: 130659621 | S11: 13430 | U11: 764746228408 | W11: 1.7411944e+12 | Y11: 0.10420148
A12: پتروشیمی تندگویان | C12: 45505133 | E12: 400157742490 | G12: 3.4722948e+11 | I12: 0 | K12: 0 | M12: 0 | O12: 0 | Q12: 45505133 | S12: 12340 | U12: 400157742490 | W12: 5.5719269e+11 | Y12: 0.033345101
A13: پتروشیمی جم | C13: 5583561 | E13: 300509471304 | G13: 2.6283658e+11 | I13: 0 | K13: 0 | M13: 0 | O13: 0 | Q13: 5583561 | S13: 65800 | U13: 300509471304 | W13: 3.6455832e+11 | Y13: 0.021816931
A14: پتروشیمی غدیر | C14: 367312 | E14: 21417608181 | G14: 2.5254312e+10 | I14: 0 | K14: 0 | M14: 0 | O14: 0 | Q14: 367312 | S14: 77990 | U14: 21417608181 | W14: 2.8425224e+10 | Y14: 0.0017011027
A15: پتروشیمی نوری | C15: 25637730 | E15: 658051655014 | G15: 8.7486614e+11 | I15: 0 | K15: 0 | M15: -1 | O15: 1 | Q15: 25637729 | S15: 51160 | U15: 658051629347 | W15: 1.3014873e+12 | Y15: 0.077887287
A16: پتروشیمی خارک | C16: 212450 | E16: 12107712470 | G16: 1.9501826e+10 | I16: 0 | K16: 0 | M16: 0 | O16: 0 | Q16: 212450 | S16: 92510 | U16: 12107712470 | W16: 1.9501826e+10 | Y16: 0.0011670834
A17: پتروشیمی شیراز | C17: 10715782 | E17: 383292469852 | G17: 6.5148079e+11 | I17: 0 | K17: 0 | M17: 0 | O17: 0 | Q17: 10715782 | S17: 70020 | U17: 383292469852 | W17: 7.4451909e+11 | Y17: 0.044555617
A18: پدیده شیمی قرن | C18: 5156690 | E18: 33868920895 | G18: 1.1267257e+11 | I18: 0 | K18: 0 | M18: 0 | O18: 0 | Q18: 5156690 | S18: 22630 | U18: 33868920895 | W18: 1.1579384e+11 | Y18: 0.0069296623
A19: پلیمر آریا ساسول | C19: 8791333 | E19: 293823262199 | G19: 2.6789488e+11 | I19: 1469890 | K19: 52244913455 | M19: 0 | O19: 0 | Q19: 10261223 | S19: 44470 | U19: 346068175654 | W19: 4.5278926e+11 | Y19: 0.027097096
A20: تولیدات پتروشیمی قائد بصیر | C20: 3668475 | E20: 30207157401 | G20: 4.2953389e+10 | I20: 0 | K20: 0 | M20: -3668475 | O20: 44300232597 | Q20: 0 | S20: 0 | U20: 0 | W20: 0 | Y20: 0
... A51: گروه مالی نماد غدیر(سهامی عام) | C51: 94768204 | E51: 299485501863 | G51: 3.3288619e+11 | I51: 0 | K51: 0 | M51: 0 | O51: 0 | Q51: 94768204 | S51: 3980 | U51: 299485501863 | W51: 3.7426187e+11 | Y51: 0.022397638
E52: =SUM(E9:E51) -> 9115525692607 | G52: =SUM(G9:G51) -> 1.2549463e+13 | K52: =SUM(K9:K51) -> 304120192280 | O52: =SUM(O9:O51) -> 358622780149 | U52: =SUM(U9:U51) -> 9105540774334 | W52: =SUM(W9:W51) -> 1.5842608e+13 | Y52: =SUM(Y9:Y51) -> 0.94809814

Sheet تعدیل قیمت
A2: =+سهام!A2 -> صندوق سرمایه‌گذاری بخشی صنایع مفید - اکتان | B2: صندوق سرمایه‌گذاری بخشی صنایع مفید | C2: صندوق سرمایه‌گذاری بخشی صنایع مفید | D2: صندوق سرمایه‌گذاری بخشی صنایع مفید | E2: صندوق سرمایه‌گذاری بخشی صنایع مفید | F2: صندوق سرمایه‌گذاری بخشی صنایع مفید | G2: صندوق سرمایه‌گذاری بخشی صنایع مفید | H2: صندوق سرمایه‌گذاری بخشی صنایع مفید | I2: صندوق سرمایه‌گذاری بخشی صنایع مفید | J2: صندوق سرمایه‌گذاری بخشی صنایع مفید | K2: صندوق سرمایه‌گذاری بخشی صنایع مفید | L2: صندوق سرمایه‌گذاری بخشی صنایع مفید | M2: صندوق سرمایه‌گذاری بخشی صنایع مفید
A3: صورت وضعیت پورتفوی | B3: صورت وضعیت پورتفوی | C3: صورت وضعیت پورتفوی | D3: صورت وضعیت پورتفوی | E3: صورت وضعیت پورتفوی | F3: صورت وضعیت پورتفوی | G3: صورت وضعیت پورتفوی | H3: صورت وضعیت پورتفوی | I3: صورت وضعیت پورتفوی | J3: صورت وضعیت پورتفوی | K3: صورت وضعیت پورتفوی | L3: صورت وضعیت پورتفوی | M3: صورت وضعیت پورتفوی
A4: =+سهام!A4 -> برای ماه منتهی به 1405/06/31 | B4: برای ماه منتهی به 1405/05/31 | C4: برای ماه منتهی به 1405/05/31 | D4: برای ماه منتهی به 1405/05/31 | E4: برای ماه منتهی به 1405/05/31 | F4: برای ماه منتهی به 1405/05/31 | G4: برای ماه منتهی به 1405/05/31 | H4: برای ماه منتهی به 1405/05/31 | I4: برای ماه منتهی به 1405/05/31 | J4: برای ماه منتهی به 1405/05/31 | K4: برای ماه منتهی به 1405/05/31 | L4: برای ماه منتهی به 1405/05/31 | M4: برای ماه منتهی به 1405/05/31
A6: نام شرکت | C6: =+سهام!Q6 -> 1405/06/31 | D6: 1405/05/31 | E6: 1405/05/31 | F6: 1405/05/31 | G6: 1405/05/31 | H6: 1405/05/31 | I6: 1405/05/31 | J6: 1405/05/31 | K6: 1405/05/31 | L6: 1405/05/31 | M6: 1405/05/31
A7: نام شرکت | C7: تعداد | E7: قیمت پایانی | G7: قیمت پس از تعدیل | I7: درصد تعدیل | K7: ارزش ناشی از تعدیل قیمت | M7: دلایل
A8: گواهی صرفه جویی گازغیراوج0404 | C8: 2103087 | E8: 380000 | G8: 342000 | I8: -0.1 | K8: 719255754000 | M8: شرایط خاص بازار سرمایه

Sheet سپرده
A2: =+سهام!A2 -> صندوق سرمایه‌گذاری بخشی صنایع مفید - اکتان | B2: صندوق سرمایه‌گذاری بخشی صنایع مفید | C2: صندوق سرمایه‌گذاری بخشی صنایع مفید | D2: صندوق سرمایه‌گذاری بخشی صنایع مفید | E2: صندوق سرمایه‌گذاری بخشی صنایع مفید | F2: صندوق سرمایه‌گذاری بخشی صنایع مفید | G2: صندوق سرمایه‌گذاری بخشی صنایع مفید | H2: صندوق سرمایه‌گذاری بخشی صنایع مفید | I2: صندوق سرمایه‌گذاری بخشی صنایع مفید | J2: صندوق سرمایه‌گذاری بخشی صنایع مفید | K2: صندوق سرمایه‌گذاری بخشی صنایع مفید
A3: صورت وضعیت پورتفوی | B3: صورت وضعیت پورتفوی | C3: صورت وضعیت پورتفوی | D3: صورت وضعیت پورتفوی | E3: صورت وضعیت پورتفوی | F3: صورت وضعیت پورتفوی | G3: صورت وضعیت پورتفوی | H3: صورت وضعیت پورتفوی | I3: صورت وضعیت پورتفوی | J3: صورت وضعیت پورتفوی | K3: صورت وضعیت پورتفوی
A4: =+سهام!A4 -> برای ماه منتهی به 1405/06/31 | B4: برای ماه منتهی به 1403/08/30 | C4: برای ماه منتهی به 1403/08/30 | D4: برای ماه منتهی به 1403/08/30 | E4: برای ماه منتهی به 1403/08/30 | F4: برای ماه منتهی به 1403/08/30 | G4: برای ماه منتهی به 1403/08/30 | H4: برای ماه منتهی به 1403/08/30 | I4: برای ماه منتهی به 1403/08/30 | J4: برای ماه منتهی به 1403/08/30 | K4: برای ماه منتهی به 1403/08/30
A6: سپرده | C6: =+سهام!C6 -> 1405/05/31 | E6: تغییرات طی دوره | F6: تغییرات طی دوره | G6: تغییرات طی دوره | I6: =+سهام!Q6 -> 1405/06/31 | J6: 1403/08/30 | K6: 1403/08/30
A7: سپرده | C7: مبلغ | E7: افزایش | G7: کاهش | I7: مبلغ | K7: درصد به کل دارایی‌ها
A8: بانک خاورمیانه آفریقا | C8: 42956691123 | E8: 859771420707 | G8: 394362234903 | I8: =+C8+E8-G8 -> 508365876927 | K8: 0.030423069
A9: بانک پاسارگاد شعبه هفت تیر | C9: 22840085 | E9: 96581 | G9: 0 | I9: =+C9+E9-G9 -> 22936666 | K9: 1.3726409e-06
A10: بانک ملت مستقل مرکزی | C10: 845822 | E10: 3576 | G10: 0 | I10: =+C10+E10-G10 -> 849398 | K10: 5.0832078e-08
C11: =SUM(C8:C10) -> 42980377030 | E11: =SUM(E8:E10) -> 859771520864 | G11: =SUM(G8:G10) -> 394362234903 | I11: =SUM(I8:I10) -> 508389662991 | K11: =SUM(K8:K10) -> 0.030424492

Sheet درآمدها
A2: =+سپرده!A2 -> صندوق سرمایه‌گذاری بخشی صنایع مفید - اکتان | B2: صندوق سرمایه‌گذاری بخشی صنایع مفید | C2: صندوق سرمایه‌گذاری بخشی صنایع مفید | D2: صندوق سرمایه‌گذاری بخشی صنایع مفید | E2: صندوق سرمایه‌گذاری بخشی صنایع مفید | F2: صندوق سرمایه‌گذاری بخشی صنایع مفید | G2: صندوق سرمایه‌گذاری بخشی صنایع مفید
A3: صورت وضعیت درآمدها | B3: صورت وضعیت درآمدها | C3: صورت وضعیت درآمدها | D3: صورت وضعیت درآمدها | E3: صورت وضعیت درآمدها | F3: صورت وضعیت درآمدها | G3: صورت وضعیت درآمدها
A4: =+سهام!A4 -> برای ماه منتهی به 1405/06/31 | B4: برای ماه منتهی به 1403/09/30 | C4: برای ماه منتهی به 1403/09/30 | D4: برای ماه منتهی به 1403/09/30 | E4: برای ماه منتهی به 1403/09/30 | F4: برای ماه منتهی به 1403/09/30 | G4: برای ماه منتهی به 1403/09/30
A6: توضیحات | C6: مبلغ | E6: درصد از کل درآمدها | G6: درصد به کل دارایی‌های صندوق
A7: سرمایه‌گذاری در سهام | C7: =+'سرمایه‌گذاری در سهام'!I58 -> 3507781215029 | E7: =+C7/$C$9 -> 0.99915382 | G7: 0.20992257
A8: درآمد سپرده بانکی | C8: =+'درآمد سپرده بانکی'!C11 -> 2970712384 | E8: =+C8/$C$9 -> 0.00084617553 | G8: 0.00017778177
C9: =SUM(C7:C8) -> 3510751927413 | E9: =SUM(E7:E8) -> 1 | F9: =SUM(F7:F8) -> 0 | G9: =SUM(G7:G8) -> 0.21010035

Sheet سایر درآمدها
A2: =+سهام!A2 -> صندوق سرمایه‌گذاری بخشی صنایع مفید - اکتان | B2: صندوق سرمایه‌گذاری بخشی صنایع مفید | C2: صندوق سرمایه‌گذاری بخشی صنایع مفید | D2: صندوق سرمایه‌گذاری بخشی صنایع مفید | E2: صندوق سرمایه‌گذاری بخشی صنایع مفید
A3: صورت وضعیت درآمدها | B3: صورت وضعیت درآمدها | C3: صورت وضعیت درآمدها | D3: صورت وضعیت درآمدها | E3: صورت وضعیت درآمدها
A4: =+سهام!A4 -> برای ماه منتهی به 1405/06/31 | B4: برای ماه منتهی به 1403/09/30 | C4: برای ماه منتهی به 1403/09/30 | D4: برای ماه منتهی به 1403/09/30 | E4: برای ماه منتهی به 1403/09/30
E5: از ابتدای سال مالی
A6: سایر درآمدها | C6: طی ماه | E6: تا پایان ماه
A7: سایر درآمدها | C7: مبلغ | E7: مبلغ
A8: سایر درآمدها | C8: 0 | E8: 2217930254
C9: =SUM(C8:C8) -> 0 | E9: =SUM(E8:E8) -> 2217930254

Sheet سرمایه‌گذاری در سهام
A2: =+درآمدها!A2 -> صندوق سرمایه‌گذاری بخشی صنایع مفید - اکتان | B2: صندوق سرمایه‌گذاری بخشی صنایع مفید | C2: صندوق سرمایه‌گذاری بخشی صنایع مفید | D2: صندوق سرمایه‌گذاری بخشی صنایع مفید | E2: صندوق سرمایه‌گذاری بخشی صنایع مفید | F2: صندوق سرمایه‌گذاری بخشی صنایع مفید | G2: صندوق سرمایه‌گذاری بخشی صنایع مفید | H2: صندوق سرمایه‌گذاری بخشی صنایع مفید | I2: صندوق سرمایه‌گذاری بخشی صنایع مفید | J2: صندوق سرمایه‌گذاری بخشی صنایع مفید | K2: صندوق سرمایه‌گذاری بخشی صنایع مفید | L2: صندوق سرمایه‌گذاری بخشی صنایع مفید | M2: صندوق سرمایه‌گذاری بخشی صنایع مفید | N2: صندوق سرمایه‌گذاری بخشی صنایع مفید | O2: صندوق سرمایه‌گذاری بخشی صنایع مفید | P2: صندوق سرمایه‌گذاری بخشی صنایع مفید | Q2: صندوق سرمایه‌گذاری بخشی صنایع مفید | R2: صندوق سرمایه‌گذاری بخشی صنایع مفید | S2: صندوق سرمایه‌گذاری بخشی صنایع مفید | T2: صندوق سرمایه‌گذاری بخشی صنایع مفید | U2: صندوق سرمایه‌گذاری بخشی صنایع مفید
A3: صورت وضعیت درآمدها | B3: صورت وضعیت درآمدها | C3: صورت وضعیت درآمدها | D3: صورت وضعیت درآمدها | E3: صورت وضعیت درآمدها | F3: صورت وضعیت درآمدها | G3: صورت وضعیت درآمدها | H3: صورت وضعیت درآمدها | I3: صورت وضعیت درآمدها | J3: صورت وضعیت درآمدها | K3: صورت وضعیت درآمدها | L3: صورت وضعیت درآمدها | M3: صورت وضعیت درآمدها | N3: صورت وضعیت درآمدها | O3: صورت وضعیت درآمدها | P3: صورت وضعیت درآمدها | Q3: صورت وضعیت درآمدها | R3: صورت وضعیت درآمدها | S3: صورت وضعیت درآمدها | T3: صورت وضعیت درآمدها | U3: صورت وضعیت درآمدها
A4: =+سهام!A4 -> برای ماه منتهی به 1405/06/31 | B4: برای ماه منتهی به 1403/09/30 | C4: برای ماه منتهی به 1403/09/30 | D4: برای ماه منتهی به 1403/09/30 | E4: برای ماه منتهی به 1403/09/30 | F4: برای ماه منتهی به 1403/09/30 | G4: برای ماه منتهی به 1403/09/30 | H4: برای ماه منتهی به 1403/09/30 | I4: برای ماه منتهی به 1403/09/30 | J4: برای ماه منتهی به 1403/09/30 | K4: برای ماه منتهی به 1403/09/30 | L4: برای ماه منتهی به 1403/09/30 | M4: برای ماه منتهی به 1403/09/30 | N4: برای ماه منتهی به 1403/09/30 | O4: برای ماه منتهی به 1403/09/30 | P4: برای ماه منتهی به 1403/09/30 | Q4: برای ماه منتهی به 1403/09/30 | R4: برای ماه منتهی به 1403/09/30 | S4: برای ماه منتهی به 1403/09/30 | T4: برای ماه منتهی به 1403/09/30 | U4: برای ماه منتهی به 1403/09/30
A6: نام شرکت | C6: طی ماه | D6: طی ماه | E6: طی ماه | F6: طی ماه | G6: طی ماه | H6: طی ماه | I6: طی ماه | J6: طی ماه | K6: طی ماه | M6: از ابتدای سال مالی تا پایان ماه | N6: از ابتدای سال مالی تا پایان ماه | O6: از ابتدای سال مالی تا پایان ماه | P6: از ابتدای سال مالی تا پایان ماه | Q6: از ابتدای سال مالی تا پایان ماه | R6: از ابتدای سال مالی تا پایان ماه | S6: از ابتدای سال مالی تا پایان ماه | T6: از ابتدای سال مالی تا پایان ماه | U6: از ابتدای سال مالی تا پایان ماه
A7: نام شرکت | C7: درآمد سود سهام | E7: درآمد تغییر ارزش | G7: درآمد فروش | I7: مبلغ | K7: درصد از کل درآمدها | M7: درآمد سود سهام | O7: درآمد تغییر ارزش | Q7: درآمد فروش | S7: مبلغ | U7: درصد از کل درآمدها
A8: گسترش نفت و گاز پارسیان | C8: =IFERROR(VLOOKUP(A8,'درآمد سود سهام'!A:S,13,0),0) -> 0 | E8: =IFERROR(VLOOKUP(A8,'درآمد ناشی از تغییر قیمت اوراق'!A:Q,9,0),0) -> 276981542237 | G8: =IFERROR(VLOOKUP(A8,'درآمد ناشی از فروش'!A:Q,9,0),0) -> 0 | I8: =+G8+E8+C8 -> 276981542237 | K8: =+I8/$I$58 -> 0.078962035 | M8: =IFERROR(VLOOKUP(A8,'درآمد سود سهام'!A:S,19,0),0) -> 128344505400 | O8: =IFERROR(VLOOKUP(A8,'درآمد ناشی از تغییر قیمت اوراق'!A:Q,17,0),0) -> 348855193788 | Q8: =IFERROR(VLOOKUP(A8,'درآمد ناشی از فروش'!A:Q,17,0),0) -> 0 | S8: =+Q8+O8+M8 -> 477199699188 | U8: =+S8/$S$58 -> 0.082390267
A9: صنایع پتروشیمی کرمانشاه | C9: =IFERROR(VLOOKUP(A9,'درآمد سود سهام'!A:S,13,0),0) -> 0 | E9: =IFERROR(VLOOKUP(A9,'درآمد ناشی از تغییر قیمت اوراق'!A:Q,9,0),0) -> 61477234995 | G9: =IFERROR(VLOOKUP(A9,'درآمد ناشی از فروش'!A:Q,9,0),0) -> 0 | I9: =+G9+E9+C9 -> 61477234995 | K9: =+I9/$I$58 -> 0.01752596 | M9: =IFERROR(VLOOKUP(A9,'درآمد سود سهام'!A:S,19,0),0) -> 11581879335 | O9: =IFERROR(VLOOKUP(A9,'درآمد ناشی از تغییر قیمت اوراق'!A:Q,17,0),0) -> 119850358029 | Q9: =IFERROR(VLOOKUP(A9,'درآمد ناشی از فروش'!A:Q,17,0),0) -> 0 | S9: =+Q9+O9+M9 -> 131432237364 | U9: =+S9/$S$58 -> 0.022692255
A10: نفت سپاهان | C10: =IFERROR(VLOOKUP(A10,'درآمد سود سهام'!A:S,13,0),0) -> 0 | E10: =IFERROR(VLOOKUP(A10,'درآمد ناشی از تغییر قیمت اوراق'!A:Q,9,0),0) -> 17212262000 | G10: =IFERROR(VLOOKUP(A10,'درآمد ناشی از فروش'!A:Q,9,0),0) -> 0 | I10: =+G10+E10+C10 -> 17212262000 | K10: =+I10/$I$58 -> 0.0049068801 | M10: =IFERROR(VLOOKUP(A10,'درآمد سود سهام'!A:S,19,0),0) -> 14700296000 | O10: =IFERROR(VLOOKUP(A10,'درآمد ناشی از تغییر قیمت اوراق'!A:Q,17,0),0) -> 83830549638 | Q10: =IFERROR(VLOOKUP(A10,'درآمد ناشی از فروش'!A:Q,17,0),0) -> 112395108496 | S10: =+Q10+O10+M10 -> 210925954134 | U10: =+S10/$S$58 -> 0.036417135
A11: تولیدات پتروشیمی قائد بصیر | C11: =IFERROR(VLOOKUP(A11,'درآمد سود سهام'!A:S,13,0),0) -> 0 | E11: =IFERROR(VLOOKUP(A11,'درآمد ناشی از تغییر قیمت اوراق'!A:Q,9,0),0) -> 0 | G11: =IFERROR(VLOOKUP(A11,'درآمد ناشی از فروش'!A:Q,9,0),0) -> 7663543484 | I11: =+G11+E11+C11 -> 7663543484 | K11: =+I11/$I$58 -> 0.0021847268 | M11: =IFERROR(VLOOKUP(A11,'درآمد سود سهام'!A:S,19,0),0) -> 23494366400 | O11: =IFERROR(VLOOKUP(A11,'درآمد ناشی از تغییر قیمت اوراق'!A:Q,17,0),0) -> 0 | Q11: =IFERROR(VLOOKUP(A11,'درآمد ناشی از فروش'!A:Q,17,0),0) -> 10568974228 | S11: =+Q11+O11+M11 -> 34063340628 | U11: =+S11/$S$58 -> 0.0058811599
A12: کلر پارس | C12: =IFERROR(VLOOKUP(A12,'درآمد سود سهام'!A:S,13,0),0) -> 0 | E12: =IFERROR(VLOOKUP(A12,'درآمد ناشی از تغییر قیمت اوراق'!A:Q,9,0),0) -> 5246903586 | G12: =IFERROR(VLOOKUP(A12,'درآمد ناشی از فروش'!A:Q,9,0),0) -> 0 | I12: =+G12+E12+C12 -> 5246903586 | K12: =+I12/$I$58 -> 0.0014957899 | M12: =IFERROR(VLOOKUP(A12,'درآمد سود سهام'!A:S,19,0),0) -> 6709100196 | O12: =IFERROR(VLOOKUP(A12,'درآمد ناشی از تغییر قیمت اوراق'!A:Q,17,0),0) -> 20861182921 | Q12: =IFERROR(VLOOKUP(A12,'درآمد ناشی از فروش'!A:Q,17,0),0) -> -202423039 | S12: =+Q12+O12+M12 -> 27367860078 | U12: =+S12/$S$58 -> 0.0047251608
A13: پدیده شیمی قرن | C13: =IFERROR(VLOOKUP(A13,'درآمد سود سهام'!A:S,13,0),0) -> 0 | E13: =IFERROR(VLOOKUP(A13,'درآمد ناشی از تغییر قیمت اوراق'!A:Q,9,0),0) -> 3121265559 | G13: =IFERROR(VLOOKUP(A13,'درآمد ناشی از فروش'!A:Q,9,0),0) -> 0 | I13: =+G13+E13+C13 -> 3121265559 | K13: =+I13/$I$58 -> 0.00088981193 | M13: =IFERROR(VLOOKUP(A13,'درآمد سود سهام'!A:S,19,0),0) -> 5626116943 | O13: =IFERROR(VLOOKUP(A13,'درآمد ناشی از تغییر قیمت اوراق'!A:Q,17,0),0) -> 65306085848 | Q13: =IFERROR(VLOOKUP(A13,'درآمد ناشی از فروش'!A:Q,17,0),0) -> 668349048 | S13: =+Q13+O13+M13 -> 71600551839 | U13: =+S13/$S$58 -> 0.012362096
A14: آریان کیمیا تک | C14: =IFERROR(VLOOKUP(A14,'درآمد سود سهام'!A:S,13,0),0) -> 0 | E14: =IFERROR(VLOOKUP(A14,'درآمد ناشی از تغییر قیمت اوراق'!A:Q,9,0),0) -> 27171331237 | G14: =IFERROR(VLOOKUP(A14,'درآمد ناشی از فروش'!A:Q,9,0),0) -> 0 | I14: =+G14+E14+C14 -> 27171331237 | K14: =+I14/$I$58 -> 0.0077460165 | M14: =IFERROR(VLOOKUP(A14,'درآمد سود سهام'!A:S,19,0),0) -> 11041533000 | O14: =IFERROR(VLOOKUP(A14,'درآمد ناشی از تغییر قیمت اوراق'!A:Q,17,0),0) -> 133336734331 | Q14: =IFERROR(VLOOKUP(A14,'درآمد ناشی از فروش'!A:Q,17,0),0) -> 0 | S14: =+Q14+O14+M14 -> 144378267331 | U14: =+S14/$S$58 -> 0.024927434
A15: شمش طلا | C15: =IFERROR(VLOOKUP(A15,'درآمد سود سهام'!A:S,13,0),0) -> 0 | E15: =IFERROR(VLOOKUP(A15,'درآمد ناشی از تغییر قیمت اوراق'!A:Q,9,0),0) -> 91097779344 | G15: =IFERROR(VLOOKUP(A15,'درآمد ناشی از فروش'!A:Q,9,0),0) -> 0 | I15: =+G15+E15+C15 -> 91097779344 | K15: =+I15/$I$58 -> 0.0259702 | M15: =IFERROR(VLOOKUP(A15,'درآمد سود سهام'!A:S,19,0),0) -> 0 | O15: =IFERROR(VLOOKUP(A15,'درآمد ناشی از تغییر قیمت اوراق'!A:Q,17,0),0) -> 307829780069 | Q15: =IFERROR(VLOOKUP(A15,'درآمد ناشی از فروش'!A:Q,17,0),0) -> 0 | S15: =+Q15+O15+M15 -> 307829780069 | U15: =+S15/$S$58 -> 0.053147933
A16: نفت‌ بهران‌ | C16: =IFERROR(VLOOKUP(A16,'درآمد سود سهام'!A:S,13,0),0) -> 0 | E16: =IFERROR(VLOOKUP(A16,'درآمد ناشی از تغییر قیمت اوراق'!A:Q,9,0),0) -> 0 | G16: =IFERROR(VLOOKUP(A16,'درآمد ناشی از فروش'!A:Q,9,0),0) -> 0 | I16: =+G16+E16+C16 -> 0 | K16: =+I16/$I$58 -> 0 | M16: =IFERROR(VLOOKUP(A16,'درآمد سود سهام'!A:S,19,0),0) -> 0 | O16: =IFERROR(VLOOKUP(A16,'درآمد ناشی از تغییر قیمت اوراق'!A:Q,17,0),0) -> 0 | Q16: =IFERROR(VLOOKUP(A16,'درآمد ناشی از فروش'!A:Q,17,0),0) -> 9312537704 | S16: =+Q16+O16+M16 -> 9312537704 | U16: =+S16/$S$58 -> 0.0016078436
A17: سرمایه‌گذاری‌صندوق‌بازنشستگی‌ | C17: =IFERROR(VLOOKUP(A17,'درآمد سود سهام'!A:S,13,0),0) -> 0 | E17: =IFERROR(VLOOKUP(A17,'درآمد ناشی از تغییر قیمت اوراق'!A:Q,9,0),0) -> 99467829803 | G17: =IFERROR(VLOOKUP(A17,'درآمد ناشی از فروش'!A:Q,9,0),0) -> 0 | I17: =+G17+E17+C17 -> 99467829803 | K17: =+I17/$I$58 -> 0.028356338 | M17: =IFERROR(VLOOKUP(A17,'درآمد سود سهام'!A:S,19,0),0) -> 33905621120 | O17: =IFERROR(VLOOKUP(A17,'درآمد ناشی از تغییر قیمت اوراق'!A:Q,17,0),0) -> 43491576945 | Q17: =IFERROR(VLOOKUP(A17,'درآمد ناشی از فروش'!A:Q,17,0),0) -> -93177011876 | S17: =+Q17+O17+M17 -> -15779813811 | U17: =+S17/$S$58 -> -0.0027244424
A18: سرمایه‌گذاری‌غدیر(هلدینگ‌ | C18: =IFERROR(VLOOKUP(A18,'درآمد سود سهام'!A:S,13,0),0) -> 0 | E18: =IFERROR(VLOOKUP(A18,'درآمد ناشی از تغییر قیمت اوراق'!A:Q,9,0),0) -> 14601395689 | G18: =IFERROR(VLOOKUP(A18,'درآمد ناشی از فروش'!A:Q,9,0),0) -> 0 | I18: =+G18+E18+C18 -> 14601395689 | K18: =+I18/$I$58 -> 0.0041625731 | M18: =IFERROR(VLOOKUP(A18,'درآمد سود سهام'!A:S,19,0),0) -> 19375464000 | O18: =IFERROR(VLOOKUP(A18,'درآمد ناشی از تغییر قیمت اوراق'!A:Q,17,0),0) -> 58702542776 | Q18: =IFERROR(VLOOKUP(A18,'درآمد ناشی از فروش'!A:Q,17,0),0) -> 10919992936 | S18: =+Q18+O18+M18 -> 88997999712 | U18: =+S18/$S$58 -> 0.015365829
A19: پتروشیمی‌ شیراز | C19: =IFERROR(VLOOKUP(A19,'درآمد سود سهام'!A:S,13,0),0) -> 0 | E19: =IFERROR(VLOOKUP(A19,'درآمد ناشی از تغییر قیمت اوراق'!A:Q,9,0),0) -> 93038303796 | G19: =IFERROR(VLOOKUP(A19,'درآمد ناشی از فروش'!A:Q,9,0),0) -> 0 | I19: =+G19+E19+C19 -> 93038303796 | K19: =+I19/$I$58 -> 0.026523406 | M19: =IFERROR(VLOOKUP(A19,'درآمد سود سهام'!A:S,19,0),0) -> 67447945884 | O19: =IFERROR(VLOOKUP(A19,'درآمد ناشی از تغییر قیمت اوراق'!A:Q,17,0),0) -> 250187359865 | Q19: =IFERROR(VLOOKUP(A19,'درآمد ناشی از فروش'!A:Q,17,0),0) -> 251006591501 | S19: =+Q19+O19+M19 -> 568641897250 | U19: =+S19/$S$58 -> 0.098178096
... A57: کشت و دام قیام اصفهان | C57: =IFERROR(VLOOKUP(A57,'درآمد سود سهام'!A:S,13,0),0) -> 0 | E57: =IFERROR(VLOOKUP(A57,'درآمد ناشی از تغییر قیمت اوراق'!A:Q,9,0),0) -> -21910924165 | G57: =IFERROR(VLOOKUP(A57,'درآمد ناشی از فروش'!A:Q,9,0),0) -> 0 | I57: =+G57+E57+C57 -> -21910924165 | K57: =+I57/$I$58 -> -0.0062463771 | M57: =IFERROR(VLOOKUP(A57,'درآمد سود سهام'!A:S,19,0),0) -> 12334822433 | O57: =IFERROR(VLOOKUP(A57,'درآمد ناشی از تغییر قیمت اوراق'!A:Q,17,0),0) -> 68106112197 | Q57: =IFERROR(VLOOKUP(A57,'درآمد ناشی از فروش'!A:Q,17,0),0) -> 459527598 | S57: =+Q57+O57+M57 -> 80900462228 | U57: =+S57/$S$58 -> 0.01396776
C58: =SUM(C8:C57) -> 153823141031 | E58: =SUM(E8:E57) -> 3366154206603 | G58: =SUM(G8:G57) -> -12196132605 | I58: =SUM(I8:I57) -> 3507781215029 | K58: =SUM(K8:K57) -> 1 | M58: =SUM(M8:M57) -> 922039303650 | O58: =SUM(O8:O57) -> 4549225435443 | Q58: =SUM(Q8:Q57) -> 320677869306 | S58: =SUM(S8:S57) -> 5791942608399 | U58: =SUM(U8:U57) -> 1

Sheet درآمد سود سهام
A2: =+درآمدها!A2 -> صندوق سرمایه‌گذاری بخشی صنایع مفید - اکتان | B2: صندوق سرمایه‌گذاری بخشی صنایع مفید | C2: صندوق سرمایه‌گذاری بخشی صنایع مفید | D2: صندوق سرمایه‌گذاری بخشی صنایع مفید | E2: صندوق سرمایه‌گذاری بخشی صنایع مفید | F2: صندوق سرمایه‌گذاری بخشی صنایع مفید | G2: صندوق سرمایه‌گذاری بخشی صنایع مفید | H2: صندوق سرمایه‌گذاری بخشی صنایع مفید | I2: صندوق سرمایه‌گذاری بخشی صنایع مفید | J2: صندوق سرمایه‌گذاری بخشی صنایع مفید | K2: صندوق سرمایه‌گذاری بخشی صنایع مفید | L2: صندوق سرمایه‌گذاری بخشی صنایع مفید | M2: صندوق سرمایه‌گذاری بخشی صنایع مفید | N2: صندوق سرمایه‌گذاری بخشی صنایع مفید | O2: صندوق سرمایه‌گذاری بخشی صنایع مفید | P2: صندوق سرمایه‌گذاری بخشی صنایع مفید | Q2: صندوق سرمایه‌گذاری بخشی صنایع مفید | R2: صندوق سرمایه‌گذاری بخشی صنایع مفید | S2: صندوق سرمایه‌گذاری بخشی صنایع مفید
A3: صورت وضعیت درآمدها | B3: صورت وضعیت درآمدها | C3: صورت وضعیت درآمدها | D3: صورت وضعیت درآمدها | E3: صورت وضعیت درآمدها | F3: صورت وضعیت درآمدها | G3: صورت وضعیت درآمدها | H3: صورت وضعیت درآمدها | I3: صورت وضعیت درآمدها | J3: صورت وضعیت درآمدها | K3: صورت وضعیت درآمدها | L3: صورت وضعیت درآمدها | M3: صورت وضعیت درآمدها | N3: صورت وضعیت درآمدها | O3: صورت وضعیت درآمدها | P3: صورت وضعیت درآمدها | Q3: صورت وضعیت درآمدها | R3: صورت وضعیت درآمدها | S3: صورت وضعیت درآمدها
A4: =+سهام!A4 -> برای ماه منتهی به 1405/06/31 | B4: برای ماه منتهی به 1403/09/30 | C4: برای ماه منتهی به 1403/09/30 | D4: برای ماه منتهی به 1403/09/30 | E4: برای ماه منتهی به 1403/09/30 | F4: برای ماه منتهی به 1403/09/30 | G4: برای ماه منتهی به 1403/09/30 | H4: برای ماه منتهی به 1403/09/30 | I4: برای ماه منتهی به 1403/09/30 | J4: برای ماه منتهی به 1403/09/30 | K4: برای ماه منتهی به 1403/09/30 | L4: برای ماه منتهی به 1403/09/30 | M4: برای ماه منتهی به 1403/09/30 | N4: برای ماه منتهی به 1403/09/30 | O4: برای ماه منتهی به 1403/09/30 | P4: برای ماه منتهی به 1403/09/30 | Q4: برای ماه منتهی به 1403/09/30 | R4: برای ماه منتهی به 1403/09/30 | S4: برای ماه منتهی به 1403/09/30
A6: نام شرکت | C6: اطلاعات مجمع | D6: اطلاعات مجمع | E6: اطلاعات مجمع | F6: اطلاعات مجمع | G6: اطلاعات مجمع | I6: طی ماه | J6: طی ماه | K6: طی ماه | L6: طی ماه | M6: طی ماه | O6: از ابتدای سال مالی تا پایان ماه | P6: از ابتدای سال مالی تا پایان ماه | Q6: از ابتدای سال مالی تا پایان ماه | R6: از ابتدای سال مالی تا پایان ماه | S6: از ابتدای سال مالی تا پایان ماه
A7: نام شرکت | C7: تاریخ مجمع | E7: تعداد سهام متعلقه در زمان مجمع | G7: سود متعلق به هر سهم | I7: جمع درآمد سود سهام | K7: هزینه تنزیل | M7: خالص درآمد سود سهام | O7: جمع درآمد سود سهام | Q7: هزینه تنزیل | S7: خالص درآمد سود سهام
A8: سرمایه‌گذاری‌صندوق‌بازنشستگی‌ | C8: - | E8: - | G8: 0 | I8: 0 | K8: 0 | M8: 0 | O8: 33905621120 | Q8: 0 | S8: =+Q8+O8 -> 33905621120
A9: سرمایه‌گذاری‌غدیر(هلدینگ‌ | C9: - | E9: - | G9: 0 | I9: 0 | K9: 0 | M9: 0 | O9: 19375464000 | Q9: 0 | S9: =+Q9+O9 -> 19375464000
A10: پتروشیمی شیراز | C10: - | E10: - | G10: 0 | I10: 0 | K10: 0 | M10: 0 | O10: 74238937696 | Q10: -6790991812 | S10: =+Q10+O10 -> 67447945884
A11: سیمان‌هگمتان‌ | C11: - | E11: - | G11: 0 | I11: 0 | K11: 0 | M11: 0 | O11: 8398977300 | Q11: 0 | S11: =+Q11+O11 -> 8398977300
A12: سیمان‌ارومیه‌ | C12: - | E12: - | G12: 0 | I12: 0 | K12: 0 | M12: 0 | O12: 1443700000 | Q12: 0 | S12: =+Q12+O12 -> 1443700000
A13: پتروشیمی فناوران | C13: - | E13: - | G13: 0 | I13: 0 | K13: 0 | M13: 0 | O13: 20755622530 | Q13: 0 | S13: =+Q13+O13 -> 20755622530
A14: پتروشیمی خارک | C14: - | E14: - | G14: 0 | I14: 0 | K14: 0 | M14: 0 | O14: 1593375000 | Q14: 0 | S14: =+Q14+O14 -> 1593375000
A15: سیمان‌ صوفیان‌ | C15: - | E15: - | G15: 0 | I15: 0 | K15: 0 | M15: 0 | O15: 2740000000 | Q15: 0 | S15: =+Q15+O15 -> 2740000000
A16: کربن‌ ایران‌ | C16: - | E16: - | G16: 0 | I16: 0 | K16: 0 | M16: 0 | O16: 46593846690 | Q16: -1542842606 | S16: =+Q16+O16 -> 45051004084
A17: گسترش نفت و گاز پارسیان | C17: - | E17: - | G17: 0 | I17: 0 | K17: 0 | M17: 0 | O17: 128344505400 | Q17: 0 | S17: =+Q17+O17 -> 128344505400
A18: صنایع پتروشیمی کرمانشاه | C18: - | E18: - | G18: 0 | I18: 0 | K18: 0 | M18: 0 | O18: 12906655944 | Q18: -1324776609 | S18: =+Q18+O18 -> 11581879335
A19: صنایع پتروشیمی خلیج فارس | C19: 1405/06/25 | E19: 109385306 | G19: 600 | I19: 65631183600 | K19: -667435765 | M19: =+K19+I19 -> 64963747835 | O19: 65631183600 | Q19: -667435765 | S19: =+Q19+O19 -> 64963747835
A20: س. نفت و گاز و پتروشیمی تأمین | C20: 1405/06/23 | E20: 18896769 | G20: 3100 | I20: 58579983900 | K20: -986195015 | M20: =+K20+I20 -> 57593788885 | O20: 58579983900 | Q20: -986195015 | S20: =+Q20+O20 -> 57593788885
A21: نفت سپاهان | C21: - | E21: - | G21: 0 | I21: 0 | K21: 0 | M21: 0 | O21: 14700296000 | Q21: 0 | S21: =+Q21+O21 -> 14700296000
A22: تولیدات پتروشیمی قائد بصیر | C22: - | E22: - | G22: 0 | I22: 0 | K22: 0 | M22: 0 | O22: 23494366400 | Q22: 0 | S22: =+Q22+O22 -> 23494366400
A23: گروه صنعتی پاکشو | C23: - | E23: - | G23: 0 | I23: 0 | K23: 0 | M23: 0 | O23: 598773600 | Q23: -8091535 | S23: =+Q23+O23 -> 590682065
A24: مبین انرژی خلیج فارس | C24: - | E24: - | G24: 0 | I24: 0 | K24: 0 | M24: 0 | O24: 34252107200 | Q24: -1134175735 | S24: =+Q24+O24 -> 33117931465
A25: پتروشیمی جم | C25: - | E25: - | G25: 0 | I25: 0 | K25: 0 | M25: 0 | O25: 27216869604 | Q25: 0 | S25: =+Q25+O25 -> 27216869604
A26: فجر انرژی خلیج فارس | C26: - | E26: - | G26: 0 | I26: 0 | K26: 0 | M26: 0 | O26: 15140616500 | Q26: -1653551161 | S26: =+Q26+O26 -> 13487065339
A27: کشت و دام قیام اصفهان | C27: - | E27: - | G27: 0 | I27: 0 | K27: 0 | M27: 0 | O27: 12579829180 | Q27: -245006747 | S27: =+Q27+O27 -> 12334822433
A28: پتروشیمی پارس | C28: - | E28: - | G28: 0 | I28: 0 | K28: 0 | M28: 0 | O28: 95463807120 | Q28: 0 | S28: =+Q28+O28 -> 95463807120
A29: پتروشیمی نوری | C29: - | E29: - | G29: 0 | I29: 0 | K29: 0 | M29: 0 | O29: 61690786850 | Q29: 0 | S29: =+Q29+O29 -> 61690786850
A30: کلر پارس | C30: - | E30: - | G30: 0 | I30: 0 | K30: 0 | M30: 0 | O30: 6925078079 | Q30: -215977883 | S30: =+Q30+O30 -> 6709100196
A31: پدیده شیمی قرن | C31: - | E31: - | G31: 0 | I31: 0 | K31: 0 | M31: =+K31+I31 -> 0 | O31: 5672359000 | Q31: -46242057 | S31: =+Q31+O31 -> 5626116943
A32: پتروشیمی تندگویان | C32: - | E32: - | G32: 0 | I32: 0 | K32: 0 | M32: 0 | O32: 57868400700 | Q32: 0 | S32: =+Q32+O32 -> 57868400700
A33: پلیمر آریا ساسول | C33: - | E33: - | G33: 0 | I33: 0 | K33: 0 | M33: 0 | O33: 52252060000 | Q33: 0 | S33: =+Q33+O33 -> 52252060000
A34: سرمایه گذاری سیمان تامین | C34: 1405/06/16 | E34: 7436472 | G34: 4155 | I34: 30898541160 | K34: -231056392 | M34: =+K34+I34 -> 30667484768 | O34: 30898541160 | Q34: -231056392 | S34: =+Q34+O34 -> 30667484768
A35: پتروشیمی بوعلی سینا | C35: - | E35: - | G35: 0 | I35: 0 | K35: 0 | M35: 0 | O35: 4427275500 | Q35: -18119818 | S35: =+Q35+O35 -> 4409155682
A36: آریان کیمیا تک | C36: - | E36: - | G36: 0 | I36: 0 | K36: 0 | M36: 0 | O36: 11041533000 | Q36: 0 | S36: =+Q36+O36 -> 11041533000
A37: پتروشیمی اروند | C37: - | E37: - | G37: 0 | I37: 0 | K37: 0 | M37: 0 | O37: 1800000000 | Q37: -190691978 | S37: =+Q37+O37 -> 1609308022
A38: پتروشیمی غدیر | C38: - | E38: - | G38: 0 | I38: 0 | K38: 0 | M38: 0 | O38: 1836560000 | Q38: 0 | S38: =+Q38+O38 -> 1836560000
A39: رینگ اسپرت نور نی ریز | C39: - | E39: - | G39: 0 | I39: 0 | K39: 0 | M39: 0 | O39: 3895500000 | Q39: 0 | S39: =+Q39+O39 -> 3895500000
A40: رهیاب پیام گستران | C40: - | E40: - | G40: 0 | I40: 0 | K40: 0 | M40: 0 | O40: 242190000 | Q40: -8483853 | S40: =+Q40+O40 -> 233706147
A41: گروه پتروشیمی تابان فردا | C41: 1405/06/31 | E41: 1000000 | G41: 610 | I41: 610000000 | K41: -11880457 | M41: =+K41+I41 -> 598119543 | O41: 610000000 | Q41: -11880457 | S41: =+Q41+O41 -> 598119543
I42: =SUM(I8:I41) -> 155719708660 | J42: =SUM(J8:J41) -> 0 | K42: =SUM(K8:K41) -> -1896567629 | L42: =SUM(L8:L41) -> 0 | M42: =SUM(M8:M41) -> 153823141031 | N42: =SUM(N8:N41) -> 0 | O42: =SUM(O8:O41) -> 937114823073 | P42: =SUM(P8:P41) -> 0 | Q42: =SUM(Q8:Q41) -> -15075519423 | S42: =SUM(S8:S41) -> 922039303650

Sheet درآمد سپرده بانکی
A2: =+درآمدها!A2 -> صندوق سرمایه‌گذاری بخشی صنایع مفید - اکتان | B2: صندوق سرمایه‌گذاری بخشی صنایع مفید | C2: صندوق سرمایه‌گذاری بخشی صنایع مفید | D2: صندوق سرمایه‌گذاری بخشی صنایع مفید | E2: صندوق سرمایه‌گذاری بخشی صنایع مفید | F2: صندوق سرمایه‌گذاری بخشی صنایع مفید | G2: صندوق سرمایه‌گذاری بخشی صنایع مفید | H2: صندوق سرمایه‌گذاری بخشی صنایع مفید | I2: صندوق سرمایه‌گذاری بخشی صنایع مفید
A3: صورت وضعیت درآمدها | B3: صورت وضعیت درآمدها | C3: صورت وضعیت درآمدها | D3: صورت وضعیت درآمدها | E3: صورت وضعیت درآمدها | F3: صورت وضعیت درآمدها | G3: صورت وضعیت درآمدها | H3: صورت وضعیت درآمدها | I3: صورت وضعیت درآمدها
A4: =+سهام!A4 -> برای ماه منتهی به 1405/06/31 | B4: برای ماه منتهی به 1403/09/30 | C4: برای ماه منتهی به 1403/09/30 | D4: برای ماه منتهی به 1403/09/30 | E4: برای ماه منتهی به 1403/09/30 | F4: برای ماه منتهی به 1403/09/30 | G4: برای ماه منتهی به 1403/09/30 | H4: برای ماه منتهی به 1403/09/30 | I4: برای ماه منتهی به 1403/09/30
A6: نام سپرده بانکی | C6: طی ماه | D6: طی ماه | E6: طی ماه | G6: از ابتدای سال مالی تا پایان ماه | H6: از ابتدای سال مالی تا پایان ماه | I6: از ابتدای سال مالی تا پایان ماه
A7: نام سپرده | C7: سود سپرده بانکی و گواهی سپرده | E7: درصد سود به میانگین سپرده | G7: سود سپرده بانکی و گواهی سپرده | I7: درصد سود به میانگین سپرده
A8: بانک خاورمیانه آفریقا | C8: =+'سود سپرده بانکی'!G8 -> 2970612227 | E8: =+C8/$C$11 -> 0.99996629 | G8: =+'سود سپرده بانکی'!M8 -> 26947645305 | I8: =+G8/$G$11 -> 0.99996657
A9: بانک ملت مستقل مرکزی | C9: =+'سود سپرده بانکی'!G9 -> 96581 | E9: =+C9/$C$11 -> 3.2511057e-05 | G9: =+'سود سپرده بانکی'!M9 -> 876470 | I9: =+G9/$G$11 -> 3.2523832e-05
A10: بانک پاسارگاد هفت تیر | C10: =+'سود سپرده بانکی'!G10 -> 3576 | E10: =+C10/$C$11 -> 1.2037517e-06 | G10: =+'سود سپرده بانکی'!M10 -> 24398 | I10: =+G10/$G$11 -> 9.0535496e-07
C11: =SUM(C8:C10) -> 2970712384 | E11: =SUM(E8:E10) -> 1 | G11: =SUM(G8:G10) -> 26948546173 | I11: =SUM(I8:I10) -> 1

Sheet سود سپرده بانکی
A2: =+درآمدها!A2 -> صندوق سرمایه‌گذاری بخشی صنایع مفید - اکتان | B2: صندوق سرمایه‌گذاری بخشی صنایع مفید | C2: صندوق سرمایه‌گذاری بخشی صنایع مفید | D2: صندوق سرمایه‌گذاری بخشی صنایع مفید | E2: صندوق سرمایه‌گذاری بخشی صنایع مفید | F2: صندوق سرمایه‌گذاری بخشی صنایع مفید | G2: صندوق سرمایه‌گذاری بخشی صنایع مفید | H2: صندوق سرمایه‌گذاری بخشی صنایع مفید | I2: صندوق سرمایه‌گذاری بخشی صنایع مفید | J2: صندوق سرمایه‌گذاری بخشی صنایع مفید | K2: صندوق سرمایه‌گذاری بخشی صنایع مفید | L2: صندوق سرمایه‌گذاری بخشی صنایع مفید | M2: صندوق سرمایه‌گذاری بخشی صنایع مفید
A3: صورت وضعیت درآمدها | B3: صورت وضعیت درآمدها | C3: صورت وضعیت درآمدها | D3: صورت وضعیت درآمدها | E3: صورت وضعیت درآمدها | F3: صورت وضعیت درآمدها | G3: صورت وضعیت درآمدها | H3: صورت وضعیت درآمدها | I3: صورت وضعیت درآمدها | J3: صورت وضعیت درآمدها | K3: صورت وضعیت درآمدها | L3: صورت وضعیت درآمدها | M3: صورت وضعیت درآمدها
A4: =+سهام!A4 -> برای ماه منتهی به 1405/06/31 | B4: برای ماه منتهی به 1403/09/30 | C4: برای ماه منتهی به 1403/09/30 | D4: برای ماه منتهی به 1403/09/30 | E4: برای ماه منتهی به 1403/09/30 | F4: برای ماه منتهی به 1403/09/30 | G4: برای ماه منتهی به 1403/09/30 | H4: برای ماه منتهی به 1403/09/30 | I4: برای ماه منتهی به 1403/09/30 | J4: برای ماه منتهی به 1403/09/30 | K4: برای ماه منتهی به 1403/09/30 | L4: برای ماه منتهی به 1403/09/30 | M4: برای ماه منتهی به 1403/09/30
A6: مشخصات | B6: مشخصات | C6: طی ماه | D6: طی ماه | E6: طی ماه | F6: طی ماه | G6: طی ماه | I6: از ابتدای سال مالی تا پایان ماه | J6: از ابتدای سال مالی تا پایان ماه | K6: از ابتدای سال مالی تا پایان ماه | L6: از ابتدای سال مالی تا پایان ماه | M6: از ابتدای سال مالی تا پایان ماه
A7: توضیحات | C7: درآمد سود | E7: هزینه تنزیل | G7: خالص درآمد | I7: درآمد سود | K7: هزینه تنزیل | M7: خالص درآمد
A8: بانک خاورمیانه آفریقا | C8: 2970612227 | E8: 0 | G8: =+C8-E8 -> 2970612227 | I8: 26947645305 | K8: 0 | M8: =+I8-K8 -> 26947645305
A9: بانک ملت مستقل مرکزی | C9: 96581 | E9: 0 | G9: =+C9-E9 -> 96581 | I9: 876470 | K9: 0 | M9: =+I9-K9 -> 876470
A10: بانک پاسارگاد هفت تیر | C10: 3576 | E10: 0 | G10: =+C10-E10 -> 3576 | I10: 24398 | K10: 0 | M10: =+I10-K10 -> 24398
C11: =SUM(C8:C10) -> 2970712384 | E11: =SUM(E8:E10) -> 0 | G11: =SUM(G8:G10) -> 2970712384 | I11: =SUM(I8:I10) -> 26948546173 | K11: =SUM(K8:K10) -> 0 | M11: =SUM(M8:M10) -> 26948546173

Sheet درآمد ناشی از فروش
A2: =+درآمدها!A2 -> صندوق سرمایه‌گذاری بخشی صنایع مفید - اکتان | B2: صندوق سرمایه‌گذاری بخشی صنایع مفید | C2: صندوق سرمایه‌گذاری بخشی صنایع مفید | D2: صندوق سرمایه‌گذاری بخشی صنایع مفید | E2: صندوق سرمایه‌گذاری بخشی صنایع مفید | F2: صندوق سرمایه‌گذاری بخشی صنایع مفید | G2: صندوق سرمایه‌گذاری بخشی صنایع مفید | H2: صندوق سرمایه‌گذاری بخشی صنایع مفید | I2: صندوق سرمایه‌گذاری بخشی صنایع مفید | J2: صندوق سرمایه‌گذاری بخشی صنایع مفید | K2: صندوق سرمایه‌گذاری بخشی صنایع مفید | L2: صندوق سرمایه‌گذاری بخشی صنایع مفید | M2: صندوق سرمایه‌گذاری بخشی صنایع مفید | N2: صندوق سرمایه‌گذاری بخشی صنایع مفید | O2: صندوق سرمایه‌گذاری بخشی صنایع مفید | P2: صندوق سرمایه‌گذاری بخشی صنایع مفید | Q2: صندوق سرمایه‌گذاری بخشی صنایع مفید
A3: صورت وضعیت درآمدها | B3: صورت وضعیت درآمدها | C3: صورت وضعیت درآمدها | D3: صورت وضعیت درآمدها | E3: صورت وضعیت درآمدها | F3: صورت وضعیت درآمدها | G3: صورت وضعیت درآمدها | H3: صورت وضعیت درآمدها | I3: صورت وضعیت درآمدها | J3: صورت وضعیت درآمدها | K3: صورت وضعیت درآمدها | L3: صورت وضعیت درآمدها | M3: صورت وضعیت درآمدها | N3: صورت وضعیت درآمدها | O3: صورت وضعیت درآمدها | P3: صورت وضعیت درآمدها | Q3: صورت وضعیت درآمدها
A4: =+سهام!A4 -> برای ماه منتهی به 1405/06/31 | B4: برای ماه منتهی به 1403/09/30 | C4: برای ماه منتهی به 1403/09/30 | D4: برای ماه منتهی به 1403/09/30 | E4: برای ماه منتهی به 1403/09/30 | F4: برای ماه منتهی به 1403/09/30 | G4: برای ماه منتهی به 1403/09/30 | H4: برای ماه منتهی به 1403/09/30 | I4: برای ماه منتهی به 1403/09/30 | J4: برای ماه منتهی به 1403/09/30 | K4: برای ماه منتهی به 1403/09/30 | L4: برای ماه منتهی به 1403/09/30 | M4: برای ماه منتهی به 1403/09/30 | N4: برای ماه منتهی به 1403/09/30 | O4: برای ماه منتهی به 1403/09/30 | P4: برای ماه منتهی به 1403/09/30 | Q4: برای ماه منتهی به 1403/09/30
A6: نام شرکت | C6: طی ماه | D6: طی ماه | E6: طی ماه | F6: طی ماه | G6: طی ماه | H6: طی ماه | I6: طی ماه | K6: از ابتدای سال مالی تا پایان ماه | L6: از ابتدای سال مالی تا پایان ماه | M6: از ابتدای سال مالی تا پایان ماه | N6: از ابتدای سال مالی تا پایان ماه | O6: از ابتدای سال مالی تا پایان ماه | P6: از ابتدای سال مالی تا پایان ماه | Q6: از ابتدای سال مالی تا پایان ماه
A7: نام شرکت | C7: تعداد | E7: بهای فروش | G7: ارزش دفتری | I7: سود و زیان ناشی از فروش | K7: تعداد | M7: بهای فروش | O7: ارزش دفتری | Q7: سود و زیان ناشی از فروش
A8: پتروشیمی غدیر | C8: 0 | E8: 0 | G8: 0 | I8: =+E8-G8 -> 0 | K8: 566495 | M8: 15758384966 | O8: 24497014992 | Q8: =+M8-O8 -> -8738630026
A9: صندوق س.پشتوانه طلا آتش فیروزه | C9: 48515 | E9: 1796143085 | G9: 1802163532 | I9: =+E9-G9 -> -6020447 | K9: 48515 | M9: 1796143085 | O9: 1802163532 | Q9: =+M9-O9 -> -6020447
A10: احیا استیل فولاد بافت | C10: 5430000 | E10: 28060900752 | G10: 17977509385 | I10: =+E10-G10 -> 10083391367 | K10: 5430000 | M10: 28060900752 | O10: 17977509385 | Q10: =+M10-O10 -> 10083391367
A11: رینگ اسپرت نور نی ریز | C11: 0 | E11: 0 | G11: 0 | I11: =+E11-G11 -> 0 | K11: 1325000 | M11: 24204690180 | O11: 21282622866 | Q11: =+M11-O11 -> 2922067314
A12: س.کشت ودام صنایع لبنی تامین | C12: 0 | E12: 0 | G12: 0 | I12: =+E12-G12 -> 0 | K12: 7864112 | M12: 59227217363 | O12: 72468653886 | Q12: =+M12-O12 -> -13241436523
A13: س. نفت و گاز و پتروشیمی تأمین | C13: 0 | E13: 0 | G13: 0 | I13: =+E13-G13 -> 0 | K13: 800000 | M13: 18186324643 | O13: 18210813957 | Q13: =+M13-O13 -> -24489314
A14: نفت سپاهان | C14: 0 | E14: 0 | G14: 0 | I14: =+E14-G14 -> 0 | K14: 19540832 | M14: 290313086307 | O14: 177917977811 | Q14: =+M14-O14 -> 112395108496
A15: پتروشیمی پردیس | C15: 205000 | E15: 2542696174 | G15: 2067861649 | I15: =+E15-G15 -> 474834525 | K15: 22675022 | M15: 441409076912 | O15: 334590057004 | Q15: =+M15-O15 -> 106819019908
A16: سیمان‌ صوفیان‌ | C16: 0 | E16: 0 | G16: 0 | I16: =+E16-G16 -> 0 | K16: 100000 | M16: 16263305564 | O16: 15813013931 | Q16: =+M16-O16 -> 450291633
A17: پتروشیمی پارس | C17: 1 | E17: 1 | G17: 2970 | I17: =+E17-G17 -> -2969 | K17: 39325788 | M17: 85205095389 | O17: 116836233432 | Q17: =+M17-O17 -> -31631138043
A18: پتروشیمی تندگویان | C18: 0 | E18: 0 | G18: 0 | I18: =+E18-G18 -> 0 | K18: 17291087 | M18: 144676449669 | O18: 165275039840 | Q18: =+M18-O18 -> -20598590171
A19: پلیمر آریا ساسول | C19: 0 | E19: 0 | G19: 0 | I19: =+E19-G19 -> 0 | K19: 8396764 | M19: 335977702178 | O19: 333690873405 | Q19: =+M19-O19 -> 2286828773
... A44: نیان باتری خاوران | C44: 0 | E44: 0 | G44: 0 | I44: =+E44-G44 -> 0 | K44: 515000 | M44: 9766370605 | O44: 10353245953 | Q44: =+M44-O44 -> -586875348
E45: =SUM(E8:E44) -> 360418923234 | G45: =SUM(G8:G44) -> 372615055839 | I45: =SUM(I8:I44) -> -12196132605 | M45: =SUM(M8:M44) -> 4829999733621 | O45: =SUM(O8:O44) -> 4509321864315 | Q45: =SUM(Q8:Q44) -> 320677869306

Sheet درآمد ناشی از تغییر قیمت اوراق
A2: =+درآمدها!A2 -> صندوق سرمایه‌گذاری بخشی صنایع مفید - اکتان | B2: صندوق سرمایه‌گذاری بخشی صنایع مفید | C2: صندوق سرمایه‌گذاری بخشی صنایع مفید | D2: صندوق سرمایه‌گذاری بخشی صنایع مفید | E2: صندوق سرمایه‌گذاری بخشی صنایع مفید | F2: صندوق سرمایه‌گذاری بخشی صنایع مفید | G2: صندوق سرمایه‌گذاری بخشی صنایع مفید | H2: صندوق سرمایه‌گذاری بخشی صنایع مفید | I2: صندوق سرمایه‌گذاری بخشی صنایع مفید | J2: صندوق سرمایه‌گذاری بخشی صنایع مفید | K2: صندوق سرمایه‌گذاری بخشی صنایع مفید | L2: صندوق سرمایه‌گذاری بخشی صنایع مفید | M2: صندوق سرمایه‌گذاری بخشی صنایع مفید | N2: صندوق سرمایه‌گذاری بخشی صنایع مفید | O2: صندوق سرمایه‌گذاری بخشی صنایع مفید | P2: صندوق سرمایه‌گذاری بخشی صنایع مفید | Q2: صندوق سرمایه‌گذاری بخشی صنایع مفید
A3: صورت وضعیت درآمدها | B3: صورت وضعیت درآمدها | C3: صورت وضعیت درآمدها | D3: صورت وضعیت درآمدها | E3: صورت وضعیت درآمدها | F3: صورت وضعیت درآمدها | G3: صورت وضعیت درآمدها | H3: صورت وضعیت درآمدها | I3: صورت وضعیت درآمدها | J3: صورت وضعیت درآمدها | K3: صورت وضعیت درآمدها | L3: صورت وضعیت درآمدها | M3: صورت وضعیت درآمدها | N3: صورت وضعیت درآمدها | O3: صورت وضعیت درآمدها | P3: صورت وضعیت درآمدها | Q3: صورت وضعیت درآمدها
A4: =+سهام!A4 -> برای ماه منتهی به 1405/06/31 | B4: برای ماه منتهی به 1403/09/30 | C4: برای ماه منتهی به 1403/09/30 | D4: برای ماه منتهی به 1403/09/30 | E4: برای ماه منتهی به 1403/09/30 | F4: برای ماه منتهی به 1403/09/30 | G4: برای ماه منتهی به 1403/09/30 | H4: برای ماه منتهی به 1403/09/30 | I4: برای ماه منتهی به 1403/09/30 | J4: برای ماه منتهی به 1403/09/30 | K4: برای ماه منتهی به 1403/09/30 | L4: برای ماه منتهی به 1403/09/30 | M4: برای ماه منتهی به 1403/09/30 | N4: برای ماه منتهی به 1403/09/30 | O4: برای ماه منتهی به 1403/09/30 | P4: برای ماه منتهی به 1403/09/30 | Q4: برای ماه منتهی به 1403/09/30
A6: نام شرکت | C6: طی ماه | D6: طی ماه | E6: طی ماه | F6: طی ماه | G6: طی ماه | H6: طی ماه | I6: طی ماه | K6: از ابتدای سال مالی تا پایان ماه | L6: از ابتدای سال مالی تا پایان ماه | M6: از ابتدای سال مالی تا پایان ماه | N6: از ابتدای سال مالی تا پایان ماه | O6: از ابتدای سال مالی تا پایان ماه | P6: از ابتدای سال مالی تا پایان ماه | Q6: از ابتدای سال مالی تا پایان ماه
A7: نام شرکت | C7: تعداد | E7: بهای فروش | G7: ارزش دفتری | I7: سود و زیان ناشی از تغییر قیمت | K7: تعداد | M7: بهای فروش | O7: ارزش دفتری | Q7: سود و زیان ناشی از تغییر قیمت
A8: پدیده شیمی قرن | C8: 5156690 | E8: 115793835433 | G8: 112672569874 | I8: =+E8-G8 -> 3121265559 | K8: 5156690 | M8: 115793835433 | O8: 50487749585 | Q8: =+M8-O8 -> 65306085848
A9: سرمایه‌گذاری‌صندوق‌بازنشستگی‌ | C9: 18426968 | E9: 433343302635 | G9: 333875472832 | I9: =+E9-G9 -> 99467829803 | K9: 18426968 | M9: 433343302635 | O9: 389851725690 | Q9: =+M9-O9 -> 43491576945
A10: پتروشیمی نوری | C10: 25637729 | E10: 1301487344993 | G10: 874866104385 | I10: =+E10-G10 -> 426621240608 | K10: 25637729 | M10: 1301487344993 | O10: 821714798960 | Q10: =+M10-O10 -> 479772546033
A11: پتروشیمی ارغوان گسترایلام | C11: 1002000 | E11: 3330752709 | G11: 3271097436 | I11: =+E11-G11 -> 59655273 | K11: 1002000 | M11: 3330752709 | O11: 3105426855 | Q11: =+M11-O11 -> 225325854
A12: مبین انرژی خلیج فارس | C12: 13238065 | E12: 158679675871 | G12: 100437156717 | I12: =+E12-G12 -> 58242519154 | K12: 13238065 | M12: 158679675871 | O12: 202389291563 | Q12: =+M12-O12 -> -43709615692
A13: فجر انرژی خلیج فارس | C13: 1423773 | E13: 15116609411 | G13: -31843539346 | I13: =+E13-G13 -> 46960148757 | K13: 1423773 | M13: 15116609411 | O13: 20964838657 | Q13: =+M13-O13 -> -5848229246
A14: پتروشیمی خارک | C14: 212450 | E14: 19501826016 | G14: 19501826016 | I14: =+E14-G14 -> 0 | K14: 212450 | M14: 19501826016 | O14: 20867860326 | Q14: =+M14-O14 -> -1366034310
A15: پتروشیمی جم پیلن | C15: 100000 | E15: 30006244800 | G15: 30582258500 | I15: =+E15-G15 -> -576013700 | K15: 100000 | M15: 30006244800 | O15: 30582258500 | Q15: =+M15-O15 -> -576013700
A16: پلیمر آریا ساسول | C16: 10261223 | E16: 452789259594 | G16: 320139790289 | I16: =+E16-G16 -> 132649469305 | K16: 10261223 | M16: 452789259594 | O16: 387203120753 | Q16: =+M16-O16 -> 65586138841
A17: گسترش نفت و گاز پارسیان | C17: 60947443 | E17: 2059218670994 | G17: 1782237128757 | I17: =+E17-G17 -> 276981542237 | K17: 60947443 | M17: 2059218670994 | O17: 1710363477206 | Q17: =+M17-O17 -> 348855193788
A18: نفت سپاهان | C18: 7350148 | E18: 150753159127 | G18: 133540897127 | I18: =+E18-G18 -> 17212262000 | K18: 7350148 | M18: 150753159127 | O18: 66922609489 | Q18: =+M18-O18 -> 83830549638
A19: پتروشیمی بوعلی سینا | C19: 9239781 | E19: 545608954400 | G19: 349681154778 | I19: =+E19-G19 -> 195927799622 | K19: 9239781 | M19: 545608954400 | O19: 329419814574 | Q19: =+M19-O19 -> 216189139826
... A49: کشت و دام قیام اصفهان | C49: 13382797 | E49: 135449349388 | G49: 157360273553 | I49: =+E49-G49 -> -21910924165 | K49: 13382797 | M49: 135449349388 | O49: 67343237191 | Q49: =+M49-O49 -> 68106112197
E50: =SUM(E8:E49) -> 15842607581540 | G50: =SUM(G8:G49) -> 12476453374937 | I50: =SUM(I8:I49) -> 3366154206603 | M50: =SUM(M8:M49) -> 15842607581540 | O50: =SUM(O8:O49) -> 11293382146097 | Q50: =SUM(Q8:Q49) -> 4549225435443
