Workbook

Sheet سهام
A2: صندوق سرمایه‌گذاری بخشی صنایع مفید - دارونو | B2: صندوق سرمایه‌گذاری بخشی صنایع مفید | C2: صندوق سرمایه‌گذاری بخشی صنایع مفید | D2: صندوق سرمایه‌گذاری بخشی صنایع مفید | E2: صندوق سرمایه‌گذاری بخشی صنایع مفید | F2: صندوق سرمایه‌گذاری بخشی صنایع مفید | G2: صندوق سرمایه‌گذاری بخشی صنایع مفید | H2: صندوق سرمایه‌گذاری بخشی صنایع مفید | I2: صندوق سرمایه‌گذاری بخشی صنایع مفید | J2: صندوق سرمایه‌گذاری بخشی صنایع مفید | K2: صندوق سرمایه‌گذاری بخشی صنایع مفید | L2: صندوق سرمایه‌گذاری بخشی صنایع مفید | M2: صندوق سرمایه‌گذاری بخشی صنایع مفید | N2: صندوق سرمایه‌گذاری بخشی صنایع مفید | O2: صندوق سرمایه‌گذاری بخشی صنایع مفید | P2: صندوق سرمایه‌گذاری بخشی صنایع مفید | Q2: صندوق سرمایه‌گذاری بخشی صنایع مفید | R2: صندوق سرمایه‌گذاری بخشی صنایع مفید | S2: صندوق سرمایه‌گذاری بخشی صنایع مفید | T2: صندوق سرمایه‌گذاری بخشی صنایع مفید | U2: صندوق سرمایه‌گذاری بخشی صنایع مفید | V2: صندوق سرمایه‌گذاری بخشی صنایع مفید | W2: صندوق سرمایه‌گذاری بخشی صنایع مفید | X2: صندوق سرمایه‌گذاری بخشی صنایع مفید | Y2: صندوق سرمایه‌گذاری بخشی صنایع مفید
A3: صورت وضعیت پورتفوی | B3: صورت وضعیت پورتفوی | C3: صورت وضعیت پورتفوی | D3: صورت وضعیت پورتفوی | E3: صورت وضعیت پورتفوی | F3: صورت وضعیت پورتفوی | G3: صورت وضعیت پورتفوی | H3: صورت وضعیت پورتفوی | I3: صورت وضعیت پورتفوی | J3: صورت وضعیت پورتفوی | K3: صورت وضعیت پورتفوی | L3: صورت وضعیت پورتفوی | M3: صورت وضعیت پورتفوی | N3: صورت وضعیت پورتفوی | O3: صورت وضعیت پورتفوی | P3: صورت وضعیت پورتفوی | Q3: صورت وضعیت پورتفوی | R3: صورت وضعیت پورتفوی | S3: صورت وضعیت پورتفوی | T3: صورت وضعیت پورتفوی | U3: صورت وضعیت پورتفوی | V3: صورت وضعیت پورتفوی | W3: صورت وضعیت پورتفوی | X3: صورت وضعیت پورتفوی | Y3: صورت وضعیت پورتفوی
A4: برای ماه منتهی به 1405/06/31 | B4: برای ماه منتهی به 1403/09/30 | C4: برای ماه منتهی به 1403/09/30 | D4: برای ماه منتهی به 1403/09/30 | E4: برای ماه منتهی به 1403/09/30 | F4: برای ماه منتهی به 1403/09/30 | G4: برای ماه منتهی به 1403/09/30 | H4: برای ماه منتهی به 1403/09/30 | I4: برای ماه منتهی به 1403/09/30 | J4: برای ماه منتهی به 1403/09/30 | K4: برای ماه منتهی به 1403/09/30 | L4: برای ماه منتهی به 1403/09/30 | M4: برای ماه منتهی به 1403/09/30 | N4: برای ماه منتهی به 1403/09/30 | O4: برای ماه منتهی به 1403/09/30 | P4: برای ماه منتهی به 1403/09/30 | Q4: برای ماه منتهی به 1403/09/30 | R4: برای ماه منتهی به 1403/09/30 | S4: برای ماه منتهی به 1403/09/30 | T4: برای ماه منتهی به 1403/09/30 | U4: برای ماه منتهی به 1403/09/30 | V4: برای ماه منتهی به 1403/09/30 | W4: برای ماه منتهی به 1403/09/30 | X4: برای ماه منتهی به 1403/09/30 | Y4: برای ماه منتهی به 1403/09/30
A6: نام شرکت | C6: 1405/05/31 | D6: 1403/08/30 | E6: 1403/08/30 | F6: 1403/08/30 | G6: 1403/08/30 | I6: تغییرات طی دوره | J6: تغییرات طی دوره | K6: تغییرات طی دوره | L6: تغییرات طی دوره | M6: تغییرات طی دوره | N6: تغییرات طی دوره | O6: تغییرات طی دوره | Q6: 1405/06/31 | R6: 1403/09/30 | S6: 1403/09/30 | T6: 1403/09/30 | U6: 1403/09/30 | V6: 1403/09/30 | W6: 1403/09/30 | X6: 1403/09/30 | Y6: 1403/09/30
A7: نام شرکت | C7: تعداد | E7: بهای تمام شده | G7: خالص ارزش فروش | I7: خرید طی دوره | J7: خرید طی دوره | K7: خرید طی دوره | M7: فروش طی دوره | N7: فروش طی دوره | O7: فروش طی دوره | Q7: تعداد | S7: قیمت بازار | U7: بهای تمام شده | W7: خالص ارزش فروش | Y7: درصد به کل دارایی‌های صندوق
A8: نام شرکت | C8: تعداد | E8: بهای تمام شده | G8: خالص ارزش فروش | I8: تعداد | K8: بهای تمام شده | M8: تعداد | O8: مبلغ فروش | Q8: تعداد | S8: قیمت بازار | U8: بهای تمام شده | W8: خالص ارزش فروش | Y8: درصد به کل دارایی‌های صندوق
A9: البرزدارو | C9: 133221584 | E9: 596483264199 | G9: 2.0516164e+12 | I9: 16112194 | K9: 253558738421 | M9: -1225856 | O9: 20021617090 | Q9: 148107922 | S9: 15130 | U9: 843885926938 | W9: 2.2235509e+12 | Y9: 0.042237374
A10: پارس‌ دارو | C10: 22687376 | E10: 593749497985 | G10: 1.446171e+12 | I10: 8272678 | K10: 513616485449 | M10: 0 | O10: 0 | Q10: 30960054 | S10: 55220 | U10: 1107365983434 | W10: 1.6963989e+12 | Y10: 0.032223878
A11: پخش البرز | C11: 87565868 | E11: 437473937096 | G11: 1.1060968e+12 | I11: 0 | K11: 0 | M11: 0 | O11: 0 | Q11: 87565868 | S11: 13160 | U11: 437473937096 | W11: 1.143459e+12 | Y11: 0.021720531
A12: پخش هجرت | C12: 217900000 | E12: 644293633773 | G12: 1662698217770 | I12: 0 | K12: 0 | M12: -7659696 | O12: 58833418091 | Q12: 210240304 | S12: 7870 | U12: 621645201608 | W12: 1.6418012e+12 | Y12: 0.03118677
A13: توزیع دارو پخش | C13: 275525095 | E13: 598814579467 | G13: 1.566555e+12 | I13: 0 | K13: 0 | M13: -8450981 | O13: 49138148172 | Q13: 267074114 | S13: 5860 | U13: 580447575056 | W13: 1.5529564e+12 | Y13: 0.029499123
A14: تولید ژلاتین کپسول ایران | C14: 1976297 | E14: 227491295748 | G14: 3.6553417e+11 | I14: 0 | K14: 0 | M14: -114940 | O14: 19846315013 | Q14: 1861357 | S14: 174800 | U14: 214260566999 | W14: 3.2285013e+11 | Y14: 0.006132687
A15: تولیدمواداولیه‌داروپخش‌ | C15: 28596594 | E15: 560218366060 | G15: 1.4301273e+12 | I15: 2840553 | K15: 156390800050 | M15: -196740 | O15: 10009010281 | Q15: 31240407 | S15: 52810 | U15: 712124481561 | W15: 1.6370529e+12 | Y15: 0.031096574
A16: داروپخش‌ (هلدینگ‌ | C16: 46855592 | E16: 1338450856030 | G16: 2.3302491e+12 | I16: 4168004 | K16: 198270955851 | M16: 0 | O16: 0 | Q16: 51023596 | S16: 47210 | U16: 1536721811881 | W16: 2.3902038e+12 | Y16: 0.045403022
A17: داروسازی سبحان انکولوژی | C17: 48653599 | E17: 100973664181 | G17: 1.5641912e+11 | I17: 0 | K17: 0 | M17: -48653599 | O17: 156540400227 | Q17: 0 | S17: 0 | U17: 0 | W17: 0 | Y17: 0
A18: داروسازی شهید قاضی | C18: 82089393 | E18: 503168274002 | G18: 1.8889378e+12 | I18: 88759 | K18: 1850178574 | M18: 0 | O18: 0 | Q18: 82178152 | S18: 20860 | U18: 505018452576 | W18: 1.7009852e+12 | Y18: 0.032310998
A19: داروسازی کاسپین تامین | C19: 50759670 | E19: 369238510050 | G19: 1.7945868e+12 | I19: 694372 | K19: 23576719090 | M19: -272009 | O19: 10015333382 | Q19: 51182033 | S19: 34690 | U19: 390836567777 | W19: 1.7617801e+12 | Y19: 0.033465824
A20: داروسازی ‌ ابوریحان‌ | C20: 31825356 | E20: 830406721779 | G20: 1.7646539e+12 | I20: 180000 | K20: 10034316679 | M20: -6145559 | O20: 390490362146 | Q20: 25859797 | S20: 64940 | U20: 679062424560 | W20: 1.666354e+12 | Y20: 0.031653161
... A50: دارویی و نهاده های زاگرس دارو | C50: 57661754 | E50: 513058601367 | G50: 1.4984878e+12 | I50: 0 | K50: 0 | M50: -848828 | O50: 20025928101 | Q50: 56812926 | S50: 23380 | U50: 505505960726 | W50: 1.3180186e+12 | Y50: 0.02503637
E51: =SUM(E9:E50) -> 18863894043060 | G51: =SUM(G9:G50) -> 4.9317954e+13 | K51: =SUM(K9:K50) -> 3479351475586 | O51: =SUM(O9:O50) -> 3085618103760 | U51: =SUM(U9:U50) -> 21061818655701 | W51: =SUM(W9:W50) -> 4.9507302e+13 | Y51: =SUM(Y9:Y50) -> 0.94041401

Sheet سپرده
A2: =+سهام!A2 -> صندوق سرمایه‌گذاری بخشی صنایع مفید - دارونو | B2: صندوق سرمایه‌گذاری بخشی صنایع مفید | C2: صندوق سرمایه‌گذاری بخشی صنایع مفید | D2: صندوق سرمایه‌گذاری بخشی صنایع مفید | E2: صندوق سرمایه‌گذاری بخشی صنایع مفید | F2: صندوق سرمایه‌گذاری بخشی صنایع مفید | G2: صندوق سرمایه‌گذاری بخشی صنایع مفید | H2: صندوق سرمایه‌گذاری بخشی صنایع مفید | I2: صندوق سرمایه‌گذاری بخشی صنایع مفید | J2: صندوق سرمایه‌گذاری بخشی صنایع مفید | K2: صندوق سرمایه‌گذاری بخشی صنایع مفید
A3: صورت وضعیت پورتفوی | B3: صورت وضعیت پورتفوی | C3: صورت وضعیت پورتفوی | D3: صورت وضعیت پورتفوی | E3: صورت وضعیت پورتفوی | F3: صورت وضعیت پورتفوی | G3: صورت وضعیت پورتفوی | H3: صورت وضعیت پورتفوی | I3: صورت وضعیت پورتفوی | J3: صورت وضعیت پورتفوی | K3: صورت وضعیت پورتفوی
A4: =+سهام!A4 -> برای ماه منتهی به 1405/06/31 | B4: برای ماه منتهی به 1403/08/30 | C4: برای ماه منتهی به 1403/08/30 | D4: برای ماه منتهی به 1403/08/30 | E4: برای ماه منتهی به 1403/08/30 | F4: برای ماه منتهی به 1403/08/30 | G4: برای ماه منتهی به 1403/08/30 | H4: برای ماه منتهی به 1403/08/30 | I4: برای ماه منتهی به 1403/08/30 | J4: برای ماه منتهی به 1403/08/30 | K4: برای ماه منتهی به 1403/08/30
A6: سپرده | C6: =+سهام!C6 -> 1405/05/31 | E6: تغییرات طی دوره | F6: تغییرات طی دوره | G6: تغییرات طی دوره | I6: =+سهام!Q6 -> 1405/06/31 | J6: 1403/08/30 | K6: 1403/08/30
A7: سپرده | C7: مبلغ | E7: افزایش | G7: کاهش | I7: مبلغ | K7: درصد به کل دارایی‌ها
A8: بانک خاورمیانه آفریقا | C8: 80528111541 | E8: 1728112874821 | G8: 1741823370789 | I8: =+C8+E8-G8 -> 66817615573 | K8: 0.0012692314
A9: بانک ملت مستقل مرکزی | C9: 10003278 | E9: 42303 | G9: 0 | I9: =+C9+E9-G9 -> 10045581 | K9: 1.9082044e-07
A10: بانک پاسارگاد شعبه هفت تیر | C10: 9425000 | E10: 6348670159 | G10: 6348375000 | I10: =+C10+E10-G10 -> 9720159 | K10: 1.846389e-07
A11: بانک پاسارگاد شعبه هفت تیر | C11: 230000000000 | E11: 0 | G11: 0 | I11: =+C11+E11-G11 -> 230000000000 | K11: 0.004368956
C12: =SUM(C8:C11) -> 310547539819 | E12: =SUM(E8:E11) -> 1734461587283 | G12: =SUM(G8:G11) -> 1748171745789 | I12: =SUM(I8:I11) -> 296837381313 | K12: =SUM(K8:K11) -> 0.0056385628

Sheet درآمدها
A2: =+سهام!A2 -> صندوق سرمایه‌گذاری بخشی صنایع مفید - دارونو | B2: صندوق سرمایه‌گذاری بخشی صنایع مفید | C2: صندوق سرمایه‌گذاری بخشی صنایع مفید | D2: صندوق سرمایه‌گذاری بخشی صنایع مفید | E2: صندوق سرمایه‌گذاری بخشی صنایع مفید | F2: صندوق سرمایه‌گذاری بخشی صنایع مفید | G2: صندوق سرمایه‌گذاری بخشی صنایع مفید
A3: صورت وضعیت درآمدها | B3: صورت وضعیت درآمدها | C3: صورت وضعیت درآمدها | D3: صورت وضعیت درآمدها | E3: صورت وضعیت درآمدها | F3: صورت وضعیت درآمدها | G3: صورت وضعیت درآمدها
A4: =+سهام!A4 -> برای ماه منتهی به 1405/06/31 | B4: برای ماه منتهی به 1403/09/30 | C4: برای ماه منتهی به 1403/09/30 | D4: برای ماه منتهی به 1403/09/30 | E4: برای ماه منتهی به 1403/09/30 | F4: برای ماه منتهی به 1403/09/30 | G4: برای ماه منتهی به 1403/09/30
A6: توضیحات | C6: مبلغ | E6: درصد از کل درآمدها | G6: درصد به کل دارایی‌های صندوق
A7: سرمایه‌گذاری در سهام | C7: =+'درآمد سرمایه‌گذاری در سهام'!I61 -> 306647865290 | E7: =+C7/$C$9 -> 0.96237114 | G7: 0.0058249175
A8: درآمد سپرده بانکی | C8: =+'درآمد سپرده بانکی'!C14 -> 11989978967 | E8: =+C8/$C$9 -> 0.03762886 | G8: 0.00022775517
C9: =SUM(C7:C8) -> 318637844257 | E9: =SUM(E7:E8) -> 1 | G9: =SUM(G7:G8) -> 0.0060526727

Sheet سایر درآمدها
A2: =+سهام!A2 -> صندوق سرمایه‌گذاری بخشی صنایع مفید - دارونو | B2: صندوق سرمایه‌گذاری بخشی صنایع مفید | C2: صندوق سرمایه‌گذاری بخشی صنایع مفید | D2: صندوق سرمایه‌گذاری بخشی صنایع مفید | E2: صندوق سرمایه‌گذاری بخشی صنایع مفید
A3: صورت وضعیت درآمدها | B3: صورت وضعیت درآمدها | C3: صورت وضعیت درآمدها | D3: صورت وضعیت درآمدها | E3: صورت وضعیت درآمدها
A4: =+سهام!A4 -> برای ماه منتهی به 1405/06/31 | B4: برای ماه منتهی به 1403/09/30 | C4: برای ماه منتهی به 1403/09/30 | D4: برای ماه منتهی به 1403/09/30 | E4: برای ماه منتهی به 1403/09/30
E5: از ابتدای سال مالی
A6: سایر درآمدها | C6: طی ماه | E6: تا پایان ماه
A7: سایر درآمدها | C7: مبلغ | E7: مبلغ
A8: سایر درآمدها برای تنزیل سود سهام | C8: 0 | E8: 3266619544
C9: =SUM(C8:C8) -> 0 | E9: =SUM(E8:E8) -> 3266619544

Sheet درآمد سرمایه‌گذاری در سهام
A2: =+سهام!A2 -> صندوق سرمایه‌گذاری بخشی صنایع مفید - دارونو | B2: صندوق سرمایه‌گذاری بخشی صنایع مفید | C2: صندوق سرمایه‌گذاری بخشی صنایع مفید | D2: صندوق سرمایه‌گذاری بخشی صنایع مفید | E2: صندوق سرمایه‌گذاری بخشی صنایع مفید | F2: صندوق سرمایه‌گذاری بخشی صنایع مفید | G2: صندوق سرمایه‌گذاری بخشی صنایع مفید | H2: صندوق سرمایه‌گذاری بخشی صنایع مفید | I2: صندوق سرمایه‌گذاری بخشی صنایع مفید | J2: صندوق سرمایه‌گذاری بخشی صنایع مفید | K2: صندوق سرمایه‌گذاری بخشی صنایع مفید | L2: صندوق سرمایه‌گذاری بخشی صنایع مفید | M2: صندوق سرمایه‌گذاری بخشی صنایع مفید | N2: صندوق سرمایه‌گذاری بخشی صنایع مفید | O2: صندوق سرمایه‌گذاری بخشی صنایع مفید | P2: صندوق سرمایه‌گذاری بخشی صنایع مفید | Q2: صندوق سرمایه‌گذاری بخشی صنایع مفید | R2: صندوق سرمایه‌گذاری بخشی صنایع مفید | S2: صندوق سرمایه‌گذاری بخشی صنایع مفید | T2: صندوق سرمایه‌گذاری بخشی صنایع مفید | U2: صندوق سرمایه‌گذاری بخشی صنایع مفید
A3: صورت وضعیت درآمدها | B3: صورت وضعیت درآمدها | C3: صورت وضعیت درآمدها | D3: صورت وضعیت درآمدها | E3: صورت وضعیت درآمدها | F3: صورت وضعیت درآمدها | G3: صورت وضعیت درآمدها | H3: صورت وضعیت درآمدها | I3: صورت وضعیت درآمدها | J3: صورت وضعیت درآمدها | K3: صورت وضعیت درآمدها | L3: صورت وضعیت درآمدها | M3: صورت وضعیت درآمدها | N3: صورت وضعیت درآمدها | O3: صورت وضعیت درآمدها | P3: صورت وضعیت درآمدها | Q3: صورت وضعیت درآمدها | R3: صورت وضعیت درآمدها | S3: صورت وضعیت درآمدها | T3: صورت وضعیت درآمدها | U3: صورت وضعیت درآمدها
A4: =+سهام!A4 -> برای ماه منتهی به 1405/06/31 | B4: برای ماه منتهی به 1403/09/30 | C4: برای ماه منتهی به 1403/09/30 | D4: برای ماه منتهی به 1403/09/30 | E4: برای ماه منتهی به 1403/09/30 | F4: برای ماه منتهی به 1403/09/30 | G4: برای ماه منتهی به 1403/09/30 | H4: برای ماه منتهی به 1403/09/30 | I4: برای ماه منتهی به 1403/09/30 | J4: برای ماه منتهی به 1403/09/30 | K4: برای ماه منتهی به 1403/09/30 | L4: برای ماه منتهی به 1403/09/30 | M4: برای ماه منتهی به 1403/09/30 | N4: برای ماه منتهی به 1403/09/30 | O4: برای ماه منتهی به 1403/09/30 | P4: برای ماه منتهی به 1403/09/30 | Q4: برای ماه منتهی به 1403/09/30 | R4: برای ماه منتهی به 1403/09/30 | S4: برای ماه منتهی به 1403/09/30 | T4: برای ماه منتهی به 1403/09/30 | U4: برای ماه منتهی به 1403/09/30
A6: نام شرکت | C6: طی ماه | D6: طی ماه | E6: طی ماه | F6: طی ماه | G6: طی ماه | H6: طی ماه | I6: طی ماه | J6: طی ماه | K6: طی ماه | M6: از ابتدای سال مالی تا پایان ماه | N6: از ابتدای سال مالی تا پایان ماه | O6: از ابتدای سال مالی تا پایان ماه | P6: از ابتدای سال مالی تا پایان ماه | Q6: از ابتدای سال مالی تا پایان ماه | R6: از ابتدای سال مالی تا پایان ماه | S6: از ابتدای سال مالی تا پایان ماه | T6: از ابتدای سال مالی تا پایان ماه | U6: از ابتدای سال مالی تا پایان ماه
A7: نام شرکت | C7: درآمد سود سهام | E7: درآمد تغییر ارزش | G7: درآمد فروش | I7: مبلغ | K7: درصد از کل درآمدها | M7: درآمد سود سهام | O7: درآمد تغییر ارزش | Q7: درآمد فروش | S7: مبلغ | U7: درصد از کل درآمدها
A8: سرمایه گذاری شفادارو | C8: =IFERROR(VLOOKUP(A8,'درآمد سود سهام'!A:S,13,0),0) -> 0 | E8: =IFERROR(VLOOKUP(A8,'درآمد ناشی از تغییر قیمت اوراق'!A:Q,9,0),0) -> 0 | G8: =IFERROR(VLOOKUP(A8,'درآمد ناشی از فروش'!A:Q,9,0),0) -> 0 | I8: =+G8+E8+C8 -> 0 | K8: =+I8/$I$61 -> 0 | M8: =IFERROR(VLOOKUP(A8,'درآمد سود سهام'!A:S,19,0),0) -> 0 | O8: =IFERROR(VLOOKUP(A8,'درآمد ناشی از تغییر قیمت اوراق'!A:Q,17,0),0) -> 0 | Q8: =IFERROR(VLOOKUP(A8,'درآمد ناشی از فروش'!A:Q,17,0),0) -> 37238233736 | S8: =+Q8+O8+M8 -> 37238233736 | U8: =+S8/$S$61 -> 0.0012960045
A9: داروپخش‌ (هلدینگ‌ | C9: =IFERROR(VLOOKUP(A9,'درآمد سود سهام'!A:S,13,0),0) -> 0 | E9: =IFERROR(VLOOKUP(A9,'درآمد ناشی از تغییر قیمت اوراق'!A:Q,9,0),0) -> -138316319441 | G9: =IFERROR(VLOOKUP(A9,'درآمد ناشی از فروش'!A:Q,9,0),0) -> 0 | I9: =+G9+E9+C9 -> -138316319441 | K9: =+I9/$I$61 -> -0.45105913 | M9: =IFERROR(VLOOKUP(A9,'درآمد سود سهام'!A:S,19,0),0) -> 150941510951 | O9: =IFERROR(VLOOKUP(A9,'درآمد ناشی از تغییر قیمت اوراق'!A:Q,17,0),0) -> 648983040549 | Q9: =IFERROR(VLOOKUP(A9,'درآمد ناشی از فروش'!A:Q,17,0),0) -> 8637796381 | S9: =+Q9+O9+M9 -> 808562347881 | U9: =+S9/$S$61 -> 0.028140444
A10: داروسازی‌ جابرابن‌حیان‌ | C10: =IFERROR(VLOOKUP(A10,'درآمد سود سهام'!A:S,13,0),0) -> 0 | E10: =IFERROR(VLOOKUP(A10,'درآمد ناشی از تغییر قیمت اوراق'!A:Q,9,0),0) -> 70111051594 | G10: =IFERROR(VLOOKUP(A10,'درآمد ناشی از فروش'!A:Q,9,0),0) -> 0 | I10: =+G10+E10+C10 -> 70111051594 | K10: =+I10/$I$61 -> 0.22863701 | M10: =IFERROR(VLOOKUP(A10,'درآمد سود سهام'!A:S,19,0),0) -> 8828737192 | O10: =IFERROR(VLOOKUP(A10,'درآمد ناشی از تغییر قیمت اوراق'!A:Q,17,0),0) -> 252773993786 | Q10: =IFERROR(VLOOKUP(A10,'درآمد ناشی از فروش'!A:Q,17,0),0) -> 114629159 | S10: =+Q10+O10+M10 -> 261717360137 | U10: =+S10/$S$61 -> 0.0091085651
A11: داروسازی سبحان انکولوژی | C11: =IFERROR(VLOOKUP(A11,'درآمد سود سهام'!A:S,13,0),0) -> 0 | E11: =IFERROR(VLOOKUP(A11,'درآمد ناشی از تغییر قیمت اوراق'!A:Q,9,0),0) -> 0 | G11: =IFERROR(VLOOKUP(A11,'درآمد ناشی از فروش'!A:Q,9,0),0) -> 61421625884 | I11: =+G11+E11+C11 -> 61421625884 | K11: =+I11/$I$61 -> 0.20030019 | M11: =IFERROR(VLOOKUP(A11,'درآمد سود سهام'!A:S,19,0),0) -> 178106079 | O11: =IFERROR(VLOOKUP(A11,'درآمد ناشی از تغییر قیمت اوراق'!A:Q,17,0),0) -> 0 | Q11: =IFERROR(VLOOKUP(A11,'درآمد ناشی از فروش'!A:Q,17,0),0) -> 65525464400 | S11: =+Q11+O11+M11 -> 65703570479 | U11: =+S11/$S$61 -> 0.0022866853
A12: شیمی‌ داروئی‌ داروپخش‌ | C12: =IFERROR(VLOOKUP(A12,'درآمد سود سهام'!A:S,13,0),0) -> 0 | E12: =IFERROR(VLOOKUP(A12,'درآمد ناشی از تغییر قیمت اوراق'!A:Q,9,0),0) -> -40456336001 | G12: =IFERROR(VLOOKUP(A12,'درآمد ناشی از فروش'!A:Q,9,0),0) -> 8538281930 | I12: =+G12+E12+C12 -> -31918054071 | K12: =+I12/$I$61 -> -0.10408699 | M12: =IFERROR(VLOOKUP(A12,'درآمد سود سهام'!A:S,19,0),0) -> 7689767545 | O12: =IFERROR(VLOOKUP(A12,'درآمد ناشی از تغییر قیمت اوراق'!A:Q,17,0),0) -> 136638380149 | Q12: =IFERROR(VLOOKUP(A12,'درآمد ناشی از فروش'!A:Q,17,0),0) -> 2910993250 | S12: =+Q12+O12+M12 -> 147239140944 | U12: =+S12/$S$61 -> 0.0051243727
A13: سبحان دارو | C13: =IFERROR(VLOOKUP(A13,'درآمد سود سهام'!A:S,13,0),0) -> 0 | E13: =IFERROR(VLOOKUP(A13,'درآمد ناشی از تغییر قیمت اوراق'!A:Q,9,0),0) -> 400350603909 | G13: =IFERROR(VLOOKUP(A13,'درآمد ناشی از فروش'!A:Q,9,0),0) -> 234754120812 | I13: =+G13+E13+C13 -> 635104724721 | K13: =+I13/$I$61 -> 2.0711206 | M13: =IFERROR(VLOOKUP(A13,'درآمد سود سهام'!A:S,19,0),0) -> 24421499520 | O13: =IFERROR(VLOOKUP(A13,'درآمد ناشی از تغییر قیمت اوراق'!A:Q,17,0),0) -> 1784134955939 | Q13: =IFERROR(VLOOKUP(A13,'درآمد ناشی از فروش'!A:Q,17,0),0) -> 234669242604 | S13: =+Q13+O13+M13 -> 2043225698063 | U13: =+S13/$S$61 -> 0.071110507
A14: دارویی‌ رازک‌ | C14: =IFERROR(VLOOKUP(A14,'درآمد سود سهام'!A:S,13,0),0) -> 0 | E14: =IFERROR(VLOOKUP(A14,'درآمد ناشی از تغییر قیمت اوراق'!A:Q,9,0),0) -> 29381731752 | G14: =IFERROR(VLOOKUP(A14,'درآمد ناشی از فروش'!A:Q,9,0),0) -> 0 | I14: =+G14+E14+C14 -> 29381731752 | K14: =+I14/$I$61 -> 0.095815869 | M14: =IFERROR(VLOOKUP(A14,'درآمد سود سهام'!A:S,19,0),0) -> 9423383623 | O14: =IFERROR(VLOOKUP(A14,'درآمد ناشی از تغییر قیمت اوراق'!A:Q,17,0),0) -> 265029159197 | Q14: =IFERROR(VLOOKUP(A14,'درآمد ناشی از فروش'!A:Q,17,0),0) -> -1231956403 | S14: =+Q14+O14+M14 -> 273220586417 | U14: =+S14/$S$61 -> 0.0095089125
A15: سرمایه‌ گذاری‌ البرز(هلدینگ‌ | C15: =IFERROR(VLOOKUP(A15,'درآمد سود سهام'!A:S,13,0),0) -> 0 | E15: =IFERROR(VLOOKUP(A15,'درآمد ناشی از تغییر قیمت اوراق'!A:Q,9,0),0) -> -58909770017 | G15: =IFERROR(VLOOKUP(A15,'درآمد ناشی از فروش'!A:Q,9,0),0) -> 47214169219 | I15: =+G15+E15+C15 -> -11695600798 | K15: =+I15/$I$61 -> -0.038140167 | M15: =IFERROR(VLOOKUP(A15,'درآمد سود سهام'!A:S,19,0),0) -> 3193963229 | O15: =IFERROR(VLOOKUP(A15,'درآمد ناشی از تغییر قیمت اوراق'!A:Q,17,0),0) -> 47100514472 | Q15: =IFERROR(VLOOKUP(A15,'درآمد ناشی از فروش'!A:Q,17,0),0) -> 59895210104 | S15: =+Q15+O15+M15 -> 110189687805 | U15: =+S15/$S$61 -> 0.0038349383
A16: داروسازی‌ اسوه‌ | C16: =IFERROR(VLOOKUP(A16,'درآمد سود سهام'!A:S,13,0),0) -> 0 | E16: =IFERROR(VLOOKUP(A16,'درآمد ناشی از تغییر قیمت اوراق'!A:Q,9,0),0) -> -2685017685 | G16: =IFERROR(VLOOKUP(A16,'درآمد ناشی از فروش'!A:Q,9,0),0) -> 0 | I16: =+G16+E16+C16 -> -2685017685 | K16: =+I16/$I$61 -> -0.0087560293 | M16: =IFERROR(VLOOKUP(A16,'درآمد سود سهام'!A:S,19,0),0) -> 4348823400 | O16: =IFERROR(VLOOKUP(A16,'درآمد ناشی از تغییر قیمت اوراق'!A:Q,17,0),0) -> 130678402230 | Q16: =IFERROR(VLOOKUP(A16,'درآمد ناشی از فروش'!A:Q,17,0),0) -> 0 | S16: =+Q16+O16+M16 -> 135027225630 | U16: =+S16/$S$61 -> 0.0046993607
A17: آنتی بیوتیک سازی ایران | C17: =IFERROR(VLOOKUP(A17,'درآمد سود سهام'!A:S,13,0),0) -> 0 | E17: =IFERROR(VLOOKUP(A17,'درآمد ناشی از تغییر قیمت اوراق'!A:Q,9,0),0) -> 68521683730 | G17: =IFERROR(VLOOKUP(A17,'درآمد ناشی از فروش'!A:Q,9,0),0) -> 11467967202 | I17: =+G17+E17+C17 -> 79989650932 | K17: =+I17/$I$61 -> 0.26085181 | M17: =IFERROR(VLOOKUP(A17,'درآمد سود سهام'!A:S,19,0),0) -> 16147904662 | O17: =IFERROR(VLOOKUP(A17,'درآمد ناشی از تغییر قیمت اوراق'!A:Q,17,0),0) -> 324816245431 | Q17: =IFERROR(VLOOKUP(A17,'درآمد ناشی از فروش'!A:Q,17,0),0) -> 14989813792 | S17: =+Q17+O17+M17 -> 355953963885 | U17: =+S17/$S$61 -> 0.012388287
A18: توزیع دارو پخش | C18: =IFERROR(VLOOKUP(A18,'درآمد سود سهام'!A:S,13,0),0) -> 0 | E18: =IFERROR(VLOOKUP(A18,'درآمد ناشی از تغییر قیمت اوراق'!A:Q,9,0),0) -> 9628730720 | G18: =IFERROR(VLOOKUP(A18,'درآمد ناشی از فروش'!A:Q,9,0),0) -> 25910866822 | I18: =+G18+E18+C18 -> 35539597542 | K18: =+I18/$I$61 -> 0.1158971 | M18: =IFERROR(VLOOKUP(A18,'درآمد سود سهام'!A:S,19,0),0) -> 81812855064 | O18: =IFERROR(VLOOKUP(A18,'درآمد ناشی از تغییر قیمت اوراق'!A:Q,17,0),0) -> 818910818747 | Q18: =IFERROR(VLOOKUP(A18,'درآمد ناشی از فروش'!A:Q,17,0),0) -> 23620915569 | S18: =+Q18+O18+M18 -> 924344589380 | U18: =+S18/$S$61 -> 0.03217002
A19: داروسازی کاسپین تامین | C19: =IFERROR(VLOOKUP(A19,'درآمد سود سهام'!A:S,13,0),0) -> 0 | E19: =IFERROR(VLOOKUP(A19,'درآمد ناشی از تغییر قیمت اوراق'!A:Q,9,0),0) -> -52512389382 | G19: =IFERROR(VLOOKUP(A19,'درآمد ناشی از فروش'!A:Q,9,0),0) -> 6144258057 | I19: =+G19+E19+C19 -> -46368131325 | K19: =+I19/$I$61 -> -0.1512097 | M19: =IFERROR(VLOOKUP(A19,'درآمد سود سهام'!A:S,19,0),0) -> 91554488826 | O19: =IFERROR(VLOOKUP(A19,'درآمد ناشی از تغییر قیمت اوراق'!A:Q,17,0),0) -> 1019692058022 | Q19: =IFERROR(VLOOKUP(A19,'درآمد ناشی از فروش'!A:Q,17,0),0) -> 41620819998 | S19: =+Q19+O19+M19 -> 1152867366846 | U19: =+S19/$S$61 -> 0.040123312
... A60: اختیارخ فملی-22000-1405/05/14 | C60: =IFERROR(VLOOKUP(A60,'درآمد سود سهام'!A:S,13,0),0) -> 0 | E60: =IFERROR(VLOOKUP(A60,'درآمد ناشی از تغییر قیمت اوراق'!A:Q,9,0),0) -> 0 | G60: =IFERROR(VLOOKUP(A60,'درآمد ناشی از فروش'!A:Q,9,0),0) -> 0 | I60: =+G60+E60+C60 -> 0 | K60: =+I60/$I$61 -> 0 | M60: =IFERROR(VLOOKUP(A60,'درآمد سود سهام'!A:S,19,0),0) -> 0 | O60: =IFERROR(VLOOKUP(A60,'درآمد ناشی از تغییر قیمت اوراق'!A:Q,17,0),0) -> 0 | Q60: =IFERROR(VLOOKUP(A60,'درآمد ناشی از فروش'!A:Q,17,0),0) -> 1998164249 | S60: =+Q60+O60+M60 -> 1998164249 | U60: =+S60/$S$61 -> 6.9542231e-05
C61: =SUM(C8:C60) -> 195855703523 | E61: =SUM(E8:E60) -> -1565773572473 | G61: =SUM(G8:G60) -> 1676565734240 | I61: =SUM(I8:I60) -> 306647865290 | K61: =SUM(K8:K60) -> 1 | M61: =SUM(M8:M60) -> 1693823371905 | O61: =SUM(O8:O60) -> 24483688217908 | Q61: =SUM(Q8:Q60) -> 2555593820923 | S61: =SUM(S8:S60) -> 28733105410736 | U61: =SUM(U8:U60) -> 1

Sheet درآمد سود سهام
A2: صندوق سرمایه‌گذاری بخشی صنایع مفید - دارونو | B2: صندوق سرمایه‌گذاری بخشی صنایع مفید | C2: صندوق سرمایه‌گذاری بخشی صنایع مفید | D2: صندوق سرمایه‌گذاری بخشی صنایع مفید | E2: صندوق سرمایه‌گذاری بخشی صنایع مفید | F2: صندوق سرمایه‌گذاری بخشی صنایع مفید | G2: صندوق سرمایه‌گذاری بخشی صنایع مفید | H2: صندوق سرمایه‌گذاری بخشی صنایع مفید | I2: صندوق سرمایه‌گذاری بخشی صنایع مفید | J2: صندوق سرمایه‌گذاری بخشی صنایع مفید | K2: صندوق سرمایه‌گذاری بخشی صنایع مفید | L2: صندوق سرمایه‌گذاری بخشی صنایع مفید | M2: صندوق سرمایه‌گذاری بخشی صنایع مفید | N2: صندوق سرمایه‌گذاری بخشی صنایع مفید | O2: صندوق سرمایه‌گذاری بخشی صنایع مفید | P2: صندوق سرمایه‌گذاری بخشی صنایع مفید | Q2: صندوق سرمایه‌گذاری بخشی صنایع مفید | R2: صندوق سرمایه‌گذاری بخشی صنایع مفید | S2: صندوق سرمایه‌گذاری بخشی صنایع مفید
A3: صورت وضعیت درآمدها | B3: صورت وضعیت درآمدها | C3: صورت وضعیت درآمدها | D3: صورت وضعیت درآمدها | E3: صورت وضعیت درآمدها | F3: صورت وضعیت درآمدها | G3: صورت وضعیت درآمدها | H3: صورت وضعیت درآمدها | I3: صورت وضعیت درآمدها | J3: صورت وضعیت درآمدها | K3: صورت وضعیت درآمدها | L3: صورت وضعیت درآمدها | M3: صورت وضعیت درآمدها | N3: صورت وضعیت درآمدها | O3: صورت وضعیت درآمدها | P3: صورت وضعیت درآمدها | Q3: صورت وضعیت درآمدها | R3: صورت وضعیت درآمدها | S3: صورت وضعیت درآمدها
A4: =+سهام!A4 -> برای ماه منتهی به 1405/06/31 | B4: برای ماه منتهی به 1403/09/30 | C4: برای ماه منتهی به 1403/09/30 | D4: برای ماه منتهی به 1403/09/30 | E4: برای ماه منتهی به 1403/09/30 | F4: برای ماه منتهی به 1403/09/30 | G4: برای ماه منتهی به 1403/09/30 | H4: برای ماه منتهی به 1403/09/30 | I4: برای ماه منتهی به 1403/09/30 | J4: برای ماه منتهی به 1403/09/30 | K4: برای ماه منتهی به 1403/09/30 | L4: برای ماه منتهی به 1403/09/30 | M4: برای ماه منتهی به 1403/09/30 | N4: برای ماه منتهی به 1403/09/30 | O4: برای ماه منتهی به 1403/09/30 | P4: برای ماه منتهی به 1403/09/30 | Q4: برای ماه منتهی به 1403/09/30 | R4: برای ماه منتهی به 1403/09/30 | S4: برای ماه منتهی به 1403/09/30
A6: نام شرکت | C6: اطلاعات مجمع | D6: اطلاعات مجمع | E6: اطلاعات مجمع | F6: اطلاعات مجمع | G6: اطلاعات مجمع | I6: طی ماه | J6: طی ماه | K6: طی ماه | L6: طی ماه | M6: طی ماه | O6: از ابتدای سال مالی تا پایان ماه | P6: از ابتدای سال مالی تا پایان ماه | Q6: از ابتدای سال مالی تا پایان ماه | R6: از ابتدای سال مالی تا پایان ماه | S6: از ابتدای سال مالی تا پایان ماه
A7: نام شرکت | C7: تاریخ مجمع | E7: تعداد سهام متعلقه در زمان مجمع | G7: سود متعلق به هر سهم | I7: جمع درآمد سود سهام | K7: هزینه تنزیل | M7: خالص درآمد سود سهام | O7: جمع درآمد سود سهام | Q7: هزینه تنزیل | S7: خالص درآمد سود سهام
A8: سرمایه‌ گذاری‌ البرز(هلدینگ‌ | C8: - | E8: 0 | G8: 0 | I8: 0 | K8: 0 | M8: 0 | O8: 3272718487 | Q8: -78755258 | S8: =+O8+Q8 -> 3193963229
A9: جام‌دارو | C9: - | E9: 0 | G9: 0 | I9: 0 | K9: 0 | M9: 0 | O9: 22893555300 | Q9: -758064745 | S9: =+O9+Q9 -> 22135490555
A10: دارویی رازک | C10: - | E10: 0 | G10: 0 | I10: 0 | K10: 0 | M10: 0 | O10: 10572261900 | Q10: -1148878277 | S10: =+O10+Q10 -> 9423383623
A11: داروسازی‌زهراوی‌ | C11: - | E11: 0 | G11: 0 | I11: 0 | K11: 0 | M11: 0 | O11: 12304744804 | Q11: -1146404795 | S11: =+O11+Q11 -> 11158340009
A12: داروسازی کوثر | C12: - | E12: 0 | G12: 0 | I12: 0 | K12: 0 | M12: 0 | O12: 239480363 | Q12: 0 | S12: =+O12+Q12 -> 239480363
A13: داروسازی‌ فارابی‌ | C13: - | E13: 0 | G13: 0 | I13: 0 | K13: 0 | M13: 0 | O13: 92485778820 | Q13: -3650754427 | S13: =+O13+Q13 -> 88835024393
A14: فرآورده‌های‌ تزریقی‌ ایران‌ | C14: - | E14: 0 | G14: 0 | I14: 0 | K14: 0 | M14: 0 | O14: 26983125400 | Q14: -1263781462 | S14: =+O14+Q14 -> 25719343938
A15: داروسازی اسوه | C15: - | E15: 0 | G15: 0 | I15: 0 | K15: 0 | M15: 0 | O15: 4348823400 | Q15: 0 | S15: =+O15+Q15 -> 4348823400
A16: داروسازی‌ سینا | C16: - | E16: 0 | G16: 0 | I16: 0 | K16: 0 | M16: 0 | O16: 79421748000 | Q16: 0 | S16: =+O16+Q16 -> 79421748000
A17: تولیدمواداولیه‌داروپخش‌ | C17: - | E17: 0 | G17: 0 | I17: 0 | K17: 0 | M17: 0 | O17: 72851682750 | Q17: -7437502667 | S17: =+O17+Q17 -> 65414180083
A18: شیمی‌ داروئی‌ داروپخش‌ | C18: - | E18: 0 | G18: 0 | I18: 0 | K18: 0 | M18: 0 | O18: 7916247000 | Q18: -226479455 | S18: =+O18+Q18 -> 7689767545
A19: پارس‌ دارو | C19: - | E19: 0 | G19: 0 | I19: 0 | K19: 0 | M19: 0 | O19: 71407953040 | Q19: -3928592886 | S19: =+O19+Q19 -> 67479360154
... A29: پخش البرز | C29: - | E29: 0 | G29: 0 | I29: 0 | K29: 0 | M29: 0 | O29: 41648358828 | Q29: -3903725750 | S29: =+O29+Q29 -> 37744633078
A30: سرمایه گذاری دارویی تامین | C30: 1405/06/17 | E30: 109559827 | G30: 1915 | I30: 209807068705 | K30: -13951365182 | M30: =+I30+K30 -> 195855703523 | O30: 209807068705 | Q30: -13951365182 | S30: =+O30+Q30 -> 195855703523
A31: داروسازی کاسپین تامین | C31: - | E31: 0 | G31: 0 | I31: 0 | K31: 0 | M31: 0 | O31: 94439082310 | Q31: -2884593484 | S31: =+O31+Q31 -> 91554488826
A32: الحاوی | C32: - | E32: 0 | G32: 0 | I32: 0 | K32: 0 | M32: 0 | O32: 5520395500 | Q32: -217910349 | S32: =+O32+Q32 -> 5302485151
A33: مواد اولیه دارویی البرز بالک | C33: - | E33: 0 | G33: 0 | I33: 0 | K33: 0 | M33: 0 | O33: 4833826000 | Q33: 0 | S33: =+O33+Q33 -> 4833826000
A34: داروسازی سبحان انکولوژی | C34: - | E34: 0 | G34: 0 | I34: 0 | K34: 0 | M34: 0 | O34: 178106079 | Q34: 0 | S34: =+O34+Q34 -> 178106079
A35: سبحان دارو | C35: - | E35: 0 | G35: 0 | I35: 0 | K35: 0 | M35: 0 | O35: 24421499520 | Q35: 0 | S35: =+O35+Q35 -> 24421499520
A36: داروسازی آوه سینا | C36: - | E36: 0 | G36: 0 | I36: 0 | K36: 0 | M36: 0 | O36: 2202042900 | Q36: -72915328 | S36: =+O36+Q36 -> 2129127572
A37: تولید ژلاتین کپسول ایران | C37: - | E37: 0 | G37: 0 | I37: 0 | K37: 0 | M37: 0 | O37: 33701170600 | Q37: -1330309366 | S37: =+O37+Q37 -> 32370861234
A38: دارویی ره آورد تامین | C38: - | E38: 0 | G38: 0 | I38: 0 | K38: 0 | M38: 0 | O38: 91202034310 | Q38: -8342687644 | S38: =+O38+Q38 -> 82859346666
A39: پخش هجرت | C39: - | E39: 0 | G39: 0 | I39: 0 | K39: 0 | M39: 0 | O39: 87041262357 | Q39: -3435839304 | S39: =+O39+Q39 -> 83605423053
A40: توزیع دارو پخش | C40: - | E40: 0 | G40: 0 | I40: 0 | K40: 0 | M40: 0 | O40: 85175027190 | Q40: -3362172126 | S40: =+O40+Q40 -> 81812855064
A41: داروسازی دانا | C41: - | E41: 0 | G41: 0 | I41: 0 | K41: 0 | M41: 0 | O41: 78070509375 | Q41: 0 | S41: =+O41+Q41 -> 78070509375
A42: آنتی بیوتیک سازی ایران | C42: - | E42: 0 | G42: 0 | I42: 0 | K42: 0 | M42: 0 | O42: 17994959510 | Q42: -1847054848 | S42: =+O42+Q42 -> 16147904662
... A45: آترا زیست آرای | C45: - | E45: 0 | G45: 0 | I45: 0 | K45: 0 | M45: 0 | O45: 4865551635 | Q45: -151745804 | S45: =+O45+Q45 -> 4713805831
A46: کیمیا کالای رازی | C46: - | E46: 0 | G46: 0 | I46: 0 | K46: 0 | M46: =+I46+K46 -> 0 | O46: 916661080 | Q46: 0 | S46: =+O46+Q46 -> 916661080
I47: =SUM(I8:I46) -> 209807068705 | K47: =SUM(K8:K46) -> -13951365182 | M47: =SUM(M8:M46) -> 195855703523 | O47: =SUM(O8:O46) -> 1781550308475 | Q47: =SUM(Q8:Q46) -> -87726936570 | S47: =SUM(S8:S46) -> 1693823371905

Sheet درآمد سپرده بانکی
A2: =+سهام!A2 -> صندوق سرمایه‌گذاری بخشی صنایع مفید - دارونو | B2: صندوق سرمایه‌گذاری بخشی صنایع مفید | C2: صندوق سرمایه‌گذاری بخشی صنایع مفید | D2: صندوق سرمایه‌گذاری بخشی صنایع مفید | E2: صندوق سرمایه‌گذاری بخشی صنایع مفید | F2: صندوق سرمایه‌گذاری بخشی صنایع مفید | G2: صندوق سرمایه‌گذاری بخشی صنایع مفید | H2: صندوق سرمایه‌گذاری بخشی صنایع مفید | I2: صندوق سرمایه‌گذاری بخشی صنایع مفید
A3: صورت وضعیت درآمدها | B3: صورت وضعیت درآمدها | C3: صورت وضعیت درآمدها | D3: صورت وضعیت درآمدها | E3: صورت وضعیت درآمدها | F3: صورت وضعیت درآمدها | G3: صورت وضعیت درآمدها | H3: صورت وضعیت درآمدها | I3: صورت وضعیت درآمدها
A4: =+سهام!A4 -> برای ماه منتهی به 1405/06/31 | B4: برای ماه منتهی به 1403/09/30 | C4: برای ماه منتهی به 1403/09/30 | D4: برای ماه منتهی به 1403/09/30 | E4: برای ماه منتهی به 1403/09/30 | F4: برای ماه منتهی به 1403/09/30 | G4: برای ماه منتهی به 1403/09/30 | H4: برای ماه منتهی به 1403/09/30 | I4: برای ماه منتهی به 1403/09/30
A6: نام سپرده بانکی | B6: نام سپرده بانکی | C6: طی ماه | D6: طی ماه | E6: طی ماه | G6: از ابتدای سال مالی تا پایان ماه | H6: از ابتدای سال مالی تا پایان ماه | I6: از ابتدای سال مالی تا پایان ماه
A7: نام سپرده | C7: سود سپرده بانکی و گواهی سپرده | E7: درصد سود به میانگین سپرده | G7: سود سپرده بانکی و گواهی سپرده | I7: درصد سود به میانگین سپرده
A8: بانک خاورمیانه آفریقا | C8: =+'سود سپرده بانکی'!G8 -> 2055686782 | E8: =+C8/$C$14 -> 0.17145041 | G8: =+'سود سپرده بانکی'!M8 -> 22191479162 | I8: =+G8/$G$14 -> 0.4337132
A9: بانک ملت مستقل مرکزی | C9: =+'سود سپرده بانکی'!G9 -> 42303 | E9: =+C9/$C$14 -> 3.5281963e-06 | G9: =+'سود سپرده بانکی'!M9 -> 142089 | I9: =+G9/$G$14 -> 2.7770062e-06
A10: بانک پاسارگاد هفت تیر | C10: =+'سود سپرده بانکی'!G10 -> 40023 | E10: =+C10/$C$14 -> 3.3380375e-06 | G10: =+'سود سپرده بانکی'!M10 -> 40023 | I10: =+G10/$G$14 -> 7.822148e-07
A11: بانک پاسارگاد هفت تیر | C11: =+'سود سپرده بانکی'!G11 -> 9934209859 | E11: =+C11/$C$14 -> 0.82854273 | G11: =+'سود سپرده بانکی'!M11 -> 9934209859 | I11: =+G11/$G$14 -> 0.19415551
A12: بانک ملت مستقل مرکزی | C12: =+'سود سپرده بانکی'!G12 -> 0 | E12: =+C12/$C$14 -> 0 | G12: =+'سود سپرده بانکی'!M12 -> 14165386065 | I12: =+G12/$G$14 -> 0.27685018
A13: بانک ملت مستقل مرکزی | C13: =+'سود سپرده بانکی'!G13 -> 0 | E13: =+C13/$C$14 -> 0 | G13: =+'سود سپرده بانکی'!M13 -> 4874995504 | I13: =+G13/$G$14 -> 0.095277556
C14: =SUM(C8:C13) -> 11989978967 | E14: =SUM(E8:E13) -> 1 | G14: =SUM(G8:G13) -> 51166252702 | I14: =SUM(I8:I13) -> 1

Sheet سود سپرده بانکی
A2: =+سهام!A2 -> صندوق سرمایه‌گذاری بخشی صنایع مفید - دارونو | B2: صندوق سرمایه‌گذاری بخشی صنایع مفید | C2: صندوق سرمایه‌گذاری بخشی صنایع مفید | D2: صندوق سرمایه‌گذاری بخشی صنایع مفید | E2: صندوق سرمایه‌گذاری بخشی صنایع مفید | F2: صندوق سرمایه‌گذاری بخشی صنایع مفید | G2: صندوق سرمایه‌گذاری بخشی صنایع مفید | H2: صندوق سرمایه‌گذاری بخشی صنایع مفید | I2: صندوق سرمایه‌گذاری بخشی صنایع مفید | J2: صندوق سرمایه‌گذاری بخشی صنایع مفید | K2: صندوق سرمایه‌گذاری بخشی صنایع مفید | L2: صندوق سرمایه‌گذاری بخشی صنایع مفید | M2: صندوق سرمایه‌گذاری بخشی صنایع مفید
A3: صورت وضعیت درآمدها | B3: صورت وضعیت درآمدها | C3: صورت وضعیت درآمدها | D3: صورت وضعیت درآمدها | E3: صورت وضعیت درآمدها | F3: صورت وضعیت درآمدها | G3: صورت وضعیت درآمدها | H3: صورت وضعیت درآمدها | I3: صورت وضعیت درآمدها | J3: صورت وضعیت درآمدها | K3: صورت وضعیت درآمدها | L3: صورت وضعیت درآمدها | M3: صورت وضعیت درآمدها
A4: =+سهام!A4 -> برای ماه منتهی به 1405/06/31 | B4: برای ماه منتهی به 1403/09/30 | C4: برای ماه منتهی به 1403/09/30 | D4: برای ماه منتهی به 1403/09/30 | E4: برای ماه منتهی به 1403/09/30 | F4: برای ماه منتهی به 1403/09/30 | G4: برای ماه منتهی به 1403/09/30 | H4: برای ماه منتهی به 1403/09/30 | I4: برای ماه منتهی به 1403/09/30 | J4: برای ماه منتهی به 1403/09/30 | K4: برای ماه منتهی به 1403/09/30 | L4: برای ماه منتهی به 1403/09/30 | M4: برای ماه منتهی به 1403/09/30
A6: مشخصات | B6: مشخصات | C6: طی ماه | D6: طی ماه | E6: طی ماه | F6: طی ماه | G6: طی ماه | I6: از ابتدای سال مالی تا پایان ماه | J6: از ابتدای سال مالی تا پایان ماه | K6: از ابتدای سال مالی تا پایان ماه | L6: از ابتدای سال مالی تا پایان ماه | M6: از ابتدای سال مالی تا پایان ماه
A7: توضیحات | C7: درآمد سود | E7: هزینه تنزیل | G7: خالص درآمد | I7: درآمد سود | K7: هزینه تنزیل | M7: خالص درآمد
A8: بانک خاورمیانه آفریقا | C8: 2055686782 | E8: 0 | G8: =+E8+C8 -> 2055686782 | I8: 22191479162 | K8: 0 | M8: =+K8+I8 -> 22191479162
A9: بانک ملت مستقل مرکزی | C9: 42303 | E9: 0 | G9: =+E9+C9 -> 42303 | I9: 142089 | K9: 0 | M9: =+K9+I9 -> 142089
A10: بانک پاسارگاد هفت تیر | C10: 40023 | E10: 0 | G10: =+E10+C10 -> 40023 | I10: 40023 | K10: 0 | M10: =+K10+I10 -> 40023
A11: بانک پاسارگاد هفت تیر | C11: 9978219166 | E11: -44009307 | G11: =+E11+C11 -> 9934209859 | I11: 9978219166 | K11: -44009307 | M11: =+K11+I11 -> 9934209859
A12: بانک ملت مستقل مرکزی | C12: 0 | E12: 0 | G12: =+E12+C12 -> 0 | I12: 14167165779 | K12: -1779714 | M12: =+K12+I12 -> 14165386065
A13: بانک ملت مستقل مرکزی | C13: 0 | E13: 0 | G13: =+E13+C13 -> 0 | I13: 4875342444 | K13: -346940 | M13: =+K13+I13 -> 4874995504
C14: =SUM(C8:C13) -> 12033988274 | E14: =SUM(E8:E13) -> -44009307 | G14: =SUM(G8:G13) -> 11989978967 | I14: =SUM(I8:I13) -> 51212388663 | K14: =SUM(K8:K13) -> -46135961 | M14: =SUM(M8:M13) -> 51166252702

Sheet درآمد ناشی از فروش
A2: =+سهام!A2 -> صندوق سرمایه‌گذاری بخشی صنایع مفید - دارونو | B2: صندوق سرمایه‌گذاری بخشی صنایع مفید | C2: صندوق سرمایه‌گذاری بخشی صنایع مفید | D2: صندوق سرمایه‌گذاری بخشی صنایع مفید | E2: صندوق سرمایه‌گذاری بخشی صنایع مفید | F2: صندوق سرمایه‌گذاری بخشی صنایع مفید | G2: صندوق سرمایه‌گذاری بخشی صنایع مفید | H2: صندوق سرمایه‌گذاری بخشی صنایع مفید | I2: صندوق سرمایه‌گذاری بخشی صنایع مفید | J2: صندوق سرمایه‌گذاری بخشی صنایع مفید | K2: صندوق سرمایه‌گذاری بخشی صنایع مفید | L2: صندوق سرمایه‌گذاری بخشی صنایع مفید | M2: صندوق سرمایه‌گذاری بخشی صنایع مفید | N2: صندوق سرمایه‌گذاری بخشی صنایع مفید | O2: صندوق سرمایه‌گذاری بخشی صنایع مفید | P2: صندوق سرمایه‌گذاری بخشی صنایع مفید | Q2: صندوق سرمایه‌گذاری بخشی صنایع مفید
A3: صورت وضعیت درآمدها | B3: صورت وضعیت درآمدها | C3: صورت وضعیت درآمدها | D3: صورت وضعیت درآمدها | E3: صورت وضعیت درآمدها | F3: صورت وضعیت درآمدها | G3: صورت وضعیت درآمدها | H3: صورت وضعیت درآمدها | I3: صورت وضعیت درآمدها | J3: صورت وضعیت درآمدها | K3: صورت وضعیت درآمدها | L3: صورت وضعیت درآمدها | M3: صورت وضعیت درآمدها | N3: صورت وضعیت درآمدها | O3: صورت وضعیت درآمدها | P3: صورت وضعیت درآمدها | Q3: صورت وضعیت درآمدها
A4: =+سهام!A4 -> برای ماه منتهی به 1405/06/31 | B4: برای ماه منتهی به 1403/09/30 | C4: برای ماه منتهی به 1403/09/30 | D4: برای ماه منتهی به 1403/09/30 | E4: برای ماه منتهی به 1403/09/30 | F4: برای ماه منتهی به 1403/09/30 | G4: برای ماه منتهی به 1403/09/30 | H4: برای ماه منتهی به 1403/09/30 | I4: برای ماه منتهی به 1403/09/30 | J4: برای ماه منتهی به 1403/09/30 | K4: برای ماه منتهی به 1403/09/30 | L4: برای ماه منتهی به 1403/09/30 | M4: برای ماه منتهی به 1403/09/30 | N4: برای ماه منتهی به 1403/09/30 | O4: برای ماه منتهی به 1403/09/30 | P4: برای ماه منتهی به 1403/09/30 | Q4: برای ماه منتهی به 1403/09/30
A6: نام شرکت | C6: طی ماه | D6: طی ماه | E6: طی ماه | F6: طی ماه | G6: طی ماه | H6: طی ماه | I6: طی ماه | K6: از ابتدای سال مالی تا پایان ماه | L6: از ابتدای سال مالی تا پایان ماه | M6: از ابتدای سال مالی تا پایان ماه | N6: از ابتدای سال مالی تا پایان ماه | O6: از ابتدای سال مالی تا پایان ماه | P6: از ابتدای سال مالی تا پایان ماه | Q6: از ابتدای سال مالی تا پایان ماه
A7: نام شرکت | C7: تعداد | E7: بهای فروش | G7: ارزش دفتری | I7: سود و زیان ناشی از فروش | K7: تعداد | M7: بهای فروش | O7: ارزش دفتری | Q7: سود و زیان ناشی از فروش
A8: جام‌دارو | C8: 9207870 | E8: 160439307077 | G8: 96718089256 | I8: =+E8-G8 -> 63721217821 | K8: 14536241 | M8: 236820183874 | O8: 151866147502 | Q8: =+M8-O8 -> 84954036372
A9: پخش البرز | C9: 0 | E9: 0 | G9: 0 | I9: =+E9-G9 -> 0 | K9: 7011528 | M9: 67259209361 | O9: 46356788184 | Q9: =+M9-O9 -> 20902421177
A10: دارویی ره آورد تامین | C10: 0 | E10: 0 | G10: 0 | I10: =+E10-G10 -> 0 | K10: 3979010 | M10: 48489706725 | O10: 46184044682 | Q10: =+M10-O10 -> 2305662043
A11: ح. پخش البرز | C11: 0 | E11: 0 | G11: 0 | I11: =+E11-G11 -> 0 | K11: 11512918 | M11: 38579788218 | O11: 66818526468 | Q11: =+M11-O11 -> -28238738250
A12: توزیع دارو پخش | C12: 8450981 | E12: 49138148172 | G12: 23227281350 | I12: =+E12-G12 -> 25910866822 | K12: 24250409 | M12: 86223203091 | O12: 62602287522 | Q12: =+M12-O12 -> 23620915569
A13: پخش هجرت | C13: 7659696 | E13: 58833418091 | G13: 25607785012 | I13: =+E13-G13 -> 33225633079 | K13: 22163420 | M13: 128568130898 | O13: 68341772401 | Q13: =+M13-O13 -> 60226358497
A14: تولید ژلاتین کپسول ایران | C14: 114940 | E14: 19846315013 | G14: 16708339935 | I14: =+E14-G14 -> 3137975078 | K14: 497766 | M14: 79826766716 | O14: 68223279170 | Q14: =+M14-O14 -> 11603487546
A15: سرمایه‌ گذاری‌ البرز(هلدینگ‌ | C15: 36784169 | E15: 134923254429 | G15: 87709085210 | I15: =+E15-G15 -> 47214169219 | K15: 54371792 | M15: 189540659880 | O15: 129645449776 | Q15: =+M15-O15 -> 59895210104
A16: داروپخش‌ (هلدینگ‌ | C16: 0 | E16: 0 | G16: 0 | I16: =+E16-G16 -> 0 | K16: 1804009 | M16: 60075545793 | O16: 51437749412 | Q16: =+M16-O16 -> 8637796381
A17: سرمایه گذاری شفادارو | C17: 0 | E17: 0 | G17: 0 | I17: =+E17-G17 -> 0 | K17: 12750757 | M17: 205259365386 | O17: 168021131650 | Q17: =+M17-O17 -> 37238233736
A18: کیمیا کالای رازی | C18: 0 | E18: 0 | G18: 0 | I18: =+E18-G18 -> 0 | K18: 2412266 | M18: 39998423947 | O18: 37071541167 | Q18: =+M18-O18 -> 2926882780
A19: سرمایه گذاری دارویی تامین | C19: 1 | E19: 1 | G19: 17224 | I19: =+E19-G19 -> -17223 | K19: 3238723 | M19: 130140475010 | O19: 123917881474 | Q19: =+M19-O19 -> 6222593536
... A57: داروسازی کوثر | C57: 0 | E57: 0 | G57: 0 | I57: =+E57-G57 -> 0 | K57: 4967336 | M57: 48778964415 | O57: 58407921013 | Q57: =+M57-O57 -> -9628956598
A58: اختیارخ فملی-22000-1405/05/14 | C58: 0 | E58: 0 | G58: 0 | I58: 0 | K58: - | M58: 0 | O58: 0 | Q58: 1998164249
E59: =SUM(E8:E58) -> 3085618103760 | G59: =SUM(G8:G58) -> 1409052369520 | I59: =SUM(I8:I58) -> 1676565734240 | M59: =SUM(M8:M58) -> 6770716395323 | O59: =SUM(O8:O58) -> 4217120738649 | Q59: =SUM(Q8:Q58) -> 2555593820923

Sheet درآمد ناشی از تغییر قیمت اوراق
A2: =+سهام!A2 -> صندوق سرمایه‌گذاری بخشی صنایع مفید - دارونو | B2: صندوق سرمایه‌گذاری بخشی صنایع مفید | C2: صندوق سرمایه‌گذاری بخشی صنایع مفید | D2: صندوق سرمایه‌گذاری بخشی صنایع مفید | E2: صندوق سرمایه‌گذاری بخشی صنایع مفید | F2: صندوق سرمایه‌گذاری بخشی صنایع مفید | G2: صندوق سرمایه‌گذاری بخشی صنایع مفید | H2: صندوق سرمایه‌گذاری بخشی صنایع مفید | I2: صندوق سرمایه‌گذاری بخشی صنایع مفید | J2: صندوق سرمایه‌گذاری بخشی صنایع مفید | K2: صندوق سرمایه‌گذاری بخشی صنایع مفید | L2: صندوق سرمایه‌گذاری بخشی صنایع مفید | M2: صندوق سرمایه‌گذاری بخشی صنایع مفید | N2: صندوق سرمایه‌گذاری بخشی صنایع مفید | O2: صندوق سرمایه‌گذاری بخشی صنایع مفید | P2: صندوق سرمایه‌گذاری بخشی صنایع مفید | Q2: صندوق سرمایه‌گذاری بخشی صنایع مفید
A3: صورت وضعیت درآمدها | B3: صورت وضعیت درآمدها | C3: صورت وضعیت درآمدها | D3: صورت وضعیت درآمدها | E3: صورت وضعیت درآمدها | F3: صورت وضعیت درآمدها | G3: صورت وضعیت درآمدها | H3: صورت وضعیت درآمدها | I3: صورت وضعیت درآمدها | J3: صورت وضعیت درآمدها | K3: صورت وضعیت درآمدها | L3: صورت وضعیت درآمدها | M3: صورت وضعیت درآمدها | N3: صورت وضعیت درآمدها | O3: صورت وضعیت درآمدها | P3: صورت وضعیت درآمدها | Q3: صورت وضعیت درآمدها
A4: =+سهام!A4 -> برای ماه منتهی به 1405/06/31 | B4: برای ماه منتهی به 1403/09/30 | C4: برای ماه منتهی به 1403/09/30 | D4: برای ماه منتهی به 1403/09/30 | E4: برای ماه منتهی به 1403/09/30 | F4: برای ماه منتهی به 1403/09/30 | G4: برای ماه منتهی به 1403/09/30 | H4: برای ماه منتهی به 1403/09/30 | I4: برای ماه منتهی به 1403/09/30 | J4: برای ماه منتهی به 1403/09/30 | K4: برای ماه منتهی به 1403/09/30 | L4: برای ماه منتهی به 1403/09/30 | M4: برای ماه منتهی به 1403/09/30 | N4: برای ماه منتهی به 1403/09/30 | O4: برای ماه منتهی به 1403/09/30 | P4: برای ماه منتهی به 1403/09/30 | Q4: برای ماه منتهی به 1403/09/30
A6: نام شرکت | C6: طی ماه | D6: طی ماه | E6: طی ماه | F6: طی ماه | G6: طی ماه | H6: طی ماه | I6: طی ماه | K6: از ابتدای سال مالی تا پایان ماه | L6: از ابتدای سال مالی تا پایان ماه | M6: از ابتدای سال مالی تا پایان ماه | N6: از ابتدای سال مالی تا پایان ماه | O6: از ابتدای سال مالی تا پایان ماه | P6: از ابتدای سال مالی تا پایان ماه | Q6: از ابتدای سال مالی تا پایان ماه
A7: نام شرکت | C7: تعداد | E7: بهای فروش | G7: ارزش دفتری | I7: سود و زیان ناشی از تغییر قیمت | K7: تعداد | M7: بهای فروش | O7: ارزش دفتری | Q7: سود و زیان ناشی از تغییر قیمت
A8: داروپخش‌ (هلدینگ‌ | C8: 51023596 | E8: 2390203757894 | G8: 2528520077335 | I8: =+E8-G8 -> -138316319441 | K8: 51023596 | M8: 2390203757894 | O8: 1741220717345 | Q8: =+M8-O8 -> 648983040549
A9: داروسازی‌ جابرابن‌حیان‌ | C9: 16435729 | E9: 756396616192 | G9: 686285564598 | I9: =+E9-G9 -> 70111051594 | K9: 16435729 | M9: 756396616192 | O9: 503622622406 | Q9: =+M9-O9 -> 252773993786
A10: شیمی‌ داروئی‌ داروپخش‌ | C10: 8909860 | E10: 361242719921 | G10: 401699055922 | I10: =+E10-G10 -> -40456336001 | K10: 8909860 | M10: 361242719921 | O10: 224604339772 | Q10: =+M10-O10 -> 136638380149
A11: سبحان دارو | C11: 157627390 | E11: 2518183777432 | G11: 2117833173523 | I11: =+E11-G11 -> 400350603909 | K11: 157627390 | M11: 2518183777432 | O11: 734048821493 | Q11: =+M11-O11 -> 1784134955939
A12: دارویی رازک | C12: 105959013 | E12: 459461580755 | G12: 430079849003 | I12: =+E12-G12 -> 29381731752 | K12: 105959013 | M12: 459461580755 | O12: 194432421558 | Q12: =+M12-O12 -> 265029159197
A13: گروه دارویی سبحان | C13: 47527585 | E13: 285319190446 | G13: 324816745367 | I13: =+E13-G13 -> -39497554921 | K13: 47527585 | M13: 285319190446 | O13: 185084609811 | Q13: =+M13-O13 -> 100234580635
A14: سرمایه‌ گذاری‌ البرز(هلدینگ‌ | C14: 36042094 | E14: 133040177642 | G14: 191949947659 | I14: =+E14-G14 -> -58909770017 | K14: 36042094 | M14: 133040177642 | O14: 85939663170 | Q14: =+M14-O14 -> 47100514472
A15: شرکت کی بی سی | C15: 3798779 | E15: 41463558822 | G15: 33133152912 | I15: =+E15-G15 -> 8330405910 | K15: 3798779 | M15: 41463558822 | O15: 21333683879 | Q15: =+M15-O15 -> 20129874943
A16: داروسازی اسوه | C16: 2416013 | E16: 212092423810 | G16: 214777441495 | I16: =+E16-G16 -> -2685017685 | K16: 2416013 | M16: 212092423810 | O16: 81414021580 | Q16: =+M16-O16 -> 130678402230
A17: آنتی بیوتیک سازی ایران | C17: 18100337 | E17: 590897863895 | G17: 522376180165 | I17: =+E17-G17 -> 68521683730 | K17: 18100337 | M17: 590897863895 | O17: 266081618464 | Q17: =+M17-O17 -> 324816245431
A18: توزیع دارو پخش | C18: 267074114 | E18: 1552956438239 | G18: 1543327707519 | I18: =+E18-G18 -> 9628730720 | K18: 267074114 | M18: 1552956438239 | O18: 734045619492 | Q18: =+M18-O18 -> 818910818747
A19: داروسازی کاسپین تامین | C19: 51182033 | E19: 1761780073247 | G19: 1814292462629 | I19: =+E19-G19 -> -52512389382 | K19: 51182033 | M19: 1761780073247 | O19: 742088015225 | Q19: =+M19-O19 -> 1019692058022
... A46: فرآورده‌های‌ تزریقی‌ ایران‌ | C46: 18006551 | E46: 805103257857 | G46: 956566176975 | I46: =+E46-G46 -> -151462919118 | K46: 18006551 | M46: 805103257857 | O46: 359901986877 | Q46: =+M46-O46 -> 445201270980
E47: =SUM(E8:E46) -> 49507301962180 | G47: =SUM(G8:G46) -> 51073075534653 | I47: =SUM(I8:I46) -> -1565773572473 | M47: =SUM(M8:M46) -> 49507301962180 | O47: =SUM(O8:O46) -> 25023613744272 | Q47: =SUM(Q8:Q46) -> 24483688217908
