Workbook

Sheet سهام
A2: صندوق سرمایه‌گذاری بخشی صنایع مفید - معدن | B2: صندوق سرمایه‌گذاری بخشی صنایع مفید | C2: صندوق سرمایه‌گذاری بخشی صنایع مفید | D2: صندوق سرمایه‌گذاری بخشی صنایع مفید | E2: صندوق سرمایه‌گذاری بخشی صنایع مفید | F2: صندوق سرمایه‌گذاری بخشی صنایع مفید | G2: صندوق سرمایه‌گذاری بخشی صنایع مفید | H2: صندوق سرمایه‌گذاری بخشی صنایع مفید | I2: صندوق سرمایه‌گذاری بخشی صنایع مفید | J2: صندوق سرمایه‌گذاری بخشی صنایع مفید | K2: صندوق سرمایه‌گذاری بخشی صنایع مفید | L2: صندوق سرمایه‌گذاری بخشی صنایع مفید | M2: صندوق سرمایه‌گذاری بخشی صنایع مفید | N2: صندوق سرمایه‌گذاری بخشی صنایع مفید | O2: صندوق سرمایه‌گذاری بخشی صنایع مفید | P2: صندوق سرمایه‌گذاری بخشی صنایع مفید | Q2: صندوق سرمایه‌گذاری بخشی صنایع مفید | R2: صندوق سرمایه‌گذاری بخشی صنایع مفید | S2: صندوق سرمایه‌گذاری بخشی صنایع مفید | T2: صندوق سرمایه‌گذاری بخشی صنایع مفید | U2: صندوق سرمایه‌گذاری بخشی صنایع مفید | V2: صندوق سرمایه‌گذاری بخشی صنایع مفید | W2: صندوق سرمایه‌گذاری بخشی صنایع مفید | X2: صندوق سرمایه‌گذاری بخشی صنایع مفید | Y2: صندوق سرمایه‌گذاری بخشی صنایع مفید
A3: صورت وضعیت پورتفوی | B3: صورت وضعیت پورتفوی | C3: صورت وضعیت پورتفوی | D3: صورت وضعیت پورتفوی | E3: صورت وضعیت پورتفوی | F3: صورت وضعیت پورتفوی | G3: صورت وضعیت پورتفوی | H3: صورت وضعیت پورتفوی | I3: صورت وضعیت پورتفوی | J3: صورت وضعیت پورتفوی | K3: صورت وضعیت پورتفوی | L3: صورت وضعیت پورتفوی | M3: صورت وضعیت پورتفوی | N3: صورت وضعیت پورتفوی | O3: صورت وضعیت پورتفوی | P3: صورت وضعیت پورتفوی | Q3: صورت وضعیت پورتفوی | R3: صورت وضعیت پورتفوی | S3: صورت وضعیت پورتفوی | T3: صورت وضعیت پورتفوی | U3: صورت وضعیت پورتفوی | V3: صورت وضعیت پورتفوی | W3: صورت وضعیت پورتفوی | X3: صورت وضعیت پورتفوی | Y3: صورت وضعیت پورتفوی
A4: برای ماه منتهی به 1405/06/31 | B4: برای ماه منتهی به 1403/09/30 | C4: برای ماه منتهی به 1403/09/30 | D4: برای ماه منتهی به 1403/09/30 | E4: برای ماه منتهی به 1403/09/30 | F4: برای ماه منتهی به 1403/09/30 | G4: برای ماه منتهی به 1403/09/30 | H4: برای ماه منتهی به 1403/09/30 | I4: برای ماه منتهی به 1403/09/30 | J4: برای ماه منتهی به 1403/09/30 | K4: برای ماه منتهی به 1403/09/30 | L4: برای ماه منتهی به 1403/09/30 | M4: برای ماه منتهی به 1403/09/30 | N4: برای ماه منتهی به 1403/09/30 | O4: برای ماه منتهی به 1403/09/30 | P4: برای ماه منتهی به 1403/09/30 | Q4: برای ماه منتهی به 1403/09/30 | R4: برای ماه منتهی به 1403/09/30 | S4: برای ماه منتهی به 1403/09/30 | T4: برای ماه منتهی به 1403/09/30 | U4: برای ماه منتهی به 1403/09/30 | V4: برای ماه منتهی به 1403/09/30 | W4: برای ماه منتهی به 1403/09/30 | X4: برای ماه منتهی به 1403/09/30 | Y4: برای ماه منتهی به 1403/09/30
A6: نام شرکت | C6: 1405/05/31 | D6: 1403/08/30 | E6: 1403/08/30 | F6: 1403/08/30 | G6: 1403/08/30 | I6: تغییرات طی دوره | J6: تغییرات طی دوره | K6: تغییرات طی دوره | L6: تغییرات طی دوره | M6: تغییرات طی دوره | N6: تغییرات طی دوره | O6: تغییرات طی دوره | Q6: 1405/06/31 | R6: 1403/09/30 | S6: 1403/09/30 | T6: 1403/09/30 | U6: 1403/09/30 | V6: 1403/09/30 | W6: 1403/09/30 | X6: 1403/09/30 | Y6: 1403/09/30
A7: نام شرکت | C7: تعداد | E7: بهای تمام شده | G7: خالص ارزش فروش | I7: خرید طی دوره | J7: خرید طی دوره | K7: خرید طی دوره | M7: فروش طی دوره | N7: فروش طی دوره | O7: فروش طی دوره | Q7: تعداد | S7: قیمت بازار | U7: بهای تمام شده | W7: خالص ارزش فروش | Y7: درصد به کل دارایی‌های صندوق
A8: نام شرکت | C8: تعداد | E8: بهای تمام شده | G8: خالص ارزش فروش | I8: تعداد | K8: بهای تمام شده | M8: تعداد | O8: مبلغ فروش | Q8: تعداد | S8: قیمت بازار | U8: بهای تمام شده | W8: خالص ارزش فروش | Y8: درصد به کل دارایی‌های صندوق
A9: سرمایه گذاری صدرتامین | C9: 84489628 | E9: 869350890307 | G9: 1.7521833e+12 | I9: 3532984 | K9: 98556715643 | M9: 0 | O9: 0 | Q9: 88022612 | S9: 29940 | U9: 967907605950 | W9: 2.6150254e+12 | Y9: 0.23007259
A10: سنگ آهن گهرزمین | C10: 27000000 | E10: 152346539657 | G10: 180841207500 | I10: 0 | K10: 0 | M10: 0 | O10: 0 | Q10: 27000000 | S10: 7300 | U10: 152346539657 | W10: 195576417000 | Y10: 0.017207012
A11: توسعه معادن وفلزات | C11: 1048401396 | E11: 2123385908619 | G11: 2962766577139 | I11: 164673283 | K11: 288965147109 | M11: -3194645 | O11: 9013352035 | Q11: 1209880034 | S11: 3250 | U11: 2624690514669 | W11: 3.9017149e+12 | Y11: 0.34327684
A12: بین المللی توسعه ص. معادن غدیر | C12: 85000000 | E12: 282284601006 | G12: 404002730500 | I12: 0 | K12: 0 | M12: 0 | O12: 0 | Q12: 85000000 | S12: 6760 | U12: 282284601006 | W12: 570158342000 | Y12: 0.05016311
A13: سرمایه گذاری تامین اجتماعی | C13: 40000000 | E13: 60406862670 | G13: 114428576400 | I13: 0 | K13: 0 | M13: 0 | O13: 0 | Q13: 40000000 | S13: 3540 | U13: 60406862670 | W13: 140505432000 | Y13: 0.012361811
A14: سرمایه‌گذاری‌غدیر(هلدینگ‌ | C14: 5300000 | E14: 51638075580 | G14: 99763818070 | I14: 0 | K14: 0 | M14: 0 | O14: 0 | Q14: 5300000 | S14: 20420 | U14: 51638075580 | W14: 107389413020 | Y14: 0.0094482297
A15: گروه مالی صبا تامین | C15: 63268194 | E15: 243669179155 | G15: 4.3882612e+11 | I15: 13739065 | K15: 123365465754 | M15: 0 | O15: 0 | Q15: 77007259 | S15: 8990 | U15: 367034644909 | W15: 6.8694382e+11 | Y15: 0.060438015
A16: توسعه معدنی و صنعتی صبانور | C16: 73000000 | E16: 298606518317 | G16: 341172194100 | I16: 0 | K16: 0 | M16: 0 | O16: 0 | Q16: 73000000 | S16: 5960 | U16: 298606518317 | W16: 431716831600 | Y16: 0.037982886
A17: ح . معدنی و صنعتی گل گهر | C17: 27458735 | E17: 26305468130 | G17: 4.8716704e+10 | I17: 0 | K17: 0 | M17: -27458735 | O17: 0 | Q17: 0 | S17: 0 | U17: 0 | W17: 0 | Y17: 0
A18: گروه مالی نماد غدیر(سهامی عام) | C18: 10000000 | E18: 31479636203 | G18: 35126358000 | I18: 0 | K18: 0 | M18: 0 | O18: 0 | Q18: 10000000 | S18: 3980 | U18: 31479636203 | W18: 39492346000 | Y18: 0.0034745767
A19: پنبه و دانه های روغنی خراسان | C19: 300000 | E19: 4117858896 | G19: 5766080970 | I19: 0 | K19: 0 | M19: 0 | O19: 0 | Q19: 300000 | S19: 17250 | U19: 4117858896 | W19: 5134997250 | Y19: 0.00045178228
A20: آهن و فولاد غدیر ایرانیان | C20: 0 | E20: 0 | G20: 0 | I20: 900000 | K20: 4689365967 | M20: 0 | O20: 0 | Q20: 900000 | S20: 7300 | U20: 4689365967 | W20: 6519213900 | Y20: 0.00057356706
... A43: سیمان‌ تهران‌ | C43: 1670909 | E43: 20681745171 | G43: 1.9846175e+10 | I43: 0 | K43: 0 | M43: 0 | O43: 0 | Q43: 1670909 | S43: 13140 | U43: 20681745171 | W43: 2.1786026e+10 | Y43: 0.0019167567
E44: =SUM(E9:E43) -> 5313212984551 | G44: =SUM(G9:G43) -> 7.8966902e+12 | K44: =SUM(K9:K43) -> 1158192670664 | O44: =SUM(O9:O43) -> 21840860477 | U44: =SUM(U9:U43) -> 6699885574826 | W44: =SUM(W9:W43) -> 1.0980068e+13 | Y44: =SUM(Y9:Y43) -> 0.96603754

Sheet سپرده
A2: =+سهام!A2 -> صندوق سرمایه‌گذاری بخشی صنایع مفید - معدن | B2: صندوق سرمایه‌گذاری بخشی صنایع مفید | C2: صندوق سرمایه‌گذاری بخشی صنایع مفید | D2: صندوق سرمایه‌گذاری بخشی صنایع مفید | E2: صندوق سرمایه‌گذاری بخشی صنایع مفید | F2: صندوق سرمایه‌گذاری بخشی صنایع مفید | G2: صندوق سرمایه‌گذاری بخشی صنایع مفید | H2: صندوق سرمایه‌گذاری بخشی صنایع مفید | I2: صندوق سرمایه‌گذاری بخشی صنایع مفید | J2: صندوق سرمایه‌گذاری بخشی صنایع مفید | K2: صندوق سرمایه‌گذاری بخشی صنایع مفید
A3: صورت وضعیت پورتفوی | B3: صورت وضعیت پورتفوی | C3: صورت وضعیت پورتفوی | D3: صورت وضعیت پورتفوی | E3: صورت وضعیت پورتفوی | F3: صورت وضعیت پورتفوی | G3: صورت وضعیت پورتفوی | H3: صورت وضعیت پورتفوی | I3: صورت وضعیت پورتفوی | J3: صورت وضعیت پورتفوی | K3: صورت وضعیت پورتفوی
A4: =+سهام!A4 -> برای ماه منتهی به 1405/06/31 | B4: برای ماه منتهی به 1403/08/30 | C4: برای ماه منتهی به 1403/08/30 | D4: برای ماه منتهی به 1403/08/30 | E4: برای ماه منتهی به 1403/08/30 | F4: برای ماه منتهی به 1403/08/30 | G4: برای ماه منتهی به 1403/08/30 | H4: برای ماه منتهی به 1403/08/30 | I4: برای ماه منتهی به 1403/08/30 | J4: برای ماه منتهی به 1403/08/30 | K4: برای ماه منتهی به 1403/08/30
A6: سپرده | C6: =+سهام!C6 -> 1405/05/31 | E6: تغییرات طی دوره | F6: تغییرات طی دوره | G6: تغییرات طی دوره | I6: =+سهام!Q6 -> 1405/06/31 | J6: 1403/08/30 | K6: 1403/08/30
A7: سپرده | C7: مبلغ | E7: افزایش | G7: کاهش | I7: مبلغ | K7: درصد به کل دارایی‌ها
A8: بانک خاورمیانه شعبه آفریقا | C8: 232921081651 | E8: 1306550493658 | G8: 1379697467228 | I8: =+C8+E8-G8 -> 159774108081 | K8: 0.014057088
A9: بانک ملت شعبه مستقل مرکزی | C9: 15505276 | E9: 65567 | G9: 0 | I9: =+C9+E9-G9 -> 15570843 | K9: 1.3699386e-06
A10: بانک پاسارگاد شعبه هفت تیر | C10: 19175000 | E10: 81428 | G10: 0 | I10: =+C10+E10-G10 -> 19256428 | K10: 1.6942001e-06
C11: =SUM(C8:C10) -> 232955761927 | E11: =SUM(E8:E10) -> 1306550640653 | G11: =SUM(G8:G10) -> 1379697467228 | I11: =SUM(I8:I10) -> 159808935352 | K11: =SUM(K8:K10) -> 0.014060153

Sheet سایر درآمدها
A2: =+سهام!A2 -> صندوق سرمایه‌گذاری بخشی صنایع مفید - معدن | B2: صندوق سرمایه‌گذاری بخشی صنایع مفید | C2: صندوق سرمایه‌گذاری بخشی صنایع مفید | D2: صندوق سرمایه‌گذاری بخشی صنایع مفید | E2: صندوق سرمایه‌گذاری بخشی صنایع مفید
A3: صورت وضعیت درآمدها | B3: صورت وضعیت درآمدها | C3: صورت وضعیت درآمدها | D3: صورت وضعیت درآمدها | E3: صورت وضعیت درآمدها
A4: =+'جمع درآمدها'!A4 -> برای ماه منتهی به 1405/06/31 | B4: برای ماه منتهی به 1403/09/30 | C4: برای ماه منتهی به 1403/09/30 | D4: برای ماه منتهی به 1403/09/30 | E4: برای ماه منتهی به 1403/09/30
E5: از ابتدای سال مالی
A6: سایر درآمدها | C6: طی ماه | E6: تا پایان ماه
A7: سایر درآمدها | C7: مبلغ | E7: مبلغ
A8: سایر درآمدها | C8: 0 | E8: 1091281339
C9: =SUM(C8:C8) -> 0 | E9: =SUM(E8:E8) -> 1091281339

Sheet جمع درآمدها
A2: =+سهام!A2 -> صندوق سرمایه‌گذاری بخشی صنایع مفید - معدن | B2: صندوق سرمایه‌گذاری بخشی صنایع مفید | C2: صندوق سرمایه‌گذاری بخشی صنایع مفید | D2: صندوق سرمایه‌گذاری بخشی صنایع مفید | E2: صندوق سرمایه‌گذاری بخشی صنایع مفید | F2: صندوق سرمایه‌گذاری بخشی صنایع مفید | G2: صندوق سرمایه‌گذاری بخشی صنایع مفید
A3: صورت وضعیت درآمدها | B3: صورت وضعیت درآمدها | C3: صورت وضعیت درآمدها | D3: صورت وضعیت درآمدها | E3: صورت وضعیت درآمدها | F3: صورت وضعیت درآمدها | G3: صورت وضعیت درآمدها
A4: =+سهام!A4 -> برای ماه منتهی به 1405/06/31 | B4: برای ماه منتهی به 1403/09/30 | C4: برای ماه منتهی به 1403/09/30 | D4: برای ماه منتهی به 1403/09/30 | E4: برای ماه منتهی به 1403/09/30 | F4: برای ماه منتهی به 1403/09/30 | G4: برای ماه منتهی به 1403/09/30
A6: توضیحات | C6: مبلغ | E6: درصد از کل درآمدها | G6: درصد به کل دارایی‌های صندوق
A7: سرمایه‌گذاری در سهام | C7: =+'درآمد سرمایه‌گذاری در سهام'!I64 -> 1797922749280 | E7: =+C7/$C$9 -> 0.99813863 | G7: 0.15818307
A8: درآمد سپرده بانکی | C8: =+'درآمد سپرده بانکی'!C11 -> 3352843043 | E8: =+C8/$C$9 -> 0.0018613715 | G8: 0.00029498654
C9: =SUM(C7:C8) -> 1801275592323 | E9: =SUM(E7:E8) -> 1 | G9: =SUM(G7:G8) -> 0.15847806

Sheet درآمد سرمایه‌گذاری در سهام
A2: =+سهام!A2 -> صندوق سرمایه‌گذاری بخشی صنایع مفید - معدن | B2: صندوق سرمایه‌گذاری بخشی صنایع مفید | C2: صندوق سرمایه‌گذاری بخشی صنایع مفید | D2: صندوق سرمایه‌گذاری بخشی صنایع مفید | E2: صندوق سرمایه‌گذاری بخشی صنایع مفید | F2: صندوق سرمایه‌گذاری بخشی صنایع مفید | G2: صندوق سرمایه‌گذاری بخشی صنایع مفید | H2: صندوق سرمایه‌گذاری بخشی صنایع مفید | I2: صندوق سرمایه‌گذاری بخشی صنایع مفید | J2: صندوق سرمایه‌گذاری بخشی صنایع مفید | K2: صندوق سرمایه‌گذاری بخشی صنایع مفید | L2: صندوق سرمایه‌گذاری بخشی صنایع مفید | M2: صندوق سرمایه‌گذاری بخشی صنایع مفید | N2: صندوق سرمایه‌گذاری بخشی صنایع مفید | O2: صندوق سرمایه‌گذاری بخشی صنایع مفید | P2: صندوق سرمایه‌گذاری بخشی صنایع مفید | Q2: صندوق سرمایه‌گذاری بخشی صنایع مفید | R2: صندوق سرمایه‌گذاری بخشی صنایع مفید | S2: صندوق سرمایه‌گذاری بخشی صنایع مفید | T2: صندوق سرمایه‌گذاری بخشی صنایع مفید | U2: صندوق سرمایه‌گذاری بخشی صنایع مفید
A3: صورت وضعیت درآمدها | B3: صورت وضعیت درآمدها | C3: صورت وضعیت درآمدها | D3: صورت وضعیت درآمدها | E3: صورت وضعیت درآمدها | F3: صورت وضعیت درآمدها | G3: صورت وضعیت درآمدها | H3: صورت وضعیت درآمدها | I3: صورت وضعیت درآمدها | J3: صورت وضعیت درآمدها | K3: صورت وضعیت درآمدها | L3: صورت وضعیت درآمدها | M3: صورت وضعیت درآمدها | N3: صورت وضعیت درآمدها | O3: صورت وضعیت درآمدها | P3: صورت وضعیت درآمدها | Q3: صورت وضعیت درآمدها | R3: صورت وضعیت درآمدها | S3: صورت وضعیت درآمدها | T3: صورت وضعیت درآمدها | U3: صورت وضعیت درآمدها
A4: =+سهام!A4 -> برای ماه منتهی به 1405/06/31 | B4: برای ماه منتهی به 1403/09/30 | C4: برای ماه منتهی به 1403/09/30 | D4: برای ماه منتهی به 1403/09/30 | E4: برای ماه منتهی به 1403/09/30 | F4: برای ماه منتهی به 1403/09/30 | G4: برای ماه منتهی به 1403/09/30 | H4: برای ماه منتهی به 1403/09/30 | I4: برای ماه منتهی به 1403/09/30 | J4: برای ماه منتهی به 1403/09/30 | K4: برای ماه منتهی به 1403/09/30 | L4: برای ماه منتهی به 1403/09/30 | M4: برای ماه منتهی به 1403/09/30 | N4: برای ماه منتهی به 1403/09/30 | O4: برای ماه منتهی به 1403/09/30 | P4: برای ماه منتهی به 1403/09/30 | Q4: برای ماه منتهی به 1403/09/30 | R4: برای ماه منتهی به 1403/09/30 | S4: برای ماه منتهی به 1403/09/30 | T4: برای ماه منتهی به 1403/09/30 | U4: برای ماه منتهی به 1403/09/30
A6: نام شرکت | C6: طی ماه | D6: طی ماه | E6: طی ماه | F6: طی ماه | G6: طی ماه | H6: طی ماه | I6: طی ماه | J6: طی ماه | K6: طی ماه | M6: از ابتدای سال مالی تا پایان ماه | N6: از ابتدای سال مالی تا پایان ماه | O6: از ابتدای سال مالی تا پایان ماه | P6: از ابتدای سال مالی تا پایان ماه | Q6: از ابتدای سال مالی تا پایان ماه | R6: از ابتدای سال مالی تا پایان ماه | S6: از ابتدای سال مالی تا پایان ماه | T6: از ابتدای سال مالی تا پایان ماه | U6: از ابتدای سال مالی تا پایان ماه
A7: نام شرکت | C7: درآمد سود سهام | E7: درآمد تغییر ارزش | G7: درآمد فروش | I7: مبلغ | K7: درصد از کل درآمدها | M7: درآمد سود سهام | O7: درآمد تغییر ارزش | Q7: درآمد فروش | S7: مبلغ | U7: درصد از کل درآمدها
A8: سنگ آهن گهرزمین | C8: =IFERROR(VLOOKUP(A8,'درآمد سود سهام'!A:S,13,0),0) -> 0 | E8: =IFERROR(VLOOKUP(A8,'درآمد ناشی از تغییر قیمت اوراق'!A:Q,9,0),0) -> 14735209500 | G8: =IFERROR(VLOOKUP(A8,'درآمد ناشی از فروش'!A:Q,9,0),0) -> 0 | I8: =+G8+E8+C8 -> 14735209500 | K8: =+I8/$I$64 -> 0.0081956856 | M8: =IFERROR(VLOOKUP(A8,'درآمد سود سهام'!A:S,19,0),0) -> 18636465249 | O8: =IFERROR(VLOOKUP(A8,'درآمد ناشی از تغییر قیمت اوراق'!A:Q,17,0),0) -> 38078479897 | Q8: =IFERROR(VLOOKUP(A8,'درآمد ناشی از فروش'!A:Q,17,0),0) -> 1639525235 | S8: =+Q8+O8+M8 -> 58354470381 | U8: =+S8/$S$64 -> 0.013468425
A9: تکادو | C9: =IFERROR(VLOOKUP(A9,'درآمد سود سهام'!A:S,13,0),0) -> 508973531 | E9: =IFERROR(VLOOKUP(A9,'درآمد ناشی از تغییر قیمت اوراق'!A:Q,9,0),0) -> 1627322800 | G9: =IFERROR(VLOOKUP(A9,'درآمد ناشی از فروش'!A:Q,9,0),0) -> 0 | I9: =+G9+E9+C9 -> 2136296331 | K9: =+I9/$I$64 -> 0.0011882025 | M9: =IFERROR(VLOOKUP(A9,'درآمد سود سهام'!A:S,19,0),0) -> 508973531 | O9: =IFERROR(VLOOKUP(A9,'درآمد ناشی از تغییر قیمت اوراق'!A:Q,17,0),0) -> 4149697692 | Q9: =IFERROR(VLOOKUP(A9,'درآمد ناشی از فروش'!A:Q,17,0),0) -> 0 | S9: =+Q9+O9+M9 -> 4658671223 | U9: =+S9/$S$64 -> 0.0010752383
A10: س. و توسعه صنایع لاستیک | C10: =IFERROR(VLOOKUP(A10,'درآمد سود سهام'!A:S,13,0),0) -> 0 | E10: =IFERROR(VLOOKUP(A10,'درآمد ناشی از تغییر قیمت اوراق'!A:Q,9,0),0) -> 0 | G10: =IFERROR(VLOOKUP(A10,'درآمد ناشی از فروش'!A:Q,9,0),0) -> 0 | I10: =+G10+E10+C10 -> 0 | K10: =+I10/$I$64 -> 0 | M10: =IFERROR(VLOOKUP(A10,'درآمد سود سهام'!A:S,19,0),0) -> 0 | O10: =IFERROR(VLOOKUP(A10,'درآمد ناشی از تغییر قیمت اوراق'!A:Q,17,0),0) -> 0 | Q10: =IFERROR(VLOOKUP(A10,'درآمد ناشی از فروش'!A:Q,17,0),0) -> -606483443 | S10: =+Q10+O10+M10 -> -606483443 | U10: =+S10/$S$64 -> -0.00013997859
A11: پتروشیمی زاگرس | C11: =IFERROR(VLOOKUP(A11,'درآمد سود سهام'!A:S,13,0),0) -> 0 | E11: =IFERROR(VLOOKUP(A11,'درآمد ناشی از تغییر قیمت اوراق'!A:Q,9,0),0) -> 0 | G11: =IFERROR(VLOOKUP(A11,'درآمد ناشی از فروش'!A:Q,9,0),0) -> 0 | I11: =+G11+E11+C11 -> 0 | K11: =+I11/$I$64 -> 0 | M11: =IFERROR(VLOOKUP(A11,'درآمد سود سهام'!A:S,19,0),0) -> 0 | O11: =IFERROR(VLOOKUP(A11,'درآمد ناشی از تغییر قیمت اوراق'!A:Q,17,0),0) -> 0 | Q11: =IFERROR(VLOOKUP(A11,'درآمد ناشی از فروش'!A:Q,17,0),0) -> -4673591700 | S11: =+Q11+O11+M11 -> -4673591700 | U11: =+S11/$S$64 -> -0.001078682
A12: آلیاژ گستر هامون | C12: =IFERROR(VLOOKUP(A12,'درآمد سود سهام'!A:S,13,0),0) -> 0 | E12: =IFERROR(VLOOKUP(A12,'درآمد ناشی از تغییر قیمت اوراق'!A:Q,9,0),0) -> 0 | G12: =IFERROR(VLOOKUP(A12,'درآمد ناشی از فروش'!A:Q,9,0),0) -> 0 | I12: =+G12+E12+C12 -> 0 | K12: =+I12/$I$64 -> 0 | M12: =IFERROR(VLOOKUP(A12,'درآمد سود سهام'!A:S,19,0),0) -> 0 | O12: =IFERROR(VLOOKUP(A12,'درآمد ناشی از تغییر قیمت اوراق'!A:Q,17,0),0) -> 0 | Q12: =IFERROR(VLOOKUP(A12,'درآمد ناشی از فروش'!A:Q,17,0),0) -> 77326341 | S12: =+Q12+O12+M12 -> 77326341 | U12: =+S12/$S$64 -> 1.7847202e-05
A13: پتروشیمی شیراز | C13: =IFERROR(VLOOKUP(A13,'درآمد سود سهام'!A:S,13,0),0) -> 0 | E13: =IFERROR(VLOOKUP(A13,'درآمد ناشی از تغییر قیمت اوراق'!A:Q,9,0),0) -> 0 | G13: =IFERROR(VLOOKUP(A13,'درآمد ناشی از فروش'!A:Q,9,0),0) -> 0 | I13: =+G13+E13+C13 -> 0 | K13: =+I13/$I$64 -> 0 | M13: =IFERROR(VLOOKUP(A13,'درآمد سود سهام'!A:S,19,0),0) -> 5381594524 | O13: =IFERROR(VLOOKUP(A13,'درآمد ناشی از تغییر قیمت اوراق'!A:Q,17,0),0) -> 0 | Q13: =IFERROR(VLOOKUP(A13,'درآمد ناشی از فروش'!A:Q,17,0),0) -> 24252680318 | S13: =+Q13+O13+M13 -> 29634274842 | U13: =+S13/$S$64 -> 0.0068396988
A14: صنایع پتروشیمی کرمانشاه | C14: =IFERROR(VLOOKUP(A14,'درآمد سود سهام'!A:S,13,0),0) -> 0 | E14: =IFERROR(VLOOKUP(A14,'درآمد ناشی از تغییر قیمت اوراق'!A:Q,9,0),0) -> 17533402488 | G14: =IFERROR(VLOOKUP(A14,'درآمد ناشی از فروش'!A:Q,9,0),0) -> -14657 | I14: =+G14+E14+C14 -> 17533387831 | K14: =+I14/$I$64 -> 0.0097520251 | M14: =IFERROR(VLOOKUP(A14,'درآمد سود سهام'!A:S,19,0),0) -> 5160269541 | O14: =IFERROR(VLOOKUP(A14,'درآمد ناشی از تغییر قیمت اوراق'!A:Q,17,0),0) -> 42770770384 | Q14: =IFERROR(VLOOKUP(A14,'درآمد ناشی از فروش'!A:Q,17,0),0) -> 13262070414 | S14: =+Q14+O14+M14 -> 61193110339 | U14: =+S14/$S$64 -> 0.014123593
A15: هامون نایزه | C15: =IFERROR(VLOOKUP(A15,'درآمد سود سهام'!A:S,13,0),0) -> 0 | E15: =IFERROR(VLOOKUP(A15,'درآمد ناشی از تغییر قیمت اوراق'!A:Q,9,0),0) -> 0 | G15: =IFERROR(VLOOKUP(A15,'درآمد ناشی از فروش'!A:Q,9,0),0) -> 0 | I15: =+G15+E15+C15 -> 0 | K15: =+I15/$I$64 -> 0 | M15: =IFERROR(VLOOKUP(A15,'درآمد سود سهام'!A:S,19,0),0) -> 0 | O15: =IFERROR(VLOOKUP(A15,'درآمد ناشی از تغییر قیمت اوراق'!A:Q,17,0),0) -> 0 | Q15: =IFERROR(VLOOKUP(A15,'درآمد ناشی از فروش'!A:Q,17,0),0) -> -4583453683 | S15: =+Q15+O15+M15 -> -4583453683 | U15: =+S15/$S$64 -> -0.0010578778
A16: کیمیا کالای رازی | C16: =IFERROR(VLOOKUP(A16,'درآمد سود سهام'!A:S,13,0),0) -> 0 | E16: =IFERROR(VLOOKUP(A16,'درآمد ناشی از تغییر قیمت اوراق'!A:Q,9,0),0) -> 0 | G16: =IFERROR(VLOOKUP(A16,'درآمد ناشی از فروش'!A:Q,9,0),0) -> 0 | I16: =+G16+E16+C16 -> 0 | K16: =+I16/$I$64 -> 0 | M16: =IFERROR(VLOOKUP(A16,'درآمد سود سهام'!A:S,19,0),0) -> 0 | O16: =IFERROR(VLOOKUP(A16,'درآمد ناشی از تغییر قیمت اوراق'!A:Q,17,0),0) -> 0 | Q16: =IFERROR(VLOOKUP(A16,'درآمد ناشی از فروش'!A:Q,17,0),0) -> 98234736 | S16: =+Q16+O16+M16 -> 98234736 | U16: =+S16/$S$64 -> 2.2672936e-05
A17: گروه مالی مهرگان تامین پارس | C17: =IFERROR(VLOOKUP(A17,'درآمد سود سهام'!A:S,13,0),0) -> 0 | E17: =IFERROR(VLOOKUP(A17,'درآمد ناشی از تغییر قیمت اوراق'!A:Q,9,0),0) -> 0 | G17: =IFERROR(VLOOKUP(A17,'درآمد ناشی از فروش'!A:Q,9,0),0) -> 0 | I17: =+G17+E17+C17 -> 0 | K17: =+I17/$I$64 -> 0 | M17: =IFERROR(VLOOKUP(A17,'درآمد سود سهام'!A:S,19,0),0) -> 0 | O17: =IFERROR(VLOOKUP(A17,'درآمد ناشی از تغییر قیمت اوراق'!A:Q,17,0),0) -> 0 | Q17: =IFERROR(VLOOKUP(A17,'درآمد ناشی از فروش'!A:Q,17,0),0) -> 2962915237 | S17: =+Q17+O17+M17 -> 2962915237 | U17: =+S17/$S$64 -> 0.00068385165
A18: زغال سنگ پروده طبس | C18: =IFERROR(VLOOKUP(A18,'درآمد سود سهام'!A:S,13,0),0) -> 0 | E18: =IFERROR(VLOOKUP(A18,'درآمد ناشی از تغییر قیمت اوراق'!A:Q,9,0),0) -> 3572172000 | G18: =IFERROR(VLOOKUP(A18,'درآمد ناشی از فروش'!A:Q,9,0),0) -> 0 | I18: =+G18+E18+C18 -> 3572172000 | K18: =+I18/$I$64 -> 0.0019868329 | M18: =IFERROR(VLOOKUP(A18,'درآمد سود سهام'!A:S,19,0),0) -> 155982906 | O18: =IFERROR(VLOOKUP(A18,'درآمد ناشی از تغییر قیمت اوراق'!A:Q,17,0),0) -> 6534222743 | Q18: =IFERROR(VLOOKUP(A18,'درآمد ناشی از فروش'!A:Q,17,0),0) -> -36436152 | S18: =+Q18+O18+M18 -> 6653769497 | U18: =+S18/$S$64 -> 0.0015357143
A19: نیان باتری خاوران | C19: =IFERROR(VLOOKUP(A19,'درآمد سود سهام'!A:S,13,0),0) -> 0 | E19: =IFERROR(VLOOKUP(A19,'درآمد ناشی از تغییر قیمت اوراق'!A:Q,9,0),0) -> 0 | G19: =IFERROR(VLOOKUP(A19,'درآمد ناشی از فروش'!A:Q,9,0),0) -> 0 | I19: =+G19+E19+C19 -> 0 | K19: =+I19/$I$64 -> 0 | M19: =IFERROR(VLOOKUP(A19,'درآمد سود سهام'!A:S,19,0),0) -> 0 | O19: =IFERROR(VLOOKUP(A19,'درآمد ناشی از تغییر قیمت اوراق'!A:Q,17,0),0) -> 0 | Q19: =IFERROR(VLOOKUP(A19,'درآمد ناشی از فروش'!A:Q,17,0),0) -> 45047935 | S19: =+Q19+O19+M19 -> 45047935 | U19: =+S19/$S$64 -> 1.0397228e-05
... A63: سرمایه گذاری صدرتامین | C63: =IFERROR(VLOOKUP(A63,'درآمد سود سهام'!A:S,13,0),0) -> 28326415849 | E63: =IFERROR(VLOOKUP(A63,'درآمد ناشی از تغییر قیمت اوراق'!A:Q,9,0),0) -> 764285334433 | G63: =IFERROR(VLOOKUP(A63,'درآمد ناشی از فروش'!A:Q,9,0),0) -> 0 | I63: =+G63+E63+C63 -> 792611750282 | K63: =+I63/$I$64 -> 0.44084861 | M63: =IFERROR(VLOOKUP(A63,'درآمد سود سهام'!A:S,19,0),0) -> 28326415849 | O63: =IFERROR(VLOOKUP(A63,'درآمد ناشی از تغییر قیمت اوراق'!A:Q,17,0),0) -> 1645049435786 | Q63: =IFERROR(VLOOKUP(A63,'درآمد ناشی از فروش'!A:Q,17,0),0) -> 5411709279 | S63: =+Q63+O63+M63 -> 1678787560914 | U63: =+S63/$S$64 -> 0.38747029
C64: =SUM(C8:C63) -> 75016129069 | E64: =SUM(E8:E63) -> 1719270077213 | G64: =SUM(G8:G63) -> 3636542998 | I64: =SUM(I8:I63) -> 1797922749280 | K64: =SUM(K8:K63) -> 1 | M64: =SUM(M8:M63) -> 409829669621 | O64: =SUM(O8:O63) -> 3986307237473 | Q64: =SUM(Q8:Q63) -> -63449773867 | S64: =SUM(S8:S63) -> 4332687133227 | U64: =SUM(U8:U63) -> 1

Sheet درآمد سود سهام
A2: =+سهام!A2 -> صندوق سرمایه‌گذاری بخشی صنایع مفید - معدن | B2: صندوق سرمایه‌گذاری بخشی صنایع مفید | C2: صندوق سرمایه‌گذاری بخشی صنایع مفید | D2: صندوق سرمایه‌گذاری بخشی صنایع مفید | E2: صندوق سرمایه‌گذاری بخشی صنایع مفید | F2: صندوق سرمایه‌گذاری بخشی صنایع مفید | G2: صندوق سرمایه‌گذاری بخشی صنایع مفید | H2: صندوق سرمایه‌گذاری بخشی صنایع مفید | I2: صندوق سرمایه‌گذاری بخشی صنایع مفید | J2: صندوق سرمایه‌گذاری بخشی صنایع مفید | K2: صندوق سرمایه‌گذاری بخشی صنایع مفید | L2: صندوق سرمایه‌گذاری بخشی صنایع مفید | M2: صندوق سرمایه‌گذاری بخشی صنایع مفید | N2: صندوق سرمایه‌گذاری بخشی صنایع مفید | O2: صندوق سرمایه‌گذاری بخشی صنایع مفید | P2: صندوق سرمایه‌گذاری بخشی صنایع مفید | Q2: صندوق سرمایه‌گذاری بخشی صنایع مفید | R2: صندوق سرمایه‌گذاری بخشی صنایع مفید | S2: صندوق سرمایه‌گذاری بخشی صنایع مفید
A3: صورت وضعیت درآمدها | B3: صورت وضعیت درآمدها | C3: صورت وضعیت درآمدها | D3: صورت وضعیت درآمدها | E3: صورت وضعیت درآمدها | F3: صورت وضعیت درآمدها | G3: صورت وضعیت درآمدها | H3: صورت وضعیت درآمدها | I3: صورت وضعیت درآمدها | J3: صورت وضعیت درآمدها | K3: صورت وضعیت درآمدها | L3: صورت وضعیت درآمدها | M3: صورت وضعیت درآمدها | N3: صورت وضعیت درآمدها | O3: صورت وضعیت درآمدها | P3: صورت وضعیت درآمدها | Q3: صورت وضعیت درآمدها | R3: صورت وضعیت درآمدها | S3: صورت وضعیت درآمدها
A4: =+سهام!A4 -> برای ماه منتهی به 1405/06/31 | B4: برای ماه منتهی به 1403/09/30 | C4: برای ماه منتهی به 1403/09/30 | D4: برای ماه منتهی به 1403/09/30 | E4: برای ماه منتهی به 1403/09/30 | F4: برای ماه منتهی به 1403/09/30 | G4: برای ماه منتهی به 1403/09/30 | H4: برای ماه منتهی به 1403/09/30 | I4: برای ماه منتهی به 1403/09/30 | J4: برای ماه منتهی به 1403/09/30 | K4: برای ماه منتهی به 1403/09/30 | L4: برای ماه منتهی به 1403/09/30 | M4: برای ماه منتهی به 1403/09/30 | N4: برای ماه منتهی به 1403/09/30 | O4: برای ماه منتهی به 1403/09/30 | P4: برای ماه منتهی به 1403/09/30 | Q4: برای ماه منتهی به 1403/09/30 | R4: برای ماه منتهی به 1403/09/30 | S4: برای ماه منتهی به 1403/09/30
A6: نام شرکت | C6: اطلاعات مجمع | D6: اطلاعات مجمع | E6: اطلاعات مجمع | F6: اطلاعات مجمع | G6: اطلاعات مجمع | I6: طی ماه | J6: طی ماه | K6: طی ماه | L6: طی ماه | M6: طی ماه | O6: از ابتدای سال مالی تا پایان ماه | P6: از ابتدای سال مالی تا پایان ماه | Q6: از ابتدای سال مالی تا پایان ماه | R6: از ابتدای سال مالی تا پایان ماه | S6: از ابتدای سال مالی تا پایان ماه
A7: نام شرکت | C7: تاریخ مجمع | E7: تعداد سهام متعلقه در زمان مجمع | G7: سود متعلق به هر سهم | I7: جمع درآمد سود سهام | K7: هزینه تنزیل | M7: خالص درآمد سود سهام | O7: جمع درآمد سود سهام | Q7: هزینه تنزیل | S7: خالص درآمد سود سهام
A8: سرمایه گذاری صنعت نفت | C8: - | E8: 0 | G8: 0 | I8: 0 | K8: 0 | M8: =+I8+K8 -> 0 | O8: 804000000 | Q8: -26622517 | S8: =+O8+Q8 -> 777377483
A9: سرمایه‌گذاری‌غدیر(هلدینگ‌ | C9: - | E9: 0 | G9: 0 | I9: 0 | K9: 0 | M9: =+I9+K9 -> 0 | O9: 19950000000 | Q9: 0 | S9: =+O9+Q9 -> 19950000000
A10: آلومینیوم‌ایران‌ | C10: - | E10: 0 | G10: 0 | I10: 0 | K10: 0 | M10: =+I10+K10 -> 0 | O10: 800000000 | Q10: -87370348 | S10: =+O10+Q10 -> 712629652
A11: توسعه معادن وفلزات | C11: - | E11: 0 | G11: 0 | I11: 0 | K11: 0 | M11: =+I11+K11 -> 0 | O11: 109645920360 | Q11: -1481701626 | S11: =+O11+Q11 -> 108164218734
A12: پتروشیمی شیراز | C12: - | E12: 0 | G12: 0 | I12: 0 | K12: 0 | M12: =+I12+K12 -> 0 | O12: 5923440000 | Q12: -541845476 | S12: =+O12+Q12 -> 5381594524
A13: پالایش نفت اصفهان | C13: - | E13: 0 | G13: 0 | I13: 0 | K13: 0 | M13: =+I13+K13 -> 0 | O13: 1036000000 | Q13: 0 | S13: =+O13+Q13 -> 1036000000
A14: معدنی وصنعتی چادرملو | C14: - | E14: 0 | G14: 0 | I14: 0 | K14: 0 | M14: =+I14+K14 -> 0 | O14: 40924750400 | Q14: 0 | S14: =+O14+Q14 -> 40924750400
A15: معدنی و صنعتی گل گهر | C15: - | E15: 0 | G15: 0 | I15: 0 | K15: 0 | M15: =+I15+K15 -> 0 | O15: 49899613930 | Q15: -2117550992 | S15: =+O15+Q15 -> 47782062938
A16: معدنی‌ املاح‌ ایران‌ | C16: - | E16: 0 | G16: 0 | I16: 0 | K16: 0 | M16: =+I16+K16 -> 0 | O16: 1910000000 | Q16: -28353576 | S16: =+O16+Q16 -> 1881646424
A17: پالایش نفت بندرعباس | C17: - | E17: 0 | G17: 0 | I17: 0 | K17: 0 | M17: =+I17+K17 -> 0 | O17: 7252900000 | Q17: -277120026 | S17: =+O17+Q17 -> 6975779974
A18: صنایع پتروشیمی کرمانشاه | C18: - | E18: 0 | G18: 0 | I18: 0 | K18: 0 | M18: =+I18+K18 -> 0 | O18: 5750519550 | Q18: -590250009 | S18: =+O18+Q18 -> 5160269541
A19: سرمایه گذاری دارویی تامین | C19: 1405/06/17 | E19: 3482877 | G19: 1915 | I19: 6669709455 | K19: -443510092 | M19: =+I19+K19 -> 6226199363 | O19: 6669709455 | Q19: -443510092 | S19: =+O19+Q19 -> 6226199363
... A29: گروه پتروشیمی تابان فردا | C29: 1405/06/31 | E29: 100000 | G29: 610 | I29: 61000000 | K29: -1188046 | M29: =+I29+K29 -> 59811954 | O29: 61000000 | Q29: -1188046 | S29: =+O29+Q29 -> 59811954
I30: =SUM(I8:I29) -> 80104701425 | K30: =SUM(K8:K29) -> -5088572356 | M30: =SUM(M8:M29) -> 75016129069 | O30: =SUM(O8:O29) -> 420677339465 | Q30: =SUM(Q8:Q29) -> -10847669844 | S30: =SUM(S8:S29) -> 409829669621

Sheet درآمد سپرده بانکی
A2: =+سهام!A2 -> صندوق سرمایه‌گذاری بخشی صنایع مفید - معدن | B2: صندوق سرمایه‌گذاری بخشی صنایع مفید | C2: صندوق سرمایه‌گذاری بخشی صنایع مفید | D2: صندوق سرمایه‌گذاری بخشی صنایع مفید | E2: صندوق سرمایه‌گذاری بخشی صنایع مفید | F2: صندوق سرمایه‌گذاری بخشی صنایع مفید | G2: صندوق سرمایه‌گذاری بخشی صنایع مفید | H2: صندوق سرمایه‌گذاری بخشی صنایع مفید | I2: صندوق سرمایه‌گذاری بخشی صنایع مفید
A3: صورت وضعیت درآمدها | B3: صورت وضعیت درآمدها | C3: صورت وضعیت درآمدها | D3: صورت وضعیت درآمدها | E3: صورت وضعیت درآمدها | F3: صورت وضعیت درآمدها | G3: صورت وضعیت درآمدها | H3: صورت وضعیت درآمدها | I3: صورت وضعیت درآمدها
A4: =+سهام!A4 -> برای ماه منتهی به 1405/06/31 | B4: برای ماه منتهی به 1403/09/30 | C4: برای ماه منتهی به 1403/09/30 | D4: برای ماه منتهی به 1403/09/30 | E4: برای ماه منتهی به 1403/09/30 | F4: برای ماه منتهی به 1403/09/30 | G4: برای ماه منتهی به 1403/09/30 | H4: برای ماه منتهی به 1403/09/30 | I4: برای ماه منتهی به 1403/09/30
A6: نام سپرده بانکی | C6: طی ماه | D6: طی ماه | E6: طی ماه | G6: از ابتدای سال مالی تا پایان ماه | H6: از ابتدای سال مالی تا پایان ماه | I6: از ابتدای سال مالی تا پایان ماه
A7: نام سپرده | C7: سود سپرده بانکی و گواهی سپرده | E7: درصد سود به میانگین سپرده | G7: سود سپرده بانکی و گواهی سپرده | I7: درصد سود به میانگین سپرده
A8: بانک خاورمیانه شعبه آفریقا | C8: =+'سود سپرده بانکی'!G8 -> 3352696048 | E8: =+C8/$C$11 -> 0.99995616 | G8: =+'سود سپرده بانکی'!M8 -> 6151478094 | I8: =+G8/$G$11 -> 0.99990058
A9: بانک ملت شعبه مستقل مرکزی | C9: =+'سود سپرده بانکی'!G9 -> 65567 | E9: =+C9/$C$11 -> 1.9555643e-05 | G9: =+'سود سپرده بانکی'!M9 -> 530197 | I9: =+G9/$G$11 -> 8.6181611e-05
A10: بانک پاسارگاد هفت تیر | C10: =+'سود سپرده بانکی'!G10 -> 81428 | E10: =+C10/$C$11 -> 2.4286255e-05 | G10: =+'سود سپرده بانکی'!M10 -> 81428 | I10: =+G10/$G$11 -> 1.3235828e-05
C11: =SUM(C8:C10) -> 3352843043 | E11: =SUM(E8:E10) -> 1 | G11: =SUM(G8:G10) -> 6152089719 | I11: =SUM(I8:I10) -> 1

Sheet سود سپرده بانکی
A2: =+سهام!A2 -> صندوق سرمایه‌گذاری بخشی صنایع مفید - معدن | B2: صندوق سرمایه‌گذاری بخشی صنایع مفید | C2: صندوق سرمایه‌گذاری بخشی صنایع مفید | D2: صندوق سرمایه‌گذاری بخشی صنایع مفید | E2: صندوق سرمایه‌گذاری بخشی صنایع مفید | F2: صندوق سرمایه‌گذاری بخشی صنایع مفید | G2: صندوق سرمایه‌گذاری بخشی صنایع مفید | H2: صندوق سرمایه‌گذاری بخشی صنایع مفید | I2: صندوق سرمایه‌گذاری بخشی صنایع مفید | J2: صندوق سرمایه‌گذاری بخشی صنایع مفید | K2: صندوق سرمایه‌گذاری بخشی صنایع مفید | L2: صندوق سرمایه‌گذاری بخشی صنایع مفید | M2: صندوق سرمایه‌گذاری بخشی صنایع مفید
A3: صورت وضعیت درآمدها | B3: صورت وضعیت درآمدها | C3: صورت وضعیت درآمدها | D3: صورت وضعیت درآمدها | E3: صورت وضعیت درآمدها | F3: صورت وضعیت درآمدها | G3: صورت وضعیت درآمدها | H3: صورت وضعیت درآمدها | I3: صورت وضعیت درآمدها | J3: صورت وضعیت درآمدها | K3: صورت وضعیت درآمدها | L3: صورت وضعیت درآمدها | M3: صورت وضعیت درآمدها
A4: =+سهام!A4 -> برای ماه منتهی به 1405/06/31 | B4: برای ماه منتهی به 1403/09/30 | C4: برای ماه منتهی به 1403/09/30 | D4: برای ماه منتهی به 1403/09/30 | E4: برای ماه منتهی به 1403/09/30 | F4: برای ماه منتهی به 1403/09/30 | G4: برای ماه منتهی به 1403/09/30 | H4: برای ماه منتهی به 1403/09/30 | I4: برای ماه منتهی به 1403/09/30 | J4: برای ماه منتهی به 1403/09/30 | K4: برای ماه منتهی به 1403/09/30 | L4: برای ماه منتهی به 1403/09/30 | M4: برای ماه منتهی به 1403/09/30
A6: مشخصات | B6: مشخصات | C6: طی ماه | D6: طی ماه | E6: طی ماه | F6: طی ماه | G6: طی ماه | I6: از ابتدای سال مالی تا پایان ماه | J6: از ابتدای سال مالی تا پایان ماه | K6: از ابتدای سال مالی تا پایان ماه | L6: از ابتدای سال مالی تا پایان ماه | M6: از ابتدای سال مالی تا پایان ماه
A7: توضیحات | C7: درآمد سود | E7: هزینه تنزیل | G7: خالص درآمد | I7: درآمد سود | K7: هزینه تنزیل | M7: خالص درآمد
A8: بانک خاورمیانه شعبه آفریقا | C8: 3352696048 | E8: 0 | G8: =+C8-E8 -> 3352696048 | I8: 6151478094 | K8: 0 | M8: =+I8-K8 -> 6151478094
A9: بانک ملت شعبه مستقل مرکزی | C9: 65567 | E9: 0 | G9: =+C9-E9 -> 65567 | I9: 530197 | K9: 0 | M9: =+I9-K9 -> 530197
A10: بانک پاسارگاد هفت تیر | C10: 81428 | E10: 0 | G10: =+C10-E10 -> 81428 | I10: 81428 | K10: 0 | M10: =+I10-K10 -> 81428
C11: =SUM(C8:C10) -> 3352843043 | E11: =SUM(E8:E10) -> 0 | G11: =SUM(G8:G10) -> 3352843043 | I11: =SUM(I8:I10) -> 6152089719 | K11: =SUM(K8:K10) -> 0 | M11: =SUM(M8:M10) -> 6152089719

Sheet درآمد ناشی از فروش
A2: =+سهام!A2 -> صندوق سرمایه‌گذاری بخشی صنایع مفید - معدن | B2: صندوق سرمایه‌گذاری بخشی صنایع مفید | C2: صندوق سرمایه‌گذاری بخشی صنایع مفید | D2: صندوق سرمایه‌گذاری بخشی صنایع مفید | E2: صندوق سرمایه‌گذاری بخشی صنایع مفید | F2: صندوق سرمایه‌گذاری بخشی صنایع مفید | G2: صندوق سرمایه‌گذاری بخشی صنایع مفید | H2: صندوق سرمایه‌گذاری بخشی صنایع مفید | I2: صندوق سرمایه‌گذاری بخشی صنایع مفید | J2: صندوق سرمایه‌گذاری بخشی صنایع مفید | K2: صندوق سرمایه‌گذاری بخشی صنایع مفید | L2: صندوق سرمایه‌گذاری بخشی صنایع مفید | M2: صندوق سرمایه‌گذاری بخشی صنایع مفید | N2: صندوق سرمایه‌گذاری بخشی صنایع مفید | O2: صندوق سرمایه‌گذاری بخشی صنایع مفید | P2: صندوق سرمایه‌گذاری بخشی صنایع مفید | Q2: صندوق سرمایه‌گذاری بخشی صنایع مفید
A3: صورت وضعیت درآمدها | B3: صورت وضعیت درآمدها | C3: صورت وضعیت درآمدها | D3: صورت وضعیت درآمدها | E3: صورت وضعیت درآمدها | F3: صورت وضعیت درآمدها | G3: صورت وضعیت درآمدها | H3: صورت وضعیت درآمدها | I3: صورت وضعیت درآمدها | J3: صورت وضعیت درآمدها | K3: صورت وضعیت درآمدها | L3: صورت وضعیت درآمدها | M3: صورت وضعیت درآمدها | N3: صورت وضعیت درآمدها | O3: صورت وضعیت درآمدها | P3: صورت وضعیت درآمدها | Q3: صورت وضعیت درآمدها
A4: =+سهام!A4 -> برای ماه منتهی به 1405/06/31 | B4: برای ماه منتهی به 1403/09/30 | C4: برای ماه منتهی به 1403/09/30 | D4: برای ماه منتهی به 1403/09/30 | E4: برای ماه منتهی به 1403/09/30 | F4: برای ماه منتهی به 1403/09/30 | G4: برای ماه منتهی به 1403/09/30 | H4: برای ماه منتهی به 1403/09/30 | I4: برای ماه منتهی به 1403/09/30 | J4: برای ماه منتهی به 1403/09/30 | K4: برای ماه منتهی به 1403/09/30 | L4: برای ماه منتهی به 1403/09/30 | M4: برای ماه منتهی به 1403/09/30 | N4: برای ماه منتهی به 1403/09/30 | O4: برای ماه منتهی به 1403/09/30 | P4: برای ماه منتهی به 1403/09/30 | Q4: برای ماه منتهی به 1403/09/30
A6: نام شرکت | C6: طی ماه | D6: طی ماه | E6: طی ماه | F6: طی ماه | G6: طی ماه | H6: طی ماه | I6: طی ماه | K6: از ابتدای سال مالی تا پایان ماه | L6: از ابتدای سال مالی تا پایان ماه | M6: از ابتدای سال مالی تا پایان ماه | N6: از ابتدای سال مالی تا پایان ماه | O6: از ابتدای سال مالی تا پایان ماه | P6: از ابتدای سال مالی تا پایان ماه | Q6: از ابتدای سال مالی تا پایان ماه
A7: نام شرکت | C7: تعداد | E7: بهای فروش | G7: ارزش دفتری | I7: سود و زیان ناشی از فروش | K7: تعداد | M7: بهای فروش | O7: ارزش دفتری | Q7: سود و زیان ناشی از فروش
A8: زغال سنگ پروده طبس | C8: 0 | E8: 0 | G8: 0 | I8: =+E8-G8 -> 0 | K8: 170000 | M8: 657031583 | O8: 693467735 | Q8: =+M8-O8 -> -36436152
A9: کیمیا کالای رازی | C9: 0 | E9: 0 | G9: 0 | I9: =+E9-G9 -> 0 | K9: 15000 | M9: 540291021 | O9: 442056285 | Q9: =+M9-O9 -> 98234736
A10: سرمایه گذاری دارویی تامین | C10: 0 | E10: 0 | G10: 0 | I10: =+E10-G10 -> 0 | K10: 1000000 | M10: 74119889879 | O10: 59770908967 | Q10: =+M10-O10 -> 14348980912
A11: پاریز شرق | C11: 0 | E11: 0 | G11: 0 | I11: =+E11-G11 -> 0 | K11: 15000 | M11: 498615681 | O11: 489540889 | Q11: =+M11-O11 -> 9074792
A12: ملی صنایع مس ایران | C12: 0 | E12: 0 | G12: 0 | I12: =+E12-G12 -> 0 | K12: 3500000 | M12: 73525895384 | O12: 74771662221 | Q12: =+M12-O12 -> -1245766837
A13: مجتمع کاشی و سنگ پرسپولیس یزد | K13: 2613000 | M13: 18675852621 | O13: 16771907980 | Q13: =+M13-O13 -> 1903944641
A14: گروه مالی صبا تامین | C14: 0 | E14: 0 | G14: 0 | I14: =+E14-G14 -> 0 | K14: 4200000 | M14: 21379449518 | O14: 17819962608 | Q14: =+M14-O14 -> 3559486910
A15: سرمایه‌گذاری‌غدیر(هلدینگ‌ | C15: 0 | E15: 0 | G15: 0 | I15: =+E15-G15 -> 0 | K15: 8700000 | M15: 118745890494 | O15: 122585035716 | Q15: =+M15-O15 -> -3839145222
A16: کشت و صنعت شیفته آرای شرق | C16: 0 | E16: 0 | G16: 0 | I16: =+E16-G16 -> 0 | K16: 60000 | M16: 589512790 | O16: 572710252 | Q16: =+M16-O16 -> 16802538
A17: توسعه معدنی و صنعتی صبانور | C17: 0 | E17: 0 | G17: 0 | I17: =+E17-G17 -> 0 | K17: 35293293 | M17: 116773995087 | O17: 116513123348 | Q17: =+M17-O17 -> 260871739
A18: گروه مالی مهرگان تامین پارس | C18: 0 | E18: 0 | G18: 0 | I18: =+E18-G18 -> 0 | K18: 3400000 | M18: 31308103218 | O18: 28345187981 | Q18: =+M18-O18 -> 2962915237
A19: سرمایه گذاری تامین اجتماعی | C19: 0 | E19: 0 | G19: 0 | I19: =+E19-G19 -> 0 | K19: 8211099 | M19: 14251990168 | O19: 14280186755 | Q19: =+M19-O19 -> -28196587
A20: بین المللی توسعه ص. معادن غدیر | C20: 0 | E20: 0 | G20: 0 | I20: =+E20-G20 -> 0 | K20: 9590674 | M20: 28413200931 | O20: 37382402216 | Q20: =+M20-O20 -> -8969201285
A21: معدنی وصنعتی چادرملو | C21: 0 | E21: 0 | G21: 0 | I21: =+E21-G21 -> 0 | K21: 220383754 | M21: 489345877927 | O21: 578505142891 | Q21: =+M21-O21 -> -89159264964
A22: ح . معدنی‌وصنعتی‌چادرملو | C22: 0 | E22: 0 | G22: 0 | I22: =+E22-G22 -> 0 | K22: 170802526 | M22: 180911931831 | O22: 180911934519 | Q22: =+M22-O22 -> -2688
A23: سنگ آهن گهرزمین | C23: 0 | E23: 0 | G23: 0 | I23: =+E23-G23 -> 0 | K23: 9731284 | M23: 75890093918 | O23: 74250568683 | Q23: =+M23-O23 -> 1639525235
A24: ح . معدنی و صنعتی گل گهر | C24: 0 | E24: 0 | G24: 0 | I24: =+E24-G24 -> 0 | K24: 27458738 | M24: 26305468133 | O24: 26305471004 | Q24: =+M24-O24 -> -2871
A25: معدنی و صنعتی گل گهر | C25: 0 | E25: 0 | G25: 0 | I25: =+E25-G25 -> 0 | K25: 71304256 | M25: 155514924221 | O25: 169510557127 | Q25: =+M25-O25 -> -13995632906
... A41: نیان باتری خاوران | C41: 0 | E41: 0 | G41: 0 | I41: =+E41-G41 -> 0 | K41: 30000 | M41: 648149641 | O41: 603101706 | Q41: =+M41-O41 -> 45047935
E42: =SUM(E8:E41) -> 21840860477 | G42: =SUM(G8:G41) -> 18204317479 | I42: =SUM(I8:I41) -> 3636542998 | M42: =SUM(M8:M41) -> 1918560881521 | O42: =SUM(O8:O41) -> 1982010655388 | Q42: =SUM(Q8:Q41) -> -63449773867

Sheet درآمد ناشی از تغییر قیمت اوراق
A2: =+سهام!A2 -> صندوق سرمایه‌گذاری بخشی صنایع مفید - معدن | B2: صندوق سرمایه‌گذاری بخشی صنایع مفید | C2: صندوق سرمایه‌گذاری بخشی صنایع مفید | D2: صندوق سرمایه‌گذاری بخشی صنایع مفید | E2: صندوق سرمایه‌گذاری بخشی صنایع مفید | F2: صندوق سرمایه‌گذاری بخشی صنایع مفید | G2: صندوق سرمایه‌گذاری بخشی صنایع مفید | H2: صندوق سرمایه‌گذاری بخشی صنایع مفید | I2: صندوق سرمایه‌گذاری بخشی صنایع مفید | J2: صندوق سرمایه‌گذاری بخشی صنایع مفید | K2: صندوق سرمایه‌گذاری بخشی صنایع مفید | L2: صندوق سرمایه‌گذاری بخشی صنایع مفید | M2: صندوق سرمایه‌گذاری بخشی صنایع مفید | N2: صندوق سرمایه‌گذاری بخشی صنایع مفید | O2: صندوق سرمایه‌گذاری بخشی صنایع مفید | P2: صندوق سرمایه‌گذاری بخشی صنایع مفید | Q2: صندوق سرمایه‌گذاری بخشی صنایع مفید
A3: صورت وضعیت درآمدها | B3: صورت وضعیت درآمدها | C3: صورت وضعیت درآمدها | D3: صورت وضعیت درآمدها | E3: صورت وضعیت درآمدها | F3: صورت وضعیت درآمدها | G3: صورت وضعیت درآمدها | H3: صورت وضعیت درآمدها | I3: صورت وضعیت درآمدها | J3: صورت وضعیت درآمدها | K3: صورت وضعیت درآمدها | L3: صورت وضعیت درآمدها | M3: صورت وضعیت درآمدها | N3: صورت وضعیت درآمدها | O3: صورت وضعیت درآمدها | P3: صورت وضعیت درآمدها | Q3: صورت وضعیت درآمدها
A4: =+سهام!A4 -> برای ماه منتهی به 1405/06/31 | B4: برای ماه منتهی به 1403/09/30 | C4: برای ماه منتهی به 1403/09/30 | D4: برای ماه منتهی به 1403/09/30 | E4: برای ماه منتهی به 1403/09/30 | F4: برای ماه منتهی به 1403/09/30 | G4: برای ماه منتهی به 1403/09/30 | H4: برای ماه منتهی به 1403/09/30 | I4: برای ماه منتهی به 1403/09/30 | J4: برای ماه منتهی به 1403/09/30 | K4: برای ماه منتهی به 1403/09/30 | L4: برای ماه منتهی به 1403/09/30 | M4: برای ماه منتهی به 1403/09/30 | N4: برای ماه منتهی به 1403/09/30 | O4: برای ماه منتهی به 1403/09/30 | P4: برای ماه منتهی به 1403/09/30 | Q4: برای ماه منتهی به 1403/09/30
A6: نام شرکت | C6: طی ماه | D6: طی ماه | E6: طی ماه | F6: طی ماه | G6: طی ماه | H6: طی ماه | I6: طی ماه | K6: از ابتدای سال مالی تا پایان ماه | L6: از ابتدای سال مالی تا پایان ماه | M6: از ابتدای سال مالی تا پایان ماه | N6: از ابتدای سال مالی تا پایان ماه | O6: از ابتدای سال مالی تا پایان ماه | P6: از ابتدای سال مالی تا پایان ماه | Q6: از ابتدای سال مالی تا پایان ماه
A7: نام شرکت | C7: تعداد | E7: بهای فروش | G7: ارزش دفتری | I7: سود و زیان ناشی از تغییر قیمت | K7: تعداد | M7: بهای فروش | O7: ارزش دفتری | Q7: سود و زیان ناشی از تغییر قیمت
A8: فرآوری معدنی اپال کانی پارس | C8: 2000395 | E8: 27074471752 | G8: 30862940053 | I8: =+E8-G8 -> -3788468301 | K8: 2000395 | M8: 27074471752 | O8: 30862940053 | Q8: =+M8-O8 -> -3788468301
A9: تکادو | C9: 2000000 | E9: 8593058200 | G9: 6965735400 | I9: =+E9-G9 -> 1627322800 | K9: 2000000 | M9: 8593058200 | O9: 4443360508 | Q9: =+M9-O9 -> 4149697692
A10: ح . سنگ آهن گهرزمین | C10: 8656417 | E10: 52310072640 | G10: 49389641655 | I10: =+E10-G10 -> 2920430985 | K10: 8656417 | M10: 52310072640 | O10: 40183087714 | Q10: =+M10-O10 -> 12126984926
A11: آهن و فولاد غدیر ایرانیان | C11: 900000 | E11: 6519213900 | G11: 4689365967 | I11: =+E11-G11 -> 1829847933 | K11: 900000 | M11: 6519213900 | O11: 4689365967 | Q11: =+M11-O11 -> 1829847933
A12: پالایش نفت اصفهان | C12: 6400000 | E12: 78619536640 | G12: 71760966400 | I12: =+E12-G12 -> 6858570240 | K12: 6400000 | M12: 78619536640 | O12: 69129671770 | Q12: =+M12-O12 -> 9489864870
A13: گروه مالی صبا تامین | C13: 77007259 | E13: 686943816063 | G13: 562191590468 | I13: =+E13-G13 -> 124752225595 | K13: 77007259 | M13: 686943816063 | O13: 410529808349 | Q13: =+M13-O13 -> 276414007714
A14: سرمایه‌گذاری‌غدیر(هلدینگ‌ | C14: 5300000 | E14: 107389413020 | G14: 99763818070 | I14: =+E14-G14 -> 7625594950 | K14: 5300000 | M14: 107389413020 | O14: 74678240284 | Q14: =+M14-O14 -> 32711172736
A15: فنرسازی زر گلپایگان | C15: 900000 | E15: 4938527790 | G15: 3257590356 | I15: =+E15-G15 -> 1680937434 | K15: 900000 | M15: 4938527790 | O15: 3257590356 | Q15: =+M15-O15 -> 1680937434
A16: سنگ آهن گهرزمین | C16: 27000000 | E16: 195576417000 | G16: 180841207500 | I16: =+E16-G16 -> 14735209500 | K16: 27000000 | M16: 195576417000 | O16: 157497937103 | Q16: =+M16-O16 -> 38078479897
A17: بین المللی توسعه ص. معادن غدیر | C17: 85000000 | E17: 570158342000 | G17: 404002730500 | I17: =+E17-G17 -> 166155611500 | K17: 85000000 | M17: 570158342000 | O17: 329713828006 | Q17: =+M17-O17 -> 240444513994
A18: معدنی‌ املاح‌ ایران‌ | C18: 1000000 | E18: 38629071100 | G18: 34501227900 | I18: =+E18-G18 -> 4127843200 | K18: 1000000 | M18: 38629071100 | O18: 21727728820 | Q18: =+M18-O18 -> 16901342280
A19: پنبه و دانه های روغنی خراسان | C19: 300000 | E19: 5134997250 | G19: 5766080970 | I19: =+E19-G19 -> -631083720 | K19: 300000 | M19: 5134997250 | O19: 4117858896 | Q19: =+M19-O19 -> 1017138354
... A41: پالایش نفت بندرعباس | C41: 6100000 | E41: 88916322430 | G41: 72936806350 | I41: =+E41-G41 -> 15979516080 | K41: 6100000 | M41: 88916322430 | O41: 63222978305 | Q41: =+M41-O41 -> 25693344125
E42: =SUM(E8:E41) -> 10980067970458 | G42: =SUM(G8:G41) -> 9260797893245 | I42: =SUM(I8:I41) -> 1719270077213 | M42: =SUM(M8:M41) -> 10980067970458 | O42: =SUM(O8:O41) -> 6993760732985 | Q42: =SUM(Q8:Q41) -> 3986307237473
